Workbook
Name 【記載例】シフト記号: 'シフト記号表（勤務時間帯）'!$C$6:$C$47
Name 【記載例】シフト記号: '[1]【記載例】シフト記号表（勤務時間帯）'!$C$6:$C$47
Name 【記載例】シフト記号: '[2]標準様式１【記載例】シフト記号表（勤務時間帯）'!$C$6:$C$35
Name 【記載例】シフト記号: '【記載例】シフト記号表（勤務時間帯）'!$C$6:$C$47
Name 【記載例】シフト記号表: '[3]【記載例】シフト記号表（勤務時間帯）'!$C$6:$C$47
Name ｋ: #N/A
Name サービス名: #N/A
Name サービス名称: #N/A
Name シフト記号表: '[1]シフト記号表（勤務時間帯）'!$C$6:$C$47
Name シフト記号表: '[2]標準様式１シフト記号表（勤務時間帯）'!$C$7:$C$36
Name シフト記号表: 'シフト記号表（勤務時間帯）'!$C$6:$C$47
Name だだ: #N/A
Name っっｋ: #N/A
Name っっっっｌ: #N/A
Name 介護従業者: プルダウン・リスト!$D$15:$D$23
Name 確認: #N/A
Name 管理者: プルダウン・リスト!$C$15:$C$23
Name 計画作成担当者: プルダウン・リスト!$E$15:$E$23
Name 職種: [1]プルダウン・リスト!$C$14:$L$14
Name 職種: [2]標準様式１プルダウン・リスト!$C$12:$L$12
Name 職種: プルダウン・リスト!$C$14:$L$14

Sheet チェック表（GH）
A1: 介護給付費算定に係る体制等に関する届出書・変更届出書 チェック表 （認知症対応型共同生活介護・介護予防認知症対応型共同生活介護）
G3: 担当者名
G4: 連絡先（TEL）
A6: ※ 加算が算定されなくなる場合、欠員が解消される場合等についても同様に届け出てください。
A7: ※ 厚労省様式（「別紙○」の名称のもの）については、記載の注意事項を確認し正しい方法で使用してください。
A8: ※ 参考様式は、算定要件を満たす内容を証するものであれば任意様式で提出しても差し支えありませんが、
B9: 届け出後も同じ様式を継続して使用し、算定要件を毎月確認及び記録してください。
A10: ※ 「従業者の勤務の体制及び勤務形態一覧表（別紙７）又はこれに準じた勤務割表等」については、
B11: 指定申請等に使用した（標準様式１）で作成したものも対象です。
A12: 届出事項 | C12: 開設 | D12: 加算 追加 ・ 加算 削除 | E12: 添 付 書 類 | H12: 備 考
A13: 共 通 事 項 （必ず必要な書類） | C13: □ | D13: □ | E13: ・ | F13: 本チェック表 | H13: 自主点検したもの（チェック済）を提出すること。
C14: □ | D14: □ | E14: ・ | F14: 介護給付費算定に係る体制等に関する届出書＜別紙3-2＞
C15: □ | D15: □ | E15: ・ | F15: 介護給付費算定に係る体制等状況一覧表＜別紙1-3-2＞ | H15: 別シートの「備考（1-3-2）」も必ず確認すること。
D16: □ | E16: ・ | F16: 運営規程 | H16: 介護給付費算定に係る体制等に関する変更に伴い，改正したもの。介護の内容・利用料金の変更等について記載が必要。改正がない場合は提出不要。
F17: ※ | G17: 変更後の運営規程
G18: （料金部分のみ変更の場合は料金表のみで可）
A20: 電子申請届出システムによる届出ができない理由 | D20: □ | E20: ＧｂｉｚＩＤの取得等の事前準備が困難（困難である理由： ） | H20: ※郵送により提出する場合のみ記載してください。 ※電子申請届出システムで届出を行う場合は、審査状況をご確認いただけますが、郵送で提出の場合は、審査結果の通知等はありません。
D21: □ | E21: その他（ ）
B22: LIFEへの登録 | C22: □ | D22: □ | H22: ＜別紙3-2＞（鑑）の特記事項欄にLIFE登録日を記入すること。
B23: 割引をする場合 | C23: □ | D23: □ | E23: ・ | F23: 指定居宅サービス事業者等による介護給付費の割引に係る割引率の設定について＜別紙５-２＞
B24: 施設等の区分
B25: 職員の欠員による減算の状況 | D25: □ | E25: ・ | F25: 理由書 | H25: 任意の様式で可。
D26: □ | E26: ・ | F26: 従業者の勤務の体制及び勤務形態一覧表＜別紙７＞又はこれに準じた勤務割表等 | H26: 介護従業者の勤務状況がわかるもの。
D27: □ | E27: ・ | F27: 組織体制図 | H27: 任意の様式で可。
B28: 夜間勤務条件基準 | D28: □ | E28: ・ | F28: 理由書 | H28: 任意の様式で可。
D29: □ | E29: ・ | F29: 従業者の勤務の体制及び勤務形態一覧表＜別紙７＞又はこれに準じた勤務割表等
B30: 身体拘束廃止取組 の有無 | D30: □ | E30: ・ | F30: 理由書 | H30: 任意の様式で可。
D31: □ | E31: ・ | F31: 身体拘束改善計画又は身体拘束改善報告 | H31: 任意の様式で可（代表者名）。ただし、経緯、今後の改善策・職員教育、対象入所者の現状及び廃止に向けた取組みは必ず記載すること。
B32: 高齢者虐待防止措置実施の有無 | D32: □ | E32: ・ | F32: 理由書 | H32: 任意の様式で可。
D33: □ | E33: ・ | F33: 高齢者虐待防止措置に係る改善計画又は改善報告書 | H33: 任意の様式で可（代表者名）。ただし、未措置事項（指針、委員会、研修、担当者の設置）の現状及び改善に向けた取組みは必ず記載すること。
B34: 業務継続計画策定の有無 | D34: □ | E34: ・ | F34: 理由書 | H34: 任意の様式で可。
D35: □ | E35: ・ | F35: 業務継続計画に係る改善計画又は改善報告書 | H35: 任意の様式で可（代表者名）。ただし、未措置事項（BCP策定、訓練、研修）の現状及び改善に向けた取組みは必ず記載すること。
D36: □ | E36: ・ | F36: 業務継続計画（BCP） | H36: BCP未策定に伴う減算を解消する場合。感染症及び災害の項目を設定したもの。
B37: ３ユニットの事業所が夜勤職員を２人以上とする場合 | D37: □ | E37: ・ | F37: 従業者の勤務の体制及び勤務形態一覧表＜別紙７＞又はこれに準じた勤務割表等 | H37: 介護従業者の勤務状況がわかるもの。
D38: □ | E38: ・ | F38: 事業所の平面図＜別紙６＞ | H38: 最新の状況であれば、指定時に提出した平面図と同等のもの（任意様式）での提出可。
B39: 夜間支援体制加算 | D39: □ | E39: ・ | F39: 夜間支援体制加算に係る届出書＜別紙46＞
D40: □ | E40: ・ | F40: 従業者の勤務の体制及び勤務形態一覧表＜別紙７＞又はこれに準じた勤務割表等 | H40: 夜間及び深夜の時間帯を明記すること。算定開始する月の分。
D41: □ | E41: ・ | F41: ≪見守り機器等を導入した緩和措置を適用する場合≫ 利用者の安全やケアの質の確保、職員の負担の軽減を図るための委員会の議事概要 | H41: 導入後から９週間以上、継続して定期的に実施していることがわかるようにすること。
B42: 若年性認知症利用者受入加算 | C42: □ | D42: □ | E42: ・ | F42: 若年性認知症利用者受入加算に関する届出書＜参考様式５＞
B43: 利用者の入院期間中の体制（入院時費用） | C43: □ | D43: □ | E43: ・ | F43: 入院時費用に関する調書＜参考様式15＞
B44: 看取り介護加算 ＊介護サービス（短期利用型を除く）のみ | C44: □ | D44: □ | E44: ・ | F44: 看取り介護加算に関する届出書＜別紙47＞
C45: □ | D45: □ | E45: ・ | F45: 看取りに関する指針 | H45: 必要な要件を満たしている場合は，重度化した場合の対応に係る指針をもって代えることも可。
B46: 医療連携体制 ＊介護サービスのみ | C46: □ | D46: □ | E46: ・ | F46: 医療連携体制加算（Ⅰ）に係る届出書＜別紙48＞
C47: □ | D47: □ | E47: ・ | F47: 医療連携体制加算（Ⅱ）に係る届出書＜別紙48-2＞ | H47: 加算Ⅱを算定する場合のみ。
D48: □ | E48: ・ | F48: 従業者の勤務の体制及び勤務形態一覧表＜別紙７＞又はこれに準じた勤務割表等 | H48: 算定開始する月の分。
C49: □ | D49: □ | E49: ・ | F49: ≪病院、訪問看護ｽﾃｰｼｮﾝ等との連携による場合≫ ２４時間連絡体制に係る契約書・協定書（写）
C50: □ | D50: □ | E50: ・ | F50: 事業所に配置される看護職員，または２４時間連絡体制に係る看護師の免許証（写）
C51: □ | D51: □ | E51: ・ | F51: 重度化した場合の対応に係る指針（案）
D52: □ | E52: ・ | F52: 喀痰吸引等の「要件となる利用者の状態」ごとに、前３月の利用者数を記録（計算）したもの | H52: 加算Ⅱを算定する場合のみ。 該当者がいない「利用者の状態」については利用者数の記録不要。
B53: 認知症専門ケア加算 | C53: □ | D53: □ | E53: ・ | F53: 認知症専門ケア加算に係る届出書＜別紙12-２＞
C54: □ | D54: □ | E54: ・ | F54: 認知症介護実践リーダー研修の修了証（写）
C55: □ | D55: □ | E55: ・ | F55: 認知症介護指導者養成研修の修了証（写） | H55: 加算Ⅱを算定する場合。
C56: □ | D56: □ | E56: ・ | F56: 認知症看護に係る適切な研修の修了証等（写）
C57: □ | D57: □ | E57: ・ | F57: 認知症ケアに関する留意事項の伝達又は技術的指導に係る会議の開催状況がわかるもの | H57: 予定の場合は、開催スケジュール（年間計画、実施フロー等開催時期と頻度がわかるもの）及び開催内容の概要を記載すること。
C58: □ | D58: □ | E58: ・ | F58: 算定開始月を含む年間又は年度の研修計画（認知症ケアに関する研修計画） | H58: 加算Ⅱを算定する場合。
B59: 認知症チームケア推進加算 | D59: □ | E59: ・ | F59: 認知症チームケア推進加算に係る届出書＜別紙40＞
D60: □ | E60: ・ | F60: 前３月の各月末時点での利用者総数に占める、要件に該当する利用者の割合（平均）を記録（計算）したもの | H60: 各月末時点ごとの利用者数及び自立度Ⅱ・Ⅲ・Ⅳ又はMに該当する利用者総数がわかるもの。
D61: □ | E61: ・ | F61: 認知症介護指導者養成研修の修了証（写） | H61: 加算Ⅰを算定する場合
D62: □ | E62: ・ | F62: 認知症介護実践リーダー研修の修了証（写） | H62: 加算Ⅱを算定する場合
D63: □ | E63: ・ | F63: 認知症チームケア推進研修の修了証（写）
B64: 科学的介護推進体制加算 | C64: □ | D64: □ | H64: ※LIFEへの登録が必須
B65: 高齢者施設等感染症対策向上加算 | C65: □ | D65: □ | E65: ・ | F65: 高齢者施設等感染者対策向上加算に係る届出書＜別紙35＞
C66: □ | D66: □ | E66: ・ | F66: 院内感染対策に関する研修又は訓練の参加記録 | H66: 加算Ⅰを算定する場合。
C67: □ | D67: □ | E67: ・ | F67: 病院等による実地指導を受けた日時及び指導概要 | H67: 加算Ⅱを算定する場合。
E68: ※ | F68: 協力医療機関について年１回届け出るとともに、内容変更の場合は速やかに、その変更内容について変更届を提出すること。 | H68: 協力医療機関が（変更）未届の場合は、算定不可。
B69: 生産性向上推進体制加算 | D69: □ | E69: ・ | F69: 生産性向上推進体制加算に係る届出書＜別紙28＞
D70: □ | E70: ・ | F70: 利用者の安全やケアの質の確保、職員の負担の軽減を図るための委員会の議事概要 | H70: 導入後から３月以上、継続して定期的に実施していることがわかるようにすること。 ※加算Ⅱの場合は、導入後から３月未満でも可。
D71: □ | E71: ・ | F71: 各種指標に関する調査結果 | H71: 加算Ⅰを算定する場合。 導入前後で各指標の改善状況等の調査結果がわかるようにすること。
D72: □ | E72: ・ | F72: 指針、業務フロー、手順書等算定要件に該当する取組の全体像（概要・体制）がわかる資料 | H72: 算定要件である事務処理手順（各調査や研修等）がいつどのくらいの頻度でどのような形で実施（予定）されているのかがわかるもの。
B73: サービス提供体制強化加算 | D73: □ | E73: ・ | F73: サービス提供体制強化加算に関する届出書＜別紙14－６＞ | H73: 様式中「（看護・）介護職員」は「介護従業者」と読み替えること。
D74: □ | E74: ・ | F74: 従業者の勤務の体制及び勤務形態一覧表＜別紙７＞又はこれに準じた勤務割表等 | H74: 前年度４月～２月の分。なお，前年度実績が６月に満たない場合は届出前３か月分
D75: □ | E75: ・ | F75: 有資格者等の割合の参考計算書＜別紙７-2＞又はこれに準じた計算資料 | H75: 算定する加算の要件に応じた有資格者等の常勤換算を計算し平均したもの
B76: 介護職員処遇改善加算 | C76: □ | D76: □ | E76: ・ | F76: 介護処遇改善加算等の専用受付に専用の届出一式を提出すること | H76: ＜別紙3-2＞（鑑）の特記事項欄に、左記の提出日を記入すること
B77: 短期利用型 ＊介護事業の指定を受けた日から起算して３年以上経過している場合のみ | C77: □ | D77: □ | E77: ・ | F77: 短期利用型に関する調書＜参考様式15＞
D78: □ | E78: ・ | F78: 従業者の勤務の体制及び勤務形態一覧表＜別紙７＞又はこれに準じた勤務割表等 | H78: 算定開始する月の分。
C79: □ | D79: □ | E79: ・ | F79: 該当する研修の修了証書（写） | H79: ・認知症介護実務者研修専門課程 ・認知症介護実践研修（実践リーダー研修） ・認知症介護指導者養成研修

Sheet 別紙1－3－2
A5: （別紙１－３－２）
A6: 介 護 給 付 費 算 定 に 係 る 体 制 等 状 況 一 覧 表 （地域密着型サービス・地域密着型介護予防サービス）
S8: 事 業 所 番 号
A10: 提供サービス | D10: 施設等の区分 | F10: 人員配置区分 | H10: そ の 他 該 当 す る 体 制 等 | Y10: LIFEへの登録 | AC10: 割 引
A11: 各サービス共通 | H11: 地域区分 | I11: □ | J11: １ １級地 | M11: □ | N11: ６ ２級地 | Q11: □ | R11: ７ ３級地 | U11: □ | V11: ２ ４級地
I12: □ | J12: ３ ５級地 | M12: □ | N12: ４ ６級地 | Q12: □ | R12: ９ ７級地 | U12: □ | V12: ５ その他
H13: 夜間勤務条件基準 | I13: □ | J13: １ 基準型 | M13: □ | N13: ６ 減算型 | Y13: □ | Z13: １ なし | AC13: □ | AD13: １ なし
H14: 職員の欠員による減算の状況 | I14: □ | J14: １ なし | M14: □ | N14: ２ 介護従業者 | Y14: □ | Z14: ２ あり | AC14: □ | AD14: ２ あり
H15: 身体拘束廃止取組の有無 | I15: □ | J15: １ 減算型 | M15: □ | N15: ２ 基準型
H16: 高齢者虐待防止措置実施の有無 | I16: □ | J16: １ 減算型 | M16: □ | N16: ２ 基準型
H17: 業務継続計画策定の有無 | I17: □ | J17: １ 減算型 | M17: □ | N17: ２ 基準型
H18: ３ユニットの事業所が夜勤職員を ２人以上とする場合 | I18: □ | J18: １ なし | L18: □ | M18: ２ あり
H20: 夜間支援体制加算 | I20: □ | J20: １ なし | L20: □ | M20: ２ 加算Ⅰ | O20: □ | P20: ３ 加算Ⅱ
A21: □ | B21: 32 | C21: 認知症対応型 | D21: □ | E21: １ Ⅰ型 | H21: 若年性認知症利用者受入加算 | I21: □ | J21: １ なし | L21: □ | M21: ２ あり
C22: 共同生活介護 | D22: □ | E22: ２ Ⅱ型 | H22: 利用者の入院期間中の体制 | I22: □ | J22: １ 対応不可 | M22: □ | N22: ２ 対応可
D23: □ | E23: ３ サテライト型Ⅰ型 | H23: 看取り介護加算 | I23: □ | J23: １ なし | L23: □ | M23: ２ あり
D24: □ | E24: ４ サテライト型Ⅱ型 | H24: 医療連携体制加算Ⅰ | I24: □ | J24: １ なし | L24: □ | M24: ４ 加算Ⅰイ | P24: □ | Q24: ３ 加算Ⅰロ | T24: □ | U24: ２ 加算Ⅰハ
H25: 医療連携体制加算Ⅱ | I25: □ | J25: １ なし | L25: □ | M25: ２ あり
H26: 認知症専門ケア加算 | I26: □ | J26: １ なし | L26: □ | M26: ２ 加算Ⅰ | O26: □ | P26: ３ 加算Ⅱ
H27: 認知症チームケア推進加算 | I27: □ | J27: １ なし | L27: □ | M27: ２ 加算Ⅰ | O27: □ | P27: ３ 加算Ⅱ
H28: 科学的介護推進体制加算 | I28: □ | J28: １ なし | L28: □ | M28: ２ あり
H29: 高齢者施設等感染対策向上加算Ⅰ | I29: □ | J29: １ なし | L29: □ | M29: ２ あり
H30: 高齢者施設等感染対策向上加算Ⅱ | I30: □ | J30: １ なし | L30: □ | M30: ２ あり
H31: 生産性向上推進体制加算 | I31: □ | J31: １ なし | L31: □ | M31: ２ 加算Ⅰ | O31: □ | P31: ３ 加算Ⅱ
H32: サービス提供体制強化加算 | I32: □ | J32: １ なし | L32: □ | M32: ６ 加算Ⅰ | O32: □ | P32: ５ 加算Ⅱ | R32: □ | S32: ７ 加算Ⅲ
H33: 介護職員等処遇改善加算 | I33: □ | J33: １ なし | M33: □ | N33: ７ 加算Ⅰイ | Q33: □ | R33: Ｓ 加算Ⅰロ
I34: □ | J34: ８ 加算Ⅱイ | M34: □ | N34: Ｔ 加算Ⅱロ | Q34: □ | R34: ９ 加算Ⅲ | U34: □ | V34: Ａ 加算Ⅳ
H35: 夜間勤務条件基準 | I35: □ | J35: １ 基準型 | M35: □ | N35: ６ 減算型 | Y35: □ | Z35: １ なし | AC35: □ | AD35: １ なし
H36: 職員の欠員による減算の状況 | I36: □ | J36: １ なし | M36: □ | N36: ２ 介護従業者 | Y36: □ | Z36: ２ あり | AC36: □ | AD36: ２ あり
H37: 身体拘束廃止取組の有無 | I37: □ | J37: １ 減算型 | M37: □ | N37: ２ 基準型
H38: 高齢者虐待防止措置実施の有無 | I38: □ | J38: １ 減算型 | M38: □ | N38: ２ 基準型
H39: 業務継続計画策定の有無 | I39: □ | J39: １ 減算型 | M39: □ | N39: ２ 基準型
H40: ３ユニットの事業所が夜勤職員を ２人以上とする場合 | I40: □ | J40: １ なし | L40: □ | M40: ２ あり
A41: □ | B41: 38 | C41: 認知症対応型 | D41: □ | E41: １ Ⅰ型
C42: 共同生活介護 | D42: □ | E42: ２ Ⅱ型 | H42: 夜間支援体制加算 | I42: □ | J42: １ なし | L42: □ | M42: ２ 加算Ⅰ | O42: □ | P42: ３ 加算Ⅱ
C43: （短期利用型） | D43: □ | E43: ３ サテライト型Ⅰ型 | H43: 若年性認知症利用者受入加算 | I43: □ | J43: １ なし | L43: □ | M43: ２ あり
D44: □ | E44: ４ サテライト型Ⅱ型 | H44: 医療連携体制加算Ⅰ | I44: □ | J44: １ なし | L44: □ | M44: ４ 加算Ⅰイ | P44: □ | Q44: ３ 加算Ⅰロ | T44: □ | U44: ２ 加算Ⅰハ
H45: 医療連携体制加算Ⅱ | I45: □ | J45: １ なし | L45: □ | M45: ２ あり
H46: 高齢者施設等感染対策向上加算Ⅰ | I46: □ | J46: １ なし | L46: □ | M46: ２ あり
H47: 高齢者施設等感染対策向上加算Ⅱ | I47: □ | J47: １ なし | L47: □ | M47: ２ あり
H48: 生産性向上推進体制加算 | I48: □ | J48: １ なし | L48: □ | M48: ２ 加算Ⅰ | O48: □ | P48: ３ 加算Ⅱ
H49: サービス提供体制強化加算 | I49: □ | J49: １ なし | L49: □ | M49: ６ 加算Ⅰ | O49: □ | P49: ５ 加算Ⅱ | R49: □ | S49: ７ 加算Ⅲ
H50: 介護職員等処遇改善加算 | I50: □ | J50: １ なし | M50: □ | N50: ７ 加算Ⅰイ | Q50: □ | R50: Ｓ 加算Ⅰロ
I51: □ | J51: ８ 加算Ⅱイ | M51: □ | N51: Ｔ 加算Ⅱロ | Q51: □ | R51: ９ 加算Ⅲ | U51: □ | V51: Ａ 加算Ⅳ
H52: 夜間勤務条件基準 | I52: □ | J52: １ 基準型 | M52: □ | N52: ６ 減算型 | Y52: □ | Z52: １ なし | AC52: □ | AD52: １ なし
H53: 職員の欠員による減算の状況 | I53: □ | J53: １ なし | M53: □ | N53: ２ 介護従業者 | Y53: □ | Z53: ２ あり | AC53: □ | AD53: ２ あり
H54: 身体拘束廃止取組の有無 | I54: □ | J54: １ 減算型 | M54: □ | N54: ２ 基準型
H55: 高齢者虐待防止措置実施の有無 | I55: □ | J55: １ 減算型 | M55: □ | N55: ２ 基準型
H56: 業務継続計画策定の有無 | I56: □ | J56: １ 減算型 | M56: □ | N56: ２ 基準型
H57: ３ユニットの事業所が夜勤職員を ２人以上とする場合 | I57: □ | J57: １ なし | L57: □ | M57: ２ あり
A59: □ | B59: 37 | C59: 介護予防認知症対応型 | D59: □ | E59: １ Ⅰ型 | H59: 夜間支援体制加算 | I59: □ | J59: １ なし | L59: □ | M59: ２ 加算Ⅰ | O59: □ | P59: ３ 加算Ⅱ
C60: 共同生活介護 | D60: □ | E60: ２ Ⅱ型 | H60: 若年性認知症利用者受入加算 | I60: □ | J60: １ なし | L60: □ | M60: ２ あり
D61: □ | E61: ３ サテライト型Ⅰ型 | H61: 利用者の入院期間中の体制 | I61: □ | J61: １ 対応不可 | M61: □ | N61: ２ 対応可
D62: □ | E62: ４ サテライト型Ⅱ型 | H62: 認知症専門ケア加算 | I62: □ | J62: １ なし | L62: □ | M62: ２ 加算Ⅰ | O62: □ | P62: ３ 加算Ⅱ
H63: 認知症チームケア推進加算 | I63: □ | J63: １ なし | L63: □ | M63: ２ 加算Ⅰ | O63: □ | P63: ３ 加算Ⅱ
H64: 科学的介護推進体制加算 | I64: □ | J64: １ なし | L64: □ | M64: ２ あり
H65: 高齢者施設等感染対策向上加算Ⅰ | I65: □ | J65: １ なし | L65: □ | M65: ２ あり
H66: 高齢者施設等感染対策向上加算Ⅱ | I66: □ | J66: １ なし | L66: □ | M66: ２ あり
H67: 生産性向上推進体制加算 | I67: □ | J67: １ なし | L67: □ | M67: ２ 加算Ⅰ | O67: □ | P67: ３ 加算Ⅱ
H68: サービス提供体制強化加算 | I68: □ | J68: １ なし | L68: □ | M68: ６ 加算Ⅰ | O68: □ | P68: ５ 加算Ⅱ | R68: □ | S68: ７ 加算Ⅲ
H69: 介護職員等処遇改善加算 | I69: □ | J69: １ なし | M69: □ | N69: ７ 加算Ⅰイ | Q69: □ | R69: Ｓ 加算Ⅰロ
I70: □ | J70: ８ 加算Ⅱイ | M70: □ | N70: Ｔ 加算Ⅱロ | Q70: □ | R70: ９ 加算Ⅲ | U70: □ | V70: Ａ 加算Ⅳ
H71: 夜間勤務条件基準 | I71: □ | J71: １ 基準型 | M71: □ | N71: ６ 減算型 | Y71: □ | Z71: １ なし | AC71: □ | AD71: １ なし
H72: 職員の欠員による減算の状況 | I72: □ | J72: １ なし | M72: □ | N72: ２ 介護従業者 | Y72: □ | Z72: ２ あり | AC72: □ | AD72: ２ あり
H73: 身体拘束廃止取組の有無 | I73: □ | J73: １ 減算型 | M73: □ | N73: ２ 基準型
H74: 高齢者虐待防止措置実施の有無 | I74: □ | J74: １ 減算型 | M74: □ | N74: ２ 基準型
H75: 業務継続計画策定の有無 | I75: □ | J75: １ 減算型 | M75: □ | N75: ２ 基準型
C76: 介護予防認知症対応型 | D76: □ | E76: １ Ⅰ型 | H76: ３ユニットの事業所が夜勤職員を ２人以上とする場合 | I76: □ | J76: １ なし | L76: □ | M76: ２ あり
A77: □ | B77: 39 | C77: 共同生活介護 | D77: □ | E77: ２ Ⅱ型
C78: （短期利用型） | D78: □ | E78: ３ サテライト型Ⅰ型 | H78: 夜間支援体制加算 | I78: □ | J78: １ なし | L78: □ | M78: ２ 加算Ⅰ | O78: □ | P78: ３ 加算Ⅱ
D79: □ | E79: ４ サテライト型Ⅱ型 | H79: 若年性認知症利用者受入加算 | I79: □ | J79: １ なし | L79: □ | M79: ２ あり
H80: 高齢者施設等感染対策向上加算Ⅰ | I80: □ | J80: １ なし | L80: □ | M80: ２ あり
H81: 高齢者施設等感染対策向上加算Ⅱ | I81: □ | J81: １ なし | L81: □ | M81: ２ あり
H82: 生産性向上推進体制加算 | I82: □ | J82: １ なし | L82: □ | M82: ２ 加算Ⅰ | O82: □ | P82: ３ 加算Ⅱ
H83: サービス提供体制強化加算 | I83: □ | J83: １ なし | L83: □ | M83: ６ 加算Ⅰ | O83: □ | P83: ５ 加算Ⅱ | R83: □ | S83: ７ 加算Ⅲ
H84: 介護職員等処遇改善加算 | I84: □ | J84: １ なし | M84: □ | N84: ７ 加算Ⅰイ | Q84: □ | R84: Ｓ 加算Ⅰロ
I85: □ | J85: ８ 加算Ⅱイ | M85: □ | N85: Ｔ 加算Ⅱロ | Q85: □ | R85: ９ 加算Ⅲ | U85: □ | V85: Ａ 加算Ⅳ

Sheet 備考（1-1-2）～(1-3-2）
B2: 備考 （別紙１－３ー２）地域密着型サービス・地域密着型介護予防サービス
B4: 備考 １ 事業所・施設において、施設等の区分欄、人員配置区分欄、LIFE（科学的介護情報システム（Long-term care Information system For Evidence）への登録欄、その他該当する体制等欄に掲げる項目 につき該当する番号の横の□を■にしてください。
B5: ２ 「施設等の区分」及び「その他該当する体制等」欄で施設・設備等に係る加算（減算）の届出については、「平面図」（別紙６）を添付してください。
B6: ３ 人員配置に係る届出については、勤務体制がわかる書類（「従業者の勤務の体制及び勤務形態一覧表」（別紙７）又はこれに準じた勤務割表等）を添付してください。
B7: ４ 「割引｣を｢あり｣と記載する場合は「地域密着型サービス事業者等による介護給付費の割引に係る割引率の設定について」（別紙5－2）を添付してください。
B8: ８ 「認知症専門ケア加算」については、「認知症専門ケア加算に係る届出書（訪問介護、（介護予防）訪問入浴介護、定期巡回・随時対応型訪問介護看護、夜間対応型訪問介護）」（別紙12）又は 「認知症専門ケア加算に係る届出書（（介護予防）短期入所生活介護、（介護予防）短期入所療養介護、（介護予防）特定施設入居者生活介護、（介護予防）認知症対応型共同生活介護、地域密着型特定施設入居者生活介護、 地域密着型介護老人福祉施設入所者生活介護、介護老人福祉施設、介護老人保健施設、介護医療院）」（別紙12－2）」を添付してください。
B9: また、「認知症チームケア推進加算」については、「認知症チームケア推進加算に係る届出書」（別紙40）を添付してください。
B10: 10 「その他該当する体制等」欄で人員配置に係る加算（減算）の届出については、それぞれ加算（減算）の要件となる職員の配置状況や勤務体制がわかる書類を添付してください。
B11: （例）－「機能訓練指導体制」…機能訓練指導員、「夜間勤務条件基準」…夜勤を行う看護師（准看護師）と介護職員の配置状況 等
B12: 19 「看取り連携体制加算」については、「看取り連携体制加算に係る届出書」（別紙13）を、認知症対応型共同生活介護の「看取り介護加算」については、「看取り介護加算に係る届出書」（別紙47）を添付してください。
B13: 21 「サービス提供体制強化加算」については、「サービス提供体制強化加算に関する届出書」（別紙14）～（別紙14－6）までのいずれかを添付してください。
B14: 22 「夜間支援体制加算」については、「夜間支援体制加算に係る届出書」（別紙46）を添付してください。
... B20: 注 地域密着型介護予防サービスについて、一体的に運営がされている地域密着型サービスに係る届出の別紙等が添付されている場合は、内容の重複する別紙等の添付は不要とすること。

Sheet 別紙3－2
B2: （別紙３－２）
AB3: 受付番号
B5: 介護給付費算定に係る体制等に関する届出書
B6: ＜地域密着型サービス事業者・地域密着型介護予防サービス事業者用＞＜居宅介護支援事業者・介護予防支援事業者用＞
AB7: 令和 | AE7: 年 | AH7: 月 | AK7: 日
B8: （あて先）福岡市長
U9: 所在地
U11: 名 称
C13: このことについて、関係書類を添えて以下のとおり届け出ます。
Y14: 事業所所在地市町村番号
B15: 届 出 者 | C15: フリガナ
C16: 名 称
C17: 主たる事務所の所在地 | M17: (郵便番号 | T17: ー | X17: ）
Q18: 県 | V18: 群市
M19: (ビルの名称等)
C20: 連 絡 先 | M20: 電話番号 | AB20: FAX番号
C21: 法人である場合その種別 | V21: 法人所轄庁
C22: 代表者の職・氏名 | M22: 職名 | AB22: 氏名
C23: 代表者の住所 | M23: (郵便番号 | T23: ー | X23: ）
Q24: 県 | V24: 群市
B26: 事業所の状況 | C26: フリガナ
C27: 事業所・施設の名称
C28: 主たる事業所の所在地 | M28: (郵便番号 | T28: ー | X28: ）
Q29: 県 | V29: 群市
C31: 連 絡 先 | M31: 電話番号 | AB31: FAX番号
C32: 主たる事業所の所在地以外の場所で一部実施する場合の出張所等の所在地 | M32: (郵便番号 | T32: ー | X32: ）
Q33: 県 | V33: 群市
C35: 連 絡 先 | M35: 電話番号 | AB35: FAX番号
C36: 管理者の氏名
C37: 管理者の住所 | M37: (郵便番号 | T37: ー | X37: ）
Q38: 県 | V38: 群市
B40: 届出を行う事業所の状況 | C40: 同一所在地において行う 事業等の種類 | M40: 実施事業 | O40: 指定 | R40: 異動等の区分 | AA40: 異動（予定） | AG40: 異動項目
O41: 年月日 | AA41: 年月日 | AG41: (※変更の場合)
C42: 地域密着型サービス | E42: 夜間対応型訪問介護 | R42: □ | S42: 1新規 | U42: □ | V42: 2変更 | X42: □ | Y42: 3終了
E43: 地域密着型通所介護 | R43: □ | S43: 1新規 | U43: □ | V43: 2変更 | X43: □ | Y43: 3終了
E44: 療養通所介護 | R44: □ | S44: 1新規 | U44: □ | V44: 2変更 | X44: □ | Y44: 3終了
E45: 認知症対応型通所介護 | R45: □ | S45: 1新規 | U45: □ | V45: 2変更 | X45: □ | Y45: 3終了
E46: 小規模多機能型居宅介護 | R46: □ | S46: 1新規 | U46: □ | V46: 2変更 | X46: □ | Y46: 3終了
E47: 認知症対応型共同生活介護 | R47: □ | S47: 1新規 | U47: □ | V47: 2変更 | X47: □ | Y47: 3終了
E48: 地域密着型特定施設入居者生活介護 | R48: □ | S48: 1新規 | U48: □ | V48: 2変更 | X48: □ | Y48: 3終了
E49: 地域密着型介護老人福祉施設入所者生活介護 | R49: □ | S49: 1新規 | U49: □ | V49: 2変更 | X49: □ | Y49: 3終了
E50: 定期巡回・随時対応型訪問介護看護 | R50: □ | S50: 1新規 | U50: □ | V50: 2変更 | X50: □ | Y50: 3終了
E51: 複合型サービス | R51: □ | S51: 1新規 | U51: □ | V51: 2変更 | X51: □ | Y51: 3終了
E52: 介護予防認知症対応型通所介護 | R52: □ | S52: 1新規 | U52: □ | V52: 2変更 | X52: □ | Y52: 3終了
E53: 介護予防小規模多機能型居宅介護 | R53: □ | S53: 1新規 | U53: □ | V53: 2変更 | X53: □ | Y53: 3終了
E54: 介護予防認知症対応型共同生活介護 | R54: □ | S54: 1新規 | U54: □ | V54: 2変更 | X54: □ | Y54: 3終了
C55: 居宅介護支援 | R55: □ | S55: 1新規 | U55: □ | V55: 2変更 | X55: □ | Y55: 3終了
C56: 介護予防支援 | R56: □ | S56: 1新規 | U56: □ | V56: 2変更 | X56: □ | Y56: 3終了
B57: 介護保険事業所番号
B58: 医療機関コード等
B59: 特記事項 | C59: 変 更 前 | U59: 変 更 後
B64: 関係書類 | G64: 別添のとおり
B66: 備考1 「受付番号」欄には記載しないでください。
B67: 2 「法人である場合その種別」欄は、申請者が法人である場合に、「社会福祉法人」「医療法人」「社団法人」
B68: 「財団法人」「株式会社」「有限会社」等の別を記入してください。
B69: 3 「法人所轄庁」欄、申請者が認可法人である場合に、その主務官庁の名称を記載してください。
B70: 4 「実施事業」欄は、該当する欄に「〇」を記入してください。
B71: 5 「異動等の区分」欄には、今回届出を行う事業所について該当する数字の横の□を■にしてください。
B72: 6 「異動項目」欄には、(別紙1－３)「介護給付費算定に係る体制等状況一覧表」に掲げる項目（施設等の区分、
E73: 人員配置区分、その他該当する体制等、割引）を記載してください。
B74: 7 「特記事項」欄には、異動の状況について具体的に記載してください。
B75: 8 「主たる事業所の所在地以外の場所で一部実施する場合の出張所等の所在地」について、複数の出張所等を
E76: 有する場合は、適宜欄を補正して、全ての出張所等の状況について記載してください。
B88: 2 「法人である場合その種別」欄は、申請者が法人である場合に、「社会福祉法人」「医療法人」「社団法人」「財団法人」「株式会社」「有限会社」等の別を記入してください。
B89: 3 「法人所轄庁」欄、申請者が認可法人である場合に、その主務官庁の名称を記載してください。
B90: 4 「実施事業」欄は、該当する欄に「〇」を記入してください。
B91: 5 「異動等の区分」欄には、今回届出を行う事業所について該当する数字に「〇」を記入してください。
B92: 6 「異動項目」欄には、(別紙1)「介護給付費算定に係る体制等状況一覧表」に掲げる項目を記載してください。
B93: 7 「市町村が定める率」欄には、全国共通の介護報酬額に対する市町村が定める率を記載してください。
B94: 8 「特記事項」欄には、異動の状況について具体的に記載してください。
B95: 9 「主たる事業所の所在地以外の場所で一部実施する場合の出張所等の所在地」について、複数の出張所等を有する場合は、適宜欄を補正して、全ての出張所等の状況について記載してください。

Sheet 別紙5－2
B2: （別紙５ー２）
W4: 令和 | Z4: 年 | AC4: 月 | AF4: 日
B5: 福岡市長 | K5: 殿
S7: 事業所・施設名
B9: 地域密着型サービス事業者又は地域密着型介護予防サービス事業者による介護給付費の割引に 係る割引率の設定について
A12: 1 割引率等
R14: 事業所番号
B16: サービスの種類 | M16: 割引率 | O16: 適用条件
B17: 夜間対応型訪問介護 | N17: ％
N18: ％
N19: ％
B20: 地域密着型通所介護 | N20: ％
N21: ％
N22: ％
B23: 認知症対応型通所介護 | N23: ％
N24: ％
N25: ％
B26: 小規模多機能型居宅介護 | N26: ％
N27: ％
N28: ％
B29: 認知症対応型共同生活介護 | N29: ％
N30: ％
N31: ％
B32: 地域密着型特定施設入居者 生活介護 | N32: ％
N33: ％
N34: ％
B35: 地域密着型介護老人福祉施設入所者生活介護 | N35: ％
N36: ％
N37: ％
B38: 定期巡回・随時対応型訪問介護看護 | N38: ％
N39: ％
N40: ％
B41: 複合型サービス | N41: ％
N42: ％
N43: ％
B44: 介護予防認知症対応型 通所介護 | N44: ％
N45: ％
N46: ％
B47: 介護予防小規模多機能型 居宅介護 | N47: ％
N48: ％
N49: ％
B50: 介護予防認知症対応型 共同生活介護 | N50: ％
N51: ％
N52: ％
B54: 備考 「適用条件」欄には、当該割引率が適用される時間帯、曜日、日時について具体的に
B55: 記載してください。
A57: 2 適用開始年月日 | N57: 年 | Q57: 月 | T57: 日

Sheet 別紙６
A2: （別紙６）
B4: 平面図
F6: 事業所・施設の名称 | AA6: 「該当する体制等 ー 」
AA11: 展示コーナー
I12: 調理室 | M12: 談話室 | Q12: 相談室 | U12: 診察室 | Y12: ㎡
AE13: 玄関ホール
K14: ㎡ | O14: ㎡ | S14: ㎡ | U14: 調剤室
E20: 機能訓練室 | J20: ㎡
E22: （食堂兼用） | X22: 便所
O23: 浴室 | R23: ㎡ | Z23: ㎡ | AE23: 事務室 | AH23: ㎡
B32: 備考1 届出に係る施設部分の用途や面積が分かるものを提出すること。
B33: 2 当該事業の専用部分と他との共用部分を色分けする等使用関係を分かり易く表示してください。

Sheet 別紙７
B2: （別紙７）
B4: 従業者の勤務の体制及び勤務形態一覧表 （ 年 月分） | X4: サービス種類（ ）
X6: 事業所・施設名（ ）
B8: 「人員配置区分― 型」又は「該当する体制等― 」 | AB8: ［入所（利用）定員（見込）数等 名］
B10: 職 種 | C10: 勤務 形態 | D10: 氏 名 | E10: 第1週 | L10: 第2週 | S10: 第3週 | Z10: 第4週 | AG10: 4週の 合計 | AH10: 週平均 の勤務 時間 | AI10: 常勤換 算後の 人数
E11: 1 | F11: 2 | G11: 3 | H11: 4 | I11: 5 | J11: 6 | K11: 7 | L11: 8 | M11: 9 | N11: 10 | O11: 11 | P11: 12 | Q11: 13 | R11: 14 | S11: 15 | T11: 16 | U11: 17 | V11: 18 | W11: 19 | X11: 20 | Y11: 21 | Z11: 22 | AA11: 23 | AB11: 24 | AC11: 25 | AD11: 26 | AE11: 27 | AF11: 28
E12: ＊
B13: （記載例―1） | E13: ① | F13: ① | G13: ③ | H13: ② | I13: ④ | J13: ① | K13: ④
B14: （記載例―2） | E14: ab | F14: ab | G14: ab | H14: cd | I14: cd | J14: e | K14: e
B25: （再掲） 夜勤職員 | C25: １日の夜勤の合計時間
C26: 常勤換算後の人数 （16h換算）
B28: ＜配置状況＞
B30: 看護職員：介護職員
B31: （ ： )
B33: 看護師：准看護師 (日中)
B34: （ ： )
B36: 看護師：准看護師 （夜間）
B37: （ ： )
B41: 備考1 ＊欄には、当該月の曜日を記入してください。
B42: 2 「人員配置区分」又は「該当する体制等」欄には、別紙「介護給付費算定に係る体制等状況一覧表」に掲げる人員配置区分の類型又は該当する
B43: 体制加算の内容をそのまま記載してください。
B44: 3 届出を行う従業者について、4週間分の勤務すべき時間数を記入してください。勤務時間ごとあるいはサービス提供時間単位ごとに区分して
B45: 番号を付し、その番号を記入してください。
... B61: 差し支えありません。

Sheet 別紙７－２
B1: （別紙７－２） | K1: 令和 | N1: 年 | P1: 月 | R1: 日
B2: 有資格者等の割合の参考計算書
I4: 事業所名
I5: 事業所番号
I6: サービス種類
B8: １．割合を計算する職員 | F8: 介護福祉士
F9: 介護職員
B11: ２．有資格者等の割合の算定期間 | F11: 前年度（３月を除く） | J11: 実績月数
B13: ３．常勤換算方法による計算
B14: □ | C14: 前年度（３月を除く） | M14: 常勤換算人数
C15: ①常勤職員の 一月あたりの 勤務時間 | F15: ②常勤換算方法の 対象外である 常勤の職員数 （常勤・専従等） | H15: ③常勤換算方法の対象 である常勤の職員の 勤務延時間数 （常勤・兼務等） | J15: ④非常勤の職員の 勤務延時間数 | M15: =F8 -> 介護福祉士 | P15: =F9 -> 介護職員
B16: 令和 年 | D16: 時間 | E16: =$F$8 -> 介護福祉士 | G16: 人 | I16: 時間 | K16: 時間 | M16: =IF(C16="","",F16+ROUNDDOWN((H16+J16)/C16,1)) | P16: =IF(C16="","",F17+ROUNDDOWN((H17+J17)/C16,1)) | W16: 分子 | X16: 分母
B17: 4月 | E17: =$F$9 -> 介護職員 | G17: 人 | I17: 時間 | K17: 時間 | V17: 割合を計算する職員 | W17: 介護福祉士 | X17: 介護職員
D18: 時間 | E18: =$F$8 -> 介護福祉士 | G18: 人 | I18: 時間 | K18: 時間 | M18: =IF(C18="","",F18+ROUNDDOWN((H18+J18)/C18,1)) | P18: =IF(C18="","",F19+ROUNDDOWN((H19+J19)/C18,1)) | W18: 勤続年数10年以上の介護福祉士 | X18: 介護サービスを直接提供する職員
B19: 5月 | E19: =$F$9 -> 介護職員 | G19: 人 | I19: 時間 | K19: 時間 | W19: 勤続年数７年以上の職員 | X19: -
D20: 時間 | E20: =$F$8 -> 介護福祉士 | G20: 人 | I20: 時間 | K20: 時間 | M20: =IF(C20="","",F20+ROUNDDOWN((H20+J20)/C20,1)) | P20: =IF(C20="","",F21+ROUNDDOWN((H21+J21)/C20,1)) | W20: - | X20: -
B21: 6月 | E21: =$F$9 -> 介護職員 | G21: 人 | I21: 時間 | K21: 時間 | W21: - | X21: -
D22: 時間 | E22: =$F$8 -> 介護福祉士 | G22: 人 | I22: 時間 | K22: 時間 | M22: =IF(C22="","",F22+ROUNDDOWN((H22+J22)/C22,1)) | P22: =IF(C22="","",F23+ROUNDDOWN((H23+J23)/C22,1)) | W22: - | X22: -
B23: 7月 | E23: =$F$9 -> 介護職員 | G23: 人 | I23: 時間 | K23: 時間
D24: 時間 | E24: =$F$8 -> 介護福祉士 | G24: 人 | I24: 時間 | K24: 時間 | M24: =IF(C24="","",F24+ROUNDDOWN((H24+J24)/C24,1)) | P24: =IF(C24="","",F25+ROUNDDOWN((H25+J25)/C24,1))
B25: 8月 | E25: =$F$9 -> 介護職員 | G25: 人 | I25: 時間 | K25: 時間
D26: 時間 | E26: =$F$8 -> 介護福祉士 | G26: 人 | I26: 時間 | K26: 時間 | M26: =IF(C26="","",F26+ROUNDDOWN((H26+J26)/C26,1)) | P26: =IF(C26="","",F27+ROUNDDOWN((H27+J27)/C26,1))
B27: 9月 | E27: =$F$9 -> 介護職員 | G27: 人 | I27: 時間 | K27: 時間
D28: 時間 | E28: =$F$8 -> 介護福祉士 | G28: 人 | I28: 時間 | K28: 時間 | M28: =IF(C28="","",F28+ROUNDDOWN((H28+J28)/C28,1)) | P28: =IF(C28="","",F29+ROUNDDOWN((H29+J29)/C28,1))
B29: 10月 | E29: =$F$9 -> 介護職員 | G29: 人 | I29: 時間 | K29: 時間
D30: 時間 | E30: =$F$8 -> 介護福祉士 | G30: 人 | I30: 時間 | K30: 時間 | M30: =IF(C30="","",F30+ROUNDDOWN((H30+J30)/C30,1)) | P30: =IF(C30="","",F31+ROUNDDOWN((H31+J31)/C30,1))
B31: 11月 | E31: =$F$9 -> 介護職員 | G31: 人 | I31: 時間 | K31: 時間
D32: 時間 | E32: =$F$8 -> 介護福祉士 | G32: 人 | I32: 時間 | K32: 時間 | M32: =IF(C32="","",F32+ROUNDDOWN((H32+J32)/C32,1)) | P32: =IF(C32="","",F33+ROUNDDOWN((H33+J33)/C32,1))
B33: 12月 | E33: =$F$9 -> 介護職員 | G33: 人 | I33: 時間 | K33: 時間
B34: 令和 年 | D34: 時間 | E34: =$F$8 -> 介護福祉士 | G34: 人 | I34: 時間 | K34: 時間 | M34: =IF(C34="","",F34+ROUNDDOWN((H34+J34)/C34,1)) | P34: =IF(C34="","",F35+ROUNDDOWN((H35+J35)/C34,1))
B35: 1月 | E35: =$F$9 -> 介護職員 | G35: 人 | I35: 時間 | K35: 時間
D36: 時間 | E36: =$F$8 -> 介護福祉士 | G36: 人 | I36: 時間 | K36: 時間 | M36: =IF(C36="","",F36+ROUNDDOWN((H36+J36)/C36,1)) | P36: =IF(C36="","",F37+ROUNDDOWN((H37+J37)/C36,1))
B37: 2月 | E37: =$F$9 -> 介護職員 | G37: 人 | I37: 時間 | K37: 時間
J39: 合計 | M39: =IF(SUM(M16:O37)=0,"",SUM(M16:O37)) | P39: =IF(SUM(P16:R37)=0,"",SUM(P16:R37))
J40: 一月あたりの平均値 | M40: =IF(M39="","",ROUNDDOWN(M39/$K$11,1)) | P40: =IF(P39="","",ROUNDDOWN(P39/$K$11,1))
J41: =$M$15 -> 介護福祉士 | P41: =IF(M40="","",M40/P40)
J42: の割合
B44: □ | C44: 届出日の属する月の前３月 | M44: 常勤換算人数
C45: ①常勤職員の 一月あたりの 勤務時間 | F45: ②常勤換算方法の 対象外である 常勤の職員数 （常勤・専従等） | H45: ③常勤換算方法の対象 である常勤の職員の 勤務延時間数 （常勤・兼務等） | J45: ④非常勤の職員の 勤務延時間数 | M45: =F8 -> 介護福祉士 | P45: =F9 -> 介護職員
B46: 令和 年 | D46: 時間 | E46: =$F$8 -> 介護福祉士 | G46: 人 | I46: 時間 | K46: 時間 | M46: =IF(C46="","",F46+ROUNDDOWN((H46+J46)/C46,1)) | P46: =IF(C46="","",F47+ROUNDDOWN((H47+J47)/C46,1))
B47: 4月 | E47: =$F$9 -> 介護職員 | G47: 人 | I47: 時間 | K47: 時間
D48: 時間 | E48: =$F$8 -> 介護福祉士 | G48: 人 | I48: 時間 | K48: 時間 | M48: =IF(C48="","",F48+ROUNDDOWN((H48+J48)/C48,1)) | P48: =IF(C48="","",F49+ROUNDDOWN((H49+J49)/C48,1))
B49: 5月 | E49: =$F$9 -> 介護職員 | G49: 人 | I49: 時間 | K49: 時間
D50: 時間 | E50: =$F$8 -> 介護福祉士 | G50: 人 | I50: 時間 | K50: 時間 | M50: =IF(C50="","",F50+ROUNDDOWN((H50+J50)/C50,1)) | P50: =IF(C50="","",F51+ROUNDDOWN((H51+J51)/C50,1))
B51: 6月 | E51: =$F$9 -> 介護職員 | G51: 人 | I51: 時間 | K51: 時間
J53: 合計 | M53: =IF(SUM(M46:O51)=0,"",SUM(M46:O51)) | P53: =IF(SUM(P46:R51)=0,"",SUM(P46:R51))
J54: 一月あたりの平均値 | M54: =IF(M53="","",ROUNDDOWN(M53/3,1)) | P54: =IF(P53="","",ROUNDDOWN(P53/3,1))
J55: =$M$15 -> 介護福祉士 | P55: =IF(M54="","",M54/P54)
J56: の割合
B59: 備考
B60: ・本計算書は、有資格者等の割合が要件となっている加算の届出を行う際に、事業所・施設において使用している勤務割表等を自治体に提出する
B61: 場合の参考資料としてご活用ください。なお、有資格者等の割合の計算根拠資料が他にある場合は、本計算書の添付は不要です。
B62: また、自治体が定める「（別紙７）従業者の勤務の体制及び勤務形態一覧表」を作成して提出する場合も、本計算書の添付は不要です。
B63: ・本計算書は、黄色網掛けのセルについて記入または選択をしてください。
B64: ・「１．割合を計算する職員」は、本計算書で計算する有資格者等の種類を選択してください。
B65: ・「２．有資格者等の割合の算定期間」は、前年度の実績が６月に満たない事業所（新たに事業を開始した、または再開した事業所）については、
B66: 届出日の属する月の前３月について計算します。それ以外は前年度（３月を除く）の平均を用いて計算しますので、該当の期間を選択し、
B67: 実績月数を記入してください。
B68: ・「３．常勤換算方法による計算」
B69: 常勤換算方法とは、非常勤の従業者について「事業所の従業者の勤務延時間数を当該事業所において常勤の従業者が勤務すべき時間数で
B70: 除することにより、常勤の従業者の員数に換算する方法」であるため、常勤の従業者については常勤換算方法によらず、実人数で計算します。
... B85: ・その他、各加算における規定は各サービスの告示等をご確認ください。

Sheet 別紙12－2
B2: （別紙12-２）
X3: 令和 | AA3: 年 | AC3: 月 | AE3: 日
B5: 認知症専門ケア加算に係る届出書
B6: （介護予防）短期入所生活介護、（介護予防）短期入所療養介護 （介護予防）特定施設入居者生活介護、（介護予防）認知症対応型共同生活介護 地域密着型特定施設入居者生活介護、地域密着型介護老人福祉施設入所者生活介護 介護老人福祉施設、介護老人保健施設、介護療養型医療施設、介護医療院
B8: 事 業 所 名
B9: 異動等区分 | F9: □ | G9: １ 新規 | K9: □ | L9: ２ 変更 | Q9: □ | R9: ３ 終了
B10: 施 設 種 別 | F10: □ | G10: １（介護予防）短期入所生活介護 | R10: □ | S10: ２（介護予防）短期入所療養介護
F11: □ | G11: ３（介護予防）特定施設入居者生活介護 | R11: □ | S11: ４（介護予防）認知症対応型共同生活介護
F12: □ | G12: ５ 地域密着型特定施設入居者生活介護 | R12: □ | S12: ６ 地域密着型介護老人福祉施設入所者生活介護
F13: □ | G13: ７ 介護老人福祉施設 | R13: □ | S13: ８ 介護老人保健施設
F14: □ | G14: ９ 介護医療院
B15: 届 出 項 目 | F15: □ | G15: １ 認知症専門ケア加算（Ⅰ） | R15: □ | S15: ２ 認知症専門ケア加算（Ⅱ）
AB17: 有 | AC17: ・ | AD17: 無
B18: １．認知症専門ケア加算（Ⅰ）に係る届出内容
C19: (1) | D19: 利用者又は入所者の総数のうち、日常生活自立度のランクⅢ、Ⅳ又はＭに該当する者 | AB19: □ | AC19: ・ | AD19: □
D20: の割合が50％以上である
D22: ① 利用者又は入所者の総数 注 | X22: 人
D23: ② 日常生活自立度のランクⅢ、Ⅳ又はＭに該当する者の数 注 | X23: 人
D24: ③ ②÷①×100 | T24: =(IFERROR(ROUNDDOWN(T23/T22*100,0),"")) | U24: =(IFERROR(ROUNDDOWN(U23/U22*100,0),"")) | X24: ％
D25: 注 届出日の属する月の前３月の各月末時点の利用者又は入所者の数（訪問サービスでは
E26: 前３月間の利用実人員数又は利用延べ人数）の平均で算定。
C28: (2) | D28: 認知症介護に係る専門的な研修を修了している者を、日常生活自立度のランクⅢ、 | AB28: □ | AC28: ・ | AD28: □
D29: Ⅳ又はMに該当する者の数に応じて必要数以上配置し、チームとして専門的な
D30: 認知症ケアを実施している
D32: 認知症介護に係る専門的な研修を修了している者の数 | X32: 人
E34: 【参考】
E35: 日常生活自立度のランクⅢ、Ⅳ又はＭに該当する者の数 | O35: 研修修了者の必要数
E36: 20人未満 | O36: １以上
E37: 20以上30未満 | O37: ２以上
E38: 30以上40未満 | O38: ３以上
E39: 40以上50未満 | O39: ４以上
E40: 50以上60未満 | O40: ５以上
E41: 60以上70未満 | O41: ６以上
E42: ～ | O42: ～
C44: (3) | D44: 従業者に対して、認知症ケアに関する留意事項の伝達又は技術的指導に係る会議を | AB44: □ | AC44: ・ | AD44: □
D45: 定期的に開催している
B47: ２．認知症専門ケア加算（Ⅱ）に係る届出内容
C48: (1) | D48: 認知症専門ケア加算（Ⅰ）の基準のいずれにも該当している | AB48: □ | AC48: ・ | AD48: □
D49: ※認知症専門ケア加算（Ⅰ）に係る届出内容(1)～(3)も記入すること。
C51: (2) | D51: 認知症介護の指導に係る専門的な研修を修了している者を１名以上配置し、 | AB51: □ | AC51: ・ | AD51: □
D52: 事業所又は施設全体の認知症ケアの指導等を実施している
C54: (3) | D54: 事業所又は施設において介護職員、看護職員ごとの認知症ケアに関する研修計画を | AB54: □ | AC54: ・ | AD54: □
D55: 作成し、当該計画に従い、研修を実施又は実施を予定している
B56: 備考１ 要件を満たすことが分かる根拠書類を準備し、指定権者からの求めがあった場合には、速やかに提出
C57: すること。
B58: 備考２ 「認知症介護に係る専門的な研修」とは、認知症介護実践リーダー研修及び認知症看護に係る適切な
C59: 研修を、「認知症介護の指導に係る専門的な研修」とは、認知症介護指導者養成研修及び認知症看護に係る
C60: 適切な研修を指す。
C61: ※認知症看護に係る適切な研修： | K61: ①日本看護協会認定看護師教育課程「認知症看護」の研修
K62: ②日本看護協会が認定している看護系大学院の「老人看護」及び
K63: 「精神看護」の専門看護師教育課程
K64: ③日本精神科看護協会が認定している「精神科認定看護師」
K65: （認定証が発行されている者に限る）
B66: 備考３ 認知症専門ケア加算（Ⅱ）の算定にあっては、認知症介護実践リーダー研修と認知症介護指導者養成
C67: 研修の両方を修了した者、又は認知症看護に係る適切な研修を修了した者を１名配置する場合、「認知症介
C68: 護に係る専門的な研修」及び「認知症介護の指導に係る専門的な研修」の修了者をそれぞれ１名配置したこ
C69: とになる。

Sheet 別紙14－6
B2: （別紙14－6）
U3: 令和 | X3: 年 | AA3: 月 | AD3: 日
B5: サービス提供体制強化加算に関する届出書
B6: （介護予防）特定施設入居者生活介護、地域密着型特定施設入居者生活介護、 （介護予防）認知症対応型共同生活介護
B8: 1 事 業 所 名
B9: 2 異 動 区 分 | G9: □ | H9: 1 新規 | L9: □ | M9: 2 変更 | Q9: □ | R9: 3 終了
B10: 3 施 設 種 別 | G10: □ | H10: 1 （介護予防）特定施設入居者生活介護
G11: □ | H11: 2 地域密着型特定施設入居者生活介護
G12: □ | H12: 3 （介護予防）認知症対応型共同生活介護
B13: 4 届 出 項 目 | G13: □ | H13: 1 サービス提供体制強化加算（Ⅰ） | S13: □ | T13: 2 サービス提供体制強化加算（Ⅱ）
G14: □ | H14: 3 サービス提供体制強化加算（Ⅲ）
B16: 5 介護職員等の状況
B17: （１）サービス提供体制強化加算（Ⅰ）
B19: 介護福祉士等の 状況
H20: ①に占める②の割合が70％以上 | AA20: 有 | AB20: ・ | AC20: 無
I21: ① | J21: 介護職員の総数（常勤換算） | W21: 人
I22: ② | J22: ①のうち介護福祉士の総数（常勤換算） | W22: 人 | AA22: □ | AB22: ・ | AC22: □
H23: 又は
H24: ①に占める③の割合が25％以上
I25: ③ | J25: ①のうち勤続年数10年以上の介護福祉士の総数（常勤換算） | W25: 人 | AA25: □ | AB25: ・ | AC25: □
B28: サービスの質の向上に資する 取組の状況 | G28: ※（介護予防）特定施設入居者生活介護、地域密着型特定施設入居者生活介護は記載
B32: （２）サービス提供体制強化加算（Ⅱ）
B34: 介護福祉士等の 状況
H35: ①に占める②の割合が60％以上 | AA35: 有 | AB35: ・ | AC35: 無
I36: ① | J36: 介護職員の総数（常勤換算） | W36: 人
I37: ② | J37: ①のうち介護福祉士の総数（常勤換算） | W37: 人 | AA37: □ | AB37: ・ | AC37: □
B40: （３）サービス提供体制強化加算（Ⅲ）
B41: ※介護福祉士等の状況、常勤職員の状況、勤続年数の状況のうち、いずれか１つを満たすこと。
B42: 介護福祉士等の 状況
H43: ①に占める②の割合が50％以上 | AA43: 有 | AB43: ・ | AC43: 無
I44: ① | J44: 介護職員の総数（常勤換算） | W44: 人
I45: ② | J45: ①のうち介護福祉士の総数（常勤換算） | W45: 人 | AA45: □ | AB45: ・ | AC45: □
B47: 常勤職員の 状況
H48: ①に占める②の割合が75％以上 | AA48: 有 | AB48: ・ | AC48: 無
I49: ① | J49: 看護・介護職員の総数（常勤換算） | W49: 人
I50: ② | J50: ①のうち常勤の者の総数（常勤換算） | W50: 人 | AA50: □ | AB50: ・ | AC50: □
B52: 勤続年数の状況
H53: ①に占める②の割合が30％以上 | AA53: 有 | AB53: ・ | AC53: 無
I54: ① | J54: サービスを直接提供する者の総数 （常勤換算） | W54: 人
I55: ② | J55: ①のうち勤続年数７年以上の者の総数 （常勤換算） | W55: 人 | AA55: □ | AB55: ・ | AC55: □
B58: 備考 | D58: 要件を満たすことが分かる根拠書類を準備し、指定権者からの求めがあった場合には、速やかに提出すること。

Sheet 別紙28
B2: （別紙28） | AA2: 令和 年 月 日
B4: 生産性向上推進体制加算に係る届出書
B6: 事業所番号
B7: 事 業 所 名
B8: 異動等区分 | G8: 1 新規 2 変更 3 終了
B9: 施 設 種 別 | G9: １ 短期入所生活介護 | N9: ２ 短期入所療養介護 | U9: ３ 特定施設入居者生活介護
G10: ４ 小規模多機能型居宅介護 | N10: ５ 認知症対応型共同生活介護 | U10: ６ 地域密着型特定施設入居者生活介護
G11: ７ 地域密着型介護老人福祉施設 | N11: ８ 看護小規模多機能型居宅介護 | U11: ９ 介護老人福祉施設
G12: 10 介護老人保健施設 | N12: 11 介護医療院 | U12: 12 介護予防短期入所生活介護
G13: 13 介護予防短期入所療養介護 | N13: 14 介護予防特定施設入居者生活介護 | U13: 15 介護予防小規模多機能型居宅介護
G14: 16 介護予防認知症対応型共同生活介護
B15: 届出区分 | G15: １ 生産性向上推進体制加算（Ⅰ） ２ 生産性向上推進体制加算（Ⅱ）
B17: 生産性向上推進体制加算（Ⅰ）に係る届出
C19: ① 加算（Ⅱ）のデータ等により業務改善の取組による成果を確認 | Y19: 有・無
C21: ② 以下のⅰ～ⅲの項目の機器をすべて使用
C22: ⅰ入所（利用）者全員に見守り機器を使用 | Y22: 有・無
C23: ⅱ 職員全員がインカム等のICTを使用 | Y23: 有・無
C24: ⅲ 介護記録ソフト、スマートフォン等の介護記録の作成の効率化に | Y24: 有・無
D25: 資するICTを使用
C26: （導入機器）
C28: 名 称
C29: 製造事業者
C30: 用 途
C32: ③ 職員間の適切な役割分担（いわゆる介護助手の活用等）の取組等を実施 | Y32: 有・無
C34: ④ 利用者の安全並びに介護サービスの質の確保及び職員の負担軽減に資する方策を検討するため
C35: の委員会（以下「委員会」という。）において、以下のすべての項目について必要な検討を行い、
C36: 当該項目の実施を確認
D38: ⅰ ②の機器を利用する場合における利用者の安全やケアの質の確保 | Y38: 有・無
D39: ⅱ 職員に対する十分な休憩時間の確保等の勤務・雇用条件への配慮 | Y39: 有・無
D40: ⅲ 機器の不具合の定期チェックの実施（メーカーとの連携を含む） | Y40: 有・無
D41: ⅳ 業務の効率化、ケアの質の確保、職員の負担軽減を図るための職 | Y41: 有・無
D42: 員に対する教育の実施
B45: 生産性向上推進体制加算（Ⅱ）に係る届出
C47: ① 以下のⅰ～ⅲの項目の機器のうち１つ以上を使用
C48: ⅰ入所（利用）者１名以上に見守り機器を使用 | Y48: 有・無
D49: 入所（利用）者数 | R49: 人
D50: 見守り機器を導入して見守りを行っている対象者数 | R50: 人
C51: ⅱ 職員全員がインカム等のICTを使用 | Y51: 有・無
C52: ⅲ 介護記録ソフト、スマートフォン等の介護記録の作成の効率化に | Y52: 有・無
D53: 資するICTを使用
C54: （導入機器）
C56: 名 称
C57: 製造事業者
C58: 用 途
C60: ② 委員会において、以下のすべての項目について必要な検討を行い、当該項目の実施を確認
D62: ⅰ ①の機器を利用する場合における利用者の安全やケアの質の確保 | Y62: 有・無
D63: ⅱ 職員に対する十分な休憩時間の確保等の勤務・雇用条件への配慮 | Y63: 有・無
D64: ⅲ 機器の不具合の定期チェックの実施（メーカーとの連携を含む） | Y64: 有・無
D65: ⅳ 業務の効率化、ケアの質の確保、職員の負担軽減を図るための職 | Y65: 有・無
D66: 員に対する教育の実施
B69: 備考１ 加算（Ⅰ）の要件①については、当該要件に係る各種指標に関する調査結果のデータを提出すること。
B70: 備考２ 要件を満たすことが分かる委員会の議事概要を提出すること。このほか要件を満たすことが分かる根拠書類を準備し、
B71: 指定権者からの求めがあった場合には、速やかに提出すること。
B72: 備考３ 本加算を算定する場合は、事業年度毎に取組の実績をオンラインで厚生労働省に報告すること。
B73: 備考４ 届出にあたっては、別途通知（「生産性向上推進体制加算に関する基本的考え方並びに事務処理手順及び様式例
B74: 等の提示について」）を参照すること。

Sheet 別紙35
B2: （別紙35）
Y3: 令和 | AB3: 年 | AE3: 月 | AH3: 日
B5: 高齢者施設等感染対策向上加算に係る届出書
B7: 1 事 業 所 名
B8: 2 異 動 区 分 | G8: □ | H8: 1 新規 | L8: □ | M8: 2 変更 | Q8: □ | R8: 3 終了
B9: 3 施 設 種 別 | G9: □ | H9: 1 （介護予防）特定施設入居者生活介護 | U9: □ | V9: 2 地域密着型特定施設入居者生活介護
G10: □ | H10: 3 （介護予防）認知症対応型共同生活介護 | U10: □ | V10: 4 介護老人福祉施設
G11: □ | H11: 5 地域密着型介護老人福祉施設入所者生活介護 | U11: □ | V11: 6 介護老人保健施設
G12: □ | H12: 7 介護医療院
B13: 4 届 出 項 目 | G13: □ | H13: 1 高齢者施設等感染対策向上加算（Ⅰ）
G14: □ | H14: 2 高齢者施設等感染対策向上加算（Ⅱ）
B16: 5 高齢者施設等感染対策向上加算（Ⅰ）に係る届出
C17: 連携している第二種協定指定医療機関
C18: 医療機関名 | AA18: 医療機関コード
C21: 院内感染対策の研修または訓練を行った医療機関または地域の医師会
C22: 医療機関名（※１） | AA22: 医療機関コード
C24: 医療機関が届け出ている診療報酬 | M24: □ | N24: 1 感染対策向上加算１ | W24: □ | X24: 2 感染対策向上加算２
M25: □ | N25: 3 感染対策向上加算３ | W25: □ | X25: 4 外来感染対策向上加算
C27: 地域の医師会の名称（※１）
C30: 院内感染対策に関する研修又は訓練に参加した日時 | R30: 年 | Z30: 月 | AG30: 日
B34: 6 高齢者施設等感染対策向上加算（Ⅱ）に係る届出
C35: 施設内で感染者が発生した場合の対応に係る実地指導を行った医療機関の名称
C36: 医療機関名 | AA36: 医療機関コード
C39: 医療機関が届け出ている診療報酬 | M39: □ | N39: 1 感染対策向上加算１ | W39: □ | X39: 2 感染対策向上加算２
M40: □ | N40: 3 感染対策向上加算３
C42: 実地指導を受けた日時 | R42: 年 | Z42: 月 | AG42: 日
B45: 備考１ | D45: 要件を満たすことが分かる根拠書類を準備し、指定権者からの求めがあった場合には、速やかに提出すること。
B46: 備考２ | D46: 高齢者施設等感染対策向上加算（Ⅱ）で実地指導を行う医療機関等は、診療報酬の感染対策向上加算に係る届出を行っている必要がある。
B48: 備考３ | D48: 高齢者施設等感染対策向上加算（Ⅰ）及び（Ⅱ）は併算定が可能である。
B49: 備考４ | D49: 「院内感染対策の研修または訓練を行った医療機関または地域の医師会」については、医療機関名又は地域の医師会の名称のいずれかを記載してください。医療機関名を記載する場合には、当該医療機関が届け出ている診療報酬の種類を併せて記載してください。
B51: （※１） | D51: 研修若しくは訓練を行った医療機関又は地域の医師会のいずれかを記載してください。

Sheet 別紙40
B2: （別紙40）
X3: 令和 | AA3: 年 | AC3: 月 | AE3: 日
B5: 認知症チームケア推進加算に係る届出書
B7: 事 業 所 名
B8: 異動等区分 | F8: □ | G8: １ 新規 | K8: □ | L8: ２ 変更 | Q8: □ | R8: ３ 終了
B9: 施 設 種 別 | F9: □ | G9: １（介護予防）認知症対応型共同生活介護 | R9: □ | S9: ２ 介護老人福祉施設
F10: □ | G10: ３ 地域密着型介護老人福祉施設入所者生活介護 | R10: □ | S10: ４ 介護老人保健施設
F11: □ | G11: ５ 介護医療院
B12: 届 出 項 目 | F12: □ | G12: １ 認知症チームケア推進加算（Ⅰ） | R12: □ | S12: ２ 認知症チームケア推進加算（Ⅱ）
AB14: 有 | AC14: ・ | AD14: 無
B15: １．認知症チームケア推進加算（Ⅰ）に係る届出内容
C16: (1) | D16: 利用者又は入所者の総数のうち、日常生活自立度のランクⅡ、Ⅲ、Ⅳ又はＭに該当する者 | AB16: □ | AC16: ・ | AD16: □
D17: の割合が50％以上である
D19: ① 利用者又は入所者の総数 注 | X19: 人
D20: ② 日常生活自立度のランクⅡ、Ⅲ、Ⅳ又はＭに該当する者の数 注 | X20: 人
D21: ③ ②÷①×100 | T21: =(IFERROR(ROUNDDOWN(T20/T19*100,0),"")) | U21: =(IFERROR(ROUNDDOWN(U20/U19*100,0),"")) | X21: ％
D22: 注 届出日の属する月の前３月の各月末時点の利用者又は入所者の数
E23: の平均で算定。
C25: (2) | D25: 認知症の行動・心理症状の予防等に資する認知症介護の指導に係る専門的な研修を修了 | AB25: □ | AC25: ・ | AD25: □
D26: している者又は認知症介護に係る専門的な研修及び認知症の行動・心理症状の予防等に資する
D27: ケアプログラムを含んだ研修を修了している者を必要数以上配置し、かつ、複数人の介護職員
D28: からなる認知症の行動・心理症状に対応するチームを組んでいる
D30: 認知症の行動・心理症状の予防等に資する認知症介護の指導に係る | X30: 人
D31: 専門的な研修を修了している者又は認知症介護に係る専門的な
D32: 研修及び認知症の行動・心理症状の予防に資するケアプログラムを
D33: 含んだ研修を修了している者の数
C36: (3) | D36: 対象者に対し、個別に認知症の行動・心理症状の評価を計画的に行い、その評価に | AB36: □ | AC36: ・ | AD36: □
D37: 基づく値を測定し、認知症の行動・心理症状の予防等に資するチームケアを実施している
C39: (4） | D39: 認知症の行動・心理症状の予防等に資する認知症ケアについて、カンファレンスの開催、 | AB39: □ | AC39: ・ | AD39: □
D40: 計画の作成、認知症の行動・心理症状の有無及び程度についての定期的な評価、
D41: ケアの振り返り、計画の見直し等を行っている
B43: ２．認知症チームケア推進加算（Ⅱ）に係る届出内容
C44: (1) | D44: 認知症チームケア推進加算（Ⅰ）の（1）、（3）、（4）に該当している | AB44: □ | AC44: ・ | AD44: □
D45: ※認知症チームケア推進加算（Ⅰ）に係る届出内容（1）、（3）、（4）も記入すること。
C48: (2) | D48: 認知症の行動・心理症状の予防等に資する認知症介護に係る専門的な研修を修了している者 | AB48: □ | AC48: ・ | AD48: □
D49: を必要数以上配置し、かつ、複数人の介護職員からなる認知症の行動・心理症状に対応する
D50: チームを組んでいる
D52: 認知症の行動・心理症状の予防等に資する認知症介護に係る専門的な | X52: 人
D53: 研修を修了している者の数
B57: 備考 | D57: 要件を満たすことが分かる根拠書類を準備し、指定権者からの求めがあった場合には、速やかに提出
D58: すること。

Sheet 別紙46
B2: （別紙46）
B4: 夜間支援体制加算に係る届出書（（介護予防）認知症対応型共同生活介護事業所）
B6: 事 業 所 名
B7: 異動等区分 | G7: □ | H7: 1 新規 | L7: □ | M7: 2 変更 | Q7: □ | R7: 3 終了
B8: 届 出 項 目 | G8: □ | H8: 1 夜間支援体制加算（Ⅰ）
G9: □ | H9: 2 夜間支援体制加算（Ⅱ）
B11: １ 夜間支援体制加算に係る届出内容
C13: ① 共同生活住居の数
L15: ユニット | V15: 有 | W15: ・ | X15: 無
C17: ② 定員超過利用・人員基準欠如に該当していない。 | V17: □ | W17: ・ | X17: □
C19: ③ 共同生活住居１ごとに、夜間及び深夜の時間帯を通じて１の介護従業者を配置している。 | V19: □ | W19: ・ | X19: □
C21: ④ ③へ加配をしている。 | V21: □ | W21: ・ | X21: □
D23: イ | E23: 常勤換算方法で１人以上の夜勤を行う介護従業者
D24: ロ | E24: 見守り機器等を導入した場合で 常勤換算方法で0.9人以上の夜勤を行う介護従業者 ※「２ 見守り機器等を導入した場合の配置要件に該当する届出項目に おける必要事項」も記入すること。
D25: ハ | E25: 事業所内で宿直勤務に当たる者が１以上
B28: ２ 見守り機器等を導入した場合の配置要件に該当する届出項目における必要事項
C30: ① 利用者数
N32: 人
C34: ② 見守り機器を導入して見守りを行っている対象者数
N36: 人
C38: ③ ①に占める②の割合 | V38: 有 | W38: ・ | X38: 無
N40: ％ | P40: → | R40: １０％以上 | V40: □ | W40: ・ | X40: □
C42: ④ 導入機器
D44: 名 称
D45: 製造事業者
D46: 用 途
V47: 有 | W47: ・ | X47: 無
C48: ⑤ 導入機器の継続的な使用（９週間以上） | V48: □ | W48: ・ | X48: □
C50: ⑥ 利用者の安全並びに介護サービスの質の確保及び職員の負担軽減に資する方策を検討するための委員会を設置し、必要な検討等が行われている。 | V50: □ | W50: ・ | X50: □
B52: 備考 要件を満たすことが分かる根拠書類を準備し、指定権者からの求めがあった場合には、
B53: 速やかに提出すること。

Sheet 別紙47
B2: （別紙47）
B4: 看取り介護加算に係る届出書（認知症対応型共同生活介護事業所）
B6: 事 業 所 名
B7: 異動等区分 | G7: □ | H7: 1 新規 | L7: □ | M7: 2 変更 | Q7: □ | R7: 3 終了
B10: 看取り介護加算に係る届出内容 | V10: 有 | W10: ・ | X10: 無
D12: ① | E12: 医療連携体制加算（Ⅰ）イ～（Ⅰ）ハのいずれかを算定している。 | V12: □ | W12: ・ | X12: □
D14: ② | E14: 看取りに関する指針を定め、入居の際に、利用者又はその家族等に当該指針の内容を説明し、同意を得ている。 | V14: □ | W14: ・ | X14: □
D16: ③ | E16: 看取りに関する指針について、医師、看護職員（※）、介護職員、介護支援専門員その他の職種の者による協議の上、当該事業所における看取りの実績等を踏まえ、適宜、見直しを行う。 | V16: □ | W16: ・ | X16: □
D18: ④ | E18: 看取りに関する職員研修を行っている。 | V18: □ | W18: ・ | X18: □
D20: ⑤ | E20: 「人生の最終段階における医療・ケアの決定プロセスに関するガイドライン」等の内容に沿った取組を行っている。 | V20: □ | W20: ・ | X20: □
B23: ※ | E23: 看護職員は事業所の職員又は当該事業所と密接な連携を確保できる範囲内の距離にある病院若しくは診療所若しくは訪問看護ステーションの職員に限る。
B24: 備考 | E24: 要件を満たすことが分かる根拠書類を準備し、指定権者からの求めがあった場合には、速やかに提出すること。

Sheet 別紙48
B2: （別紙48）
B4: 医療連携体制加算（Ⅰ）に係る届出書（認知症対応型共同生活介護事業所）
B6: 事 業 所 名
B7: 異動等区分 | G7: □ | H7: 1 新規 | L7: □ | M7: 2 変更 | Q7: □ | R7: 3 終了
B8: 届 出 項 目 | G8: □ | H8: 1 医療連携体制加算（Ⅰ）イ
G9: □ | H9: 2 医療連携体制加算（Ⅰ）ロ
G10: □ | H10: 3 医療連携体制加算（Ⅰ）ハ
B13: ○医療連携体制加算（Ⅰ）に係る届出内容 | V13: 有 | W13: ・ | X13: 無
C15: ・医療連携体制加算（Ⅰ）イ～（Ⅰ）ハ共通
C16: 指針整備等の 状況 | G16: ① | H16: 利用者が重度化した場合の対応に係る指針を定めている。 | V16: □ | W16: ・ | X16: □
G17: ② | H17: ①で定めた指針の内容を、入居に際して利用者又はその家族等に説明し同意を得ている。 | V17: □ | W17: ・ | X17: □
C19: ・医療連携体制加算（Ⅰ）イ
C20: 看護体制の 状況 | G20: ① | H20: 事業所の職員として看護師を常勤換算方法で１名以上配置している。 | V20: □ | W20: ・ | X20: □
G21: ② | H21: 事業所の職員である看護師又は病院等の看護師との連携により24時間連絡できる体制を確保している。 | V21: □ | W21: ・ | X21: □
C23: ・医療連携体制加算（Ⅰ）ロ
C24: 看護体制の 状況 | G24: ① | H24: 事業所の職員として看護職員を常勤換算方法で１名以上配置している。 | V24: □ | W24: ・ | X24: □
G25: ② | H25: 事業所の職員である看護職員（※１）又は病院等の看護師との連携により24時間連絡できる体制を確保している。 | V25: □ | W25: ・ | X25: □
C27: ・医療連携体制加算（Ⅰ）ハ
C28: 看護体制の 状況 | G28: ① | H28: 事業所の職員として又は病院等（※２）との連携により、看護師を１名以上確保している。 | V28: □ | W28: ・ | X28: □
G29: ② | H29: 看護師により24時間連絡できる体制を確保している。 | V29: □ | W29: ・ | X29: □
C31: ※１ | E31: 事業所の職員として配置している看護職員が准看護師のみである場合は、病院等の看護師により24時間連絡できる体制を確保することが必要。
C32: ※２ | E32: 「病院等」は「病院、診療所若しくは指定訪問看護ステーション」を指す。
B33: 備考 要件を満たすことが分かる根拠書類を準備し、指定権者からの求めがあった場合には、
B34: 速やかに提出すること。

Sheet 別紙48－2
B2: （別紙48－2）
B4: 医療連携体制加算（Ⅱ）に係る届出書（認知症対応型共同生活介護事業所）
B6: 事 業 所 名
B7: 異動等区分 | G7: □ | H7: 1 新規 | L7: □ | M7: 2 変更 | Q7: □ | R7: 3 終了
B10: 医療連携体制加算（Ⅱ）に係る届出内容 | V10: 有 | W10: ・ | X10: 無
D12: ① | E12: 医療連携体制加算（Ⅰ）イ～（Ⅰ）ハのいずれかを算定している。 | V12: □ | W12: ・ | X12: □
D14: ② | E14: 算定日の属する月の前３月間において、下記いずれかに該当する状態の利用者が１人以上である。 | V14: □ | W14: ・ | X14: □
E15: （ア）喀痰吸引を実施している状態
E16: （イ）呼吸障害等により人工呼吸器を使用している状態
E17: （ウ）中心静脈注射を実施している状態
E18: （エ）人工腎臓を実施している状態
E19: （オ）重篤な心機能障害、呼吸障害等により常時モニター測定を実施している状態
E20: （カ）人工膀胱又は人工肛門の処置を実施している状態
E21: （キ）経鼻胃管や胃瘻等の経腸栄養が行われている状態
E22: （ク）褥瘡に対する治療を実施している状態
E23: （ケ）気管切開が行われている状態
E24: （コ）留置カテーテルを使用している状態
E25: （サ）インスリン注射を実施している状態
B28: 備考 要件を満たすことが分かる根拠書類を準備し、指定権者からの求めがあった場合には、
B29: 速やかに提出すること。

Sheet 参考様式５（若年性）
A3: 事業所番号 | M3: 事業所・施設名
A6: 若年性認知症利用者（入所者・患者・入居者）受入加算に関する届出書
A8: 若年性認知症利用者（入所者・患者・入居者）に対応する担当職員職・氏名
B10: 施設種別 | M10: 職 名 | R10: 氏 名
B11: 短期入所生活介護
B12: 短期入所療養介護
B13: 特定施設入居者生活介護
B14: 認知症対応型共同生活介護
B15: 地域密着型特定施設入居者生活介護
B16: 地域密着型介護老人福祉施設
B17: 介護老人福祉施設
B18: 介護老人保健施設
B19: 介護医療院
B20: 介護予防短期入所生活介護
B21: 介護予防短期入所療養介護
B22: 介護予防特定施設入居者生活介護
B23: 介護予防認知症対応型共同生活介護
B25: 受け入れた若年性認知症利用者（入所者・患者・入居者）ごとに個別の担当者を定めているか。 | U25: 有 ・ 無
A30: 療養食加算に関する届出書
A32: 療養食加算の担当職員職・氏名
B34: 施設種別 | M34: 職 名 | R34: 氏 名
B35: 短期入所生活介護
B36: 短期入所療養介護
B37: 地域密着型介護老人福祉施設
B38: 介護老人福祉施設
B39: 介護老人保健施設
B40: 介護医療院
B41: 介護予防短期入所生活介護
B42: 介護予防短期入所療養介護
B44: 食事の提供が管理栄養士又は栄養士によって管理されているか。 | U44: 有 ・ 無
B48: 利用者（入所者・患者）の年齢、心身の状況によって適切な栄養量及び内容の食事の提供が行われているか。 | U48: 有 ・ 無

Sheet 参考様式15（短期）
A2: 短期利用型に関する調書
A3: 〔認知症対応型共同生活介護・介護予防認知症対応型共同生活介護〕
A5: 短期利用型に関する状況
B7: 運営している事業の種類 | K7: 最初に指定を受けた日
O8: 年 | R8: 月 | U8: 日
O9: 年 | R9: 月 | U9: 日
O10: 年 | R10: 月 | U10: 日
O11: 年 | R11: 月 | U11: 日
O12: 年 | R12: 月 | U12: 日
B13: ※他の事業又は当該（介護予防）認知症対応型共同生活介護の最初に指定を受けた日（いずれかの指定日から３年以上経過していること）を記載してください。
B16: 次のいずれかの研修を修了した従業者を配置している。（該当するものに、印を付けてください。）
B17: □ | C17: 認知症介護実務者研修専門課程
B18: □ | C18: 認知症介護実践研修（実践リーダー研修）
B19: □ | C19: 認知症介護指導者養成研修
A30: 利用者の入院期間中の体制に関する調書
A31: 〔認知症対応型共同生活介護・介護予防認知症対応型共同生活介護〕
B33: ① | C33: 入院後３月以内に退院することが明らかに見込まれる利用者に対して，やむを得ない事情がある場合を除き，退院後再び当該事業所に円滑に入居することができる体制を確保している。 | S33: 有 ・ 無
B35: ② | C35: 上記の体制について，あらかじめ，利用者に対して説明を行っている。 | S35: 有 ・ 無

Sheet 参考様式15（入院体制）
A2: 短期利用型に関する調書
A3: 〔認知症対応型共同生活介護・介護予防認知症対応型共同生活介護〕
A5: 短期利用型に関する状況
B7: 運営している事業の種類 | K7: 最初に指定を受けた日
O8: 年 | R8: 月 | U8: 日
O9: 年 | R9: 月 | U9: 日
O10: 年 | R10: 月 | U10: 日
O11: 年 | R11: 月 | U11: 日
O12: 年 | R12: 月 | U12: 日
B13: ※他の事業又は当該（介護予防）認知症対応型共同生活介護の最初に指定を受けた日（いずれかの指定日から３年以上経過していること）を記載してください。
B16: 次のいずれかの研修を修了した従業者を配置している。（該当するものに、印を付けてください。）
B17: □ | C17: 認知症介護実務者研修専門課程
B18: □ | C18: 認知症介護実践研修（実践リーダー研修）
B19: □ | C19: 認知症介護指導者養成研修
A30: 利用者の入院期間中の体制に関する調書
A31: 〔認知症対応型共同生活介護・介護予防認知症対応型共同生活介護〕
B33: ① | C33: 入院後３月以内に退院することが明らかに見込まれる利用者に対して，やむを得ない事情がある場合を除き，退院後再び当該事業所に円滑に入居することができる体制を確保している。 | S33: 有 ・ 無
B35: ② | C35: 上記の体制について，あらかじめ，利用者に対して説明を行っている。 | S35: 有 ・ 無

Sheet 【記載例】認知症対応型共同生活介護
C1: （標準様式1） | K1: 従業者の勤務の体制及び勤務形態一覧表 | AQ1: サービス種別（ | AR1: 認知症対応型共同生活介護 | BH1: ）
Z2: 令和 | AA2: 6 | AC2: ( | AD2: =IF(AA2=0,"",YEAR(DATE(2018+AA2,1,1))) -> 2024 | AF2: ) | AG2: 年 | AH2: 4 | AJ2: 月 | AQ2: 事業所名（ | AR2: ○○○○ | BH2: ）
BB3: (1) | BC3: ４週
BB4: (2) | BC4: 予定
AM6: (3) 事業所における常勤の従業者が勤務すべき時間数 | AY6: 40 | BA6: 時間/週 | BC6: 160 | BE6: 時間/月
AZ8: 当月の日数 | BC8: =DAY(EOMONTH(DATE(AD2,AH2,1),0)) -> 30 | BE8: 日
AQ10: (4) 利用者数 | BA10: （前年度の平均値または推定数） | BC10: 9 | BE10: 人
AI12: (5) 事業所の共同生活住居（ユニット）数 | AS12: (6) 日中／夜間及び深夜の時間帯の区分
AM13: 2 | AO13: ユニット | AS13: 利用者の生活時間帯（日中） | BB13: 0.29166667 | BE13: ～ | BF13: 0.83333333
AM14: 1 | AO14: ユニット目 | AS14: 夜間及び深夜の時間帯 | BB14: 0.83333333 | BE14: ～ | BF14: 0.29166667
B16: No | C16: (7) 職種 | H16: (8) 勤務 形態 | I16: (9) 資格 | M16: (10) 氏 名 | P16: 日中／夜間及び深夜 の区分 | AI16: (11) | AN16: （宿直 ･･･ | AR16: ） | AZ16: =IF(BC3="計画","(12)1～4週目の勤務時間数合計","(12)1か月の勤務時間数 合計") -> (12)1か月の勤務時間数 合計 | BB16: (13) 週平均 勤務時間数 | BD16: (14) 兼務状況 （兼務先/兼務する職務の内容）等
U17: 1週目 | AB17: 2週目 | AI17: 3週目 | AP17: 4週目 | AW17: 5週目
U18: 1 | V18: 2 | W18: 3 | X18: 4 | Y18: 5 | Z18: 6 | AA18: 7 | AB18: 8 | AC18: 9 | AD18: 10 | AE18: 11 | AF18: 12 | AG18: 13 | AH18: 14 | AI18: 15 | AJ18: 16 | AK18: 17 | AL18: 18 | AM18: 19 | AN18: 20 | AO18: 21 | AP18: 22 | AQ18: 23 | AR18: 24 | AS18: 25 | AT18: 26 | AU18: 27 | AV18: 28 | AW18: =IF($BC$3="暦月",IF(DAY(DATE($AD$2,$AH$2,29))=29,29,""),"") | AX18: =IF($BC$3="暦月",IF(DAY(DATE($AD$2,$AH$2,30))=30,30,""),"") | AY18: =IF($BC$3="暦月",IF(DAY(DATE($AD$2,$AH$2,31))=31,31,""),"")
U19: =WEEKDAY(DATE($AD$2,$AH$2,1)) -> 2 | V19: =WEEKDAY(DATE($AD$2,$AH$2,2)) -> 3 | W19: =WEEKDAY(DATE($AD$2,$AH$2,3)) -> 4 | X19: =WEEKDAY(DATE($AD$2,$AH$2,4)) -> 5 | Y19: =WEEKDAY(DATE($AD$2,$AH$2,5)) -> 6 | Z19: =WEEKDAY(DATE($AD$2,$AH$2,6)) -> 7 | AA19: =WEEKDAY(DATE($AD$2,$AH$2,7)) -> 1 | AB19: =WEEKDAY(DATE($AD$2,$AH$2,8)) -> 2 | AC19: =WEEKDAY(DATE($AD$2,$AH$2,9)) -> 3 | AD19: =WEEKDAY(DATE($AD$2,$AH$2,10)) -> 4 | AE19: =WEEKDAY(DATE($AD$2,$AH$2,11)) -> 5 | AF19: =WEEKDAY(DATE($AD$2,$AH$2,12)) -> 6 | AG19: =WEEKDAY(DATE($AD$2,$AH$2,13)) -> 7 | AH19: =WEEKDAY(DATE($AD$2,$AH$2,14)) -> 1 | AI19: =WEEKDAY(DATE($AD$2,$AH$2,15)) -> 2 | AJ19: =WEEKDAY(DATE($AD$2,$AH$2,16)) -> 3 | AK19: =WEEKDAY(DATE($AD$2,$AH$2,17)) -> 4 | AL19: =WEEKDAY(DATE($AD$2,$AH$2,18)) -> 5 | AM19: =WEEKDAY(DATE($AD$2,$AH$2,19)) -> 6 | AN19: =WEEKDAY(DATE($AD$2,$AH$2,20)) -> 7 | AO19: =WEEKDAY(DATE($AD$2,$AH$2,21)) -> 1 | AP19: =WEEKDAY(DATE($AD$2,$AH$2,22)) -> 2 | AQ19: =WEEKDAY(DATE($AD$2,$AH$2,23)) -> 3 | AR19: =WEEKDAY(DATE($AD$2,$AH$2,24)) -> 4 | AS19: =WEEKDAY(DATE($AD$2,$AH$2,25)) -> 5 | AT19: =WEEKDAY(DATE($AD$2,$AH$2,26)) -> 6 | AU19: =WEEKDAY(DATE($AD$2,$AH$2,27)) -> 7 | AV19: =WEEKDAY(DATE($AD$2,$AH$2,28)) -> 1 | AW19: =IF(AW18=29,WEEKDAY(DATE($AD$2,$AH$2,29)),0) -> 0 | AX19: =IF(AX18=30,WEEKDAY(DATE($AD$2,$AH$2,30)),0) -> 0 | AY19: =IF(AY18=31,WEEKDAY(DATE($AD$2,$AH$2,31)),0) -> 0
U20: =IF(U19=1,"日",IF(U19=2,"月",IF(U19=3,"火",IF(U19=4,"水",IF(U19=5,"木",IF(U19=6,"金","土")))))) -> 月 | V20: =IF(V19=1,"日",IF(V19=2,"月",IF(V19=3,"火",IF(V19=4,"水",IF(V19=5,"木",IF(V19=6,"金","土")))))) -> 火 | W20: =IF(W19=1,"日",IF(W19=2,"月",IF(W19=3,"火",IF(W19=4,"水",IF(W19=5,"木",IF(W19=6,"金","土")))))) -> 水 | X20: =IF(X19=1,"日",IF(X19=2,"月",IF(X19=3,"火",IF(X19=4,"水",IF(X19=5,"木",IF(X19=6,"金","土")))))) -> 木 | Y20: =IF(Y19=1,"日",IF(Y19=2,"月",IF(Y19=3,"火",IF(Y19=4,"水",IF(Y19=5,"木",IF(Y19=6,"金","土")))))) -> 金 | Z20: =IF(Z19=1,"日",IF(Z19=2,"月",IF(Z19=3,"火",IF(Z19=4,"水",IF(Z19=5,"木",IF(Z19=6,"金","土")))))) -> 土 | AA20: =IF(AA19=1,"日",IF(AA19=2,"月",IF(AA19=3,"火",IF(AA19=4,"水",IF(AA19=5,"木",IF(AA19=6,"金","土")))))) -> 日 | AB20: =IF(AB19=1,"日",IF(AB19=2,"月",IF(AB19=3,"火",IF(AB19=4,"水",IF(AB19=5,"木",IF(AB19=6,"金","土")))))) -> 月 | ... AV20: =IF(AV19=1,"日",IF(AV19=2,"月",IF(AV19=3,"火",IF(AV19=4,"水",IF(AV19=5,"木",IF(AV19=6,"金","土")))))) -> 日 | AW20: =IF(AW19=1,"日",IF(AW19=2,"月",IF(AW19=3,"火",IF(AW19=4,"水",IF(AW19=5,"木",IF(AW19=6,"金",IF(AW19=0,"","土"))))))) | AX20: =IF(AX19=1,"日",IF(AX19=2,"月",IF(AX19=3,"火",IF(AX19=4,"水",IF(AX19=5,"木",IF(AX19=6,"金",IF(AX19=0,"","土"))))))) | AY20: =IF(AY19=1,"日",IF(AY19=2,"月",IF(AY19=3,"火",IF(AY19=4,"水",IF(AY19=5,"木",IF(AY19=6,"金",IF(AY19=0,"","土")))))))
C21: 管理者 | H21: A | I21: 認知症対応型サービス事業管理者研修修了 | M21: 厚労 太郎 | P21: シフト記号 | U21: c | V21: c | W21: c | Y21: c | Z21: c | AB21: c | AD21: c | AE21: c | AF21: c | AH21: c | AJ21: c | AK21: c | AL21: c | AM21: c | AN21: c | AQ21: c | AR21: c | AS21: c | AT21: c | AU21: c
B22: 1 | F22: =C21 -> 管理者 | P22: 日中の勤務時間数 | U22: =IF(U21="","",VLOOKUP(U21,'【記載例】シフト記号表（勤務時間帯）'!$D$6:$X$47,21,FALSE)) -> 8 | V22: =IF(V21="","",VLOOKUP(V21,'【記載例】シフト記号表（勤務時間帯）'!$D$6:$X$47,21,FALSE)) -> 8 | W22: =IF(W21="","",VLOOKUP(W21,'【記載例】シフト記号表（勤務時間帯）'!$D$6:$X$47,21,FALSE)) -> 8 | X22: =IF(X21="","",VLOOKUP(X21,'【記載例】シフト記号表（勤務時間帯）'!$D$6:$X$47,21,FALSE)) | Y22: =IF(Y21="","",VLOOKUP(Y21,'【記載例】シフト記号表（勤務時間帯）'!$D$6:$X$47,21,FALSE)) -> 8 | Z22: =IF(Z21="","",VLOOKUP(Z21,'【記載例】シフト記号表（勤務時間帯）'!$D$6:$X$47,21,FALSE)) -> 8 | AA22: =IF(AA21="","",VLOOKUP(AA21,'【記載例】シフト記号表（勤務時間帯）'!$D$6:$X$47,21,FALSE)) | AB22: =IF(AB21="","",VLOOKUP(AB21,'【記載例】シフト記号表（勤務時間帯）'!$D$6:$X$47,21,FALSE)) -> 8 | ... AY22: =IF(AY21="","",VLOOKUP(AY21,'【記載例】シフト記号表（勤務時間帯）'!$D$6:$X$47,21,FALSE)) | AZ22: =IF($BC$3="４週",SUM(U22:AV22),IF($BC$3="暦月",SUM(U22:AY22),"")) -> 160 | BB22: =IF($BC$3="４週",AZ22/4,IF($BC$3="暦月",(AZ22/($BC$8/7)),"")) -> 40
G23: =C21 -> 管理者 | P23: 夜間・深夜の勤務時間数 | U23: =IF(U21="","",VLOOKUP(U21,'【記載例】シフト記号表（勤務時間帯）'!$D$6:$Z$47,23,FALSE)) -> - | V23: =IF(V21="","",VLOOKUP(V21,'【記載例】シフト記号表（勤務時間帯）'!$D$6:$Z$47,23,FALSE)) -> - | W23: =IF(W21="","",VLOOKUP(W21,'【記載例】シフト記号表（勤務時間帯）'!$D$6:$Z$47,23,FALSE)) -> - | X23: =IF(X21="","",VLOOKUP(X21,'【記載例】シフト記号表（勤務時間帯）'!$D$6:$Z$47,23,FALSE)) | Y23: =IF(Y21="","",VLOOKUP(Y21,'【記載例】シフト記号表（勤務時間帯）'!$D$6:$Z$47,23,FALSE)) -> - | Z23: =IF(Z21="","",VLOOKUP(Z21,'【記載例】シフト記号表（勤務時間帯）'!$D$6:$Z$47,23,FALSE)) -> - | AA23: =IF(AA21="","",VLOOKUP(AA21,'【記載例】シフト記号表（勤務時間帯）'!$D$6:$Z$47,23,FALSE)) | AB23: =IF(AB21="","",VLOOKUP(AB21,'【記載例】シフト記号表（勤務時間帯）'!$D$6:$Z$47,23,FALSE)) -> - | ... AY23: =IF(AY21="","",VLOOKUP(AY21,'【記載例】シフト記号表（勤務時間帯）'!$D$6:$Z$47,23,FALSE)) | AZ23: =IF($BC$3="４週",SUM(U23:AV23),IF($BC$3="暦月",SUM(U23:AY23),"")) -> 0 | BB23: =IF($BC$3="４週",AZ23/4,IF($BC$3="暦月",(AZ23/($BC$8/7)),"")) -> 0
C24: 計画作成担当者 | H24: A | I24: 介護支援専門員 | M24: ○○ A男 | P24: シフト記号 | U24: d | V24: d | W24: d | X24: d | Z24: d | AA24: d | AC24: d | AD24: d | AE24: d | AH24: d | AI24: d | AJ24: d | AL24: d | AM24: d | AO24: d | AP24: d | AQ24: d | AR24: d | AT24: d | AV24: d
B25: =B22+1 -> 2 | F25: =C24 -> 計画作成担当者 | P25: 日中の勤務時間数 | U25: =IF(U24="","",VLOOKUP(U24,'【記載例】シフト記号表（勤務時間帯）'!$D$6:$X$47,21,FALSE)) -> 8 | V25: =IF(V24="","",VLOOKUP(V24,'【記載例】シフト記号表（勤務時間帯）'!$D$6:$X$47,21,FALSE)) -> 8 | W25: =IF(W24="","",VLOOKUP(W24,'【記載例】シフト記号表（勤務時間帯）'!$D$6:$X$47,21,FALSE)) -> 8 | X25: =IF(X24="","",VLOOKUP(X24,'【記載例】シフト記号表（勤務時間帯）'!$D$6:$X$47,21,FALSE)) -> 8 | Y25: =IF(Y24="","",VLOOKUP(Y24,'【記載例】シフト記号表（勤務時間帯）'!$D$6:$X$47,21,FALSE)) | Z25: =IF(Z24="","",VLOOKUP(Z24,'【記載例】シフト記号表（勤務時間帯）'!$D$6:$X$47,21,FALSE)) -> 8 | AA25: =IF(AA24="","",VLOOKUP(AA24,'【記載例】シフト記号表（勤務時間帯）'!$D$6:$X$47,21,FALSE)) -> 8 | AB25: =IF(AB24="","",VLOOKUP(AB24,'【記載例】シフト記号表（勤務時間帯）'!$D$6:$X$47,21,FALSE)) | ... AY25: =IF(AY24="","",VLOOKUP(AY24,'【記載例】シフト記号表（勤務時間帯）'!$D$6:$X$47,21,FALSE)) | AZ25: =IF($BC$3="４週",SUM(U25:AV25),IF($BC$3="暦月",SUM(U25:AY25),"")) -> 160 | BB25: =IF($BC$3="４週",AZ25/4,IF($BC$3="暦月",(AZ25/($BC$8/7)),"")) -> 40
G26: =C24 -> 計画作成担当者 | P26: 夜間・深夜の勤務時間数 | U26: =IF(U24="","",VLOOKUP(U24,'【記載例】シフト記号表（勤務時間帯）'!$D$6:$Z$47,23,FALSE)) -> - | V26: =IF(V24="","",VLOOKUP(V24,'【記載例】シフト記号表（勤務時間帯）'!$D$6:$Z$47,23,FALSE)) -> - | W26: =IF(W24="","",VLOOKUP(W24,'【記載例】シフト記号表（勤務時間帯）'!$D$6:$Z$47,23,FALSE)) -> - | X26: =IF(X24="","",VLOOKUP(X24,'【記載例】シフト記号表（勤務時間帯）'!$D$6:$Z$47,23,FALSE)) -> - | Y26: =IF(Y24="","",VLOOKUP(Y24,'【記載例】シフト記号表（勤務時間帯）'!$D$6:$Z$47,23,FALSE)) | Z26: =IF(Z24="","",VLOOKUP(Z24,'【記載例】シフト記号表（勤務時間帯）'!$D$6:$Z$47,23,FALSE)) -> - | AA26: =IF(AA24="","",VLOOKUP(AA24,'【記載例】シフト記号表（勤務時間帯）'!$D$6:$Z$47,23,FALSE)) -> - | AB26: =IF(AB24="","",VLOOKUP(AB24,'【記載例】シフト記号表（勤務時間帯）'!$D$6:$Z$47,23,FALSE)) | ... AY26: =IF(AY24="","",VLOOKUP(AY24,'【記載例】シフト記号表（勤務時間帯）'!$D$6:$Z$47,23,FALSE)) | AZ26: =IF($BC$3="４週",SUM(U26:AV26),IF($BC$3="暦月",SUM(U26:AY26),"")) -> 0 | BB26: =IF($BC$3="４週",AZ26/4,IF($BC$3="暦月",(AZ26/($BC$8/7)),"")) -> 0
C27: 介護従業者 | H27: A | I27: 看護師 | M27: ○○ B子 | P27: シフト記号 | U27: i | V27: j | X27: a | Y27: c | AA27: a | AB27: i | AC27: j | AD27: c | AF27: a | AG27: c | AI27: c | AJ27: i | AK27: j | AN27: i | AO27: j | AQ27: a | AR27: c | AS27: i | AT27: j | AV27: a
B28: =B25+1 -> 3 | F28: =C27 -> 介護従業者 | P28: 日中の勤務時間数 | U28: =IF(U27="","",VLOOKUP(U27,'【記載例】シフト記号表（勤務時間帯）'!$D$6:$X$47,21,FALSE)) -> 3 | V28: =IF(V27="","",VLOOKUP(V27,'【記載例】シフト記号表（勤務時間帯）'!$D$6:$X$47,21,FALSE)) -> 3 | W28: =IF(W27="","",VLOOKUP(W27,'【記載例】シフト記号表（勤務時間帯）'!$D$6:$X$47,21,FALSE)) | X28: =IF(X27="","",VLOOKUP(X27,'【記載例】シフト記号表（勤務時間帯）'!$D$6:$X$47,21,FALSE)) -> 8 | Y28: =IF(Y27="","",VLOOKUP(Y27,'【記載例】シフト記号表（勤務時間帯）'!$D$6:$X$47,21,FALSE)) -> 8 | Z28: =IF(Z27="","",VLOOKUP(Z27,'【記載例】シフト記号表（勤務時間帯）'!$D$6:$X$47,21,FALSE)) | AA28: =IF(AA27="","",VLOOKUP(AA27,'【記載例】シフト記号表（勤務時間帯）'!$D$6:$X$47,21,FALSE)) -> 8 | AB28: =IF(AB27="","",VLOOKUP(AB27,'【記載例】シフト記号表（勤務時間帯）'!$D$6:$X$47,21,FALSE)) -> 3 | ... AY28: =IF(AY27="","",VLOOKUP(AY27,'【記載例】シフト記号表（勤務時間帯）'!$D$6:$X$47,21,FALSE)) | AZ28: =IF($BC$3="４週",SUM(U28:AV28),IF($BC$3="暦月",SUM(U28:AY28),"")) -> 110 | BB28: =IF($BC$3="４週",AZ28/4,IF($BC$3="暦月",(AZ28/($BC$8/7)),"")) -> 27.5
G29: =C27 -> 介護従業者 | P29: 夜間・深夜の勤務時間数 | U29: =IF(U27="","",VLOOKUP(U27,'【記載例】シフト記号表（勤務時間帯）'!$D$6:$Z$47,23,FALSE)) -> 4 | V29: =IF(V27="","",VLOOKUP(V27,'【記載例】シフト記号表（勤務時間帯）'!$D$6:$Z$47,23,FALSE)) -> 6 | W29: =IF(W27="","",VLOOKUP(W27,'【記載例】シフト記号表（勤務時間帯）'!$D$6:$Z$47,23,FALSE)) | X29: =IF(X27="","",VLOOKUP(X27,'【記載例】シフト記号表（勤務時間帯）'!$D$6:$Z$47,23,FALSE)) -> - | Y29: =IF(Y27="","",VLOOKUP(Y27,'【記載例】シフト記号表（勤務時間帯）'!$D$6:$Z$47,23,FALSE)) -> - | Z29: =IF(Z27="","",VLOOKUP(Z27,'【記載例】シフト記号表（勤務時間帯）'!$D$6:$Z$47,23,FALSE)) | AA29: =IF(AA27="","",VLOOKUP(AA27,'【記載例】シフト記号表（勤務時間帯）'!$D$6:$Z$47,23,FALSE)) -> - | AB29: =IF(AB27="","",VLOOKUP(AB27,'【記載例】シフト記号表（勤務時間帯）'!$D$6:$Z$47,23,FALSE)) -> 4 | ... AY29: =IF(AY27="","",VLOOKUP(AY27,'【記載例】シフト記号表（勤務時間帯）'!$D$6:$Z$47,23,FALSE)) | AZ29: =IF($BC$3="４週",SUM(U29:AV29),IF($BC$3="暦月",SUM(U29:AY29),"")) -> 50 | BB29: =IF($BC$3="４週",AZ29/4,IF($BC$3="暦月",(AZ29/($BC$8/7)),"")) -> 12.5
C30: 介護従業者 | H30: A | I30: 介護福祉士 | M30: ○○ C太 | P30: シフト記号 | V30: i | W30: j | X30: a | Z30: i | AA30: j | AC30: a | AD30: i | AE30: j | AG30: b | AH30: a | AJ30: a | AK30: c | AL30: i | AM30: j | AO30: a | AP30: b | AQ30: c | AR30: i | AS30: j | AV30: a
B31: =B28+1 -> 4 | F31: =C30 -> 介護従業者 | P31: 日中の勤務時間数 | U31: =IF(U30="","",VLOOKUP(U30,'【記載例】シフト記号表（勤務時間帯）'!$D$6:$X$47,21,FALSE)) | V31: =IF(V30="","",VLOOKUP(V30,'【記載例】シフト記号表（勤務時間帯）'!$D$6:$X$47,21,FALSE)) -> 3 | W31: =IF(W30="","",VLOOKUP(W30,'【記載例】シフト記号表（勤務時間帯）'!$D$6:$X$47,21,FALSE)) -> 3 | X31: =IF(X30="","",VLOOKUP(X30,'【記載例】シフト記号表（勤務時間帯）'!$D$6:$X$47,21,FALSE)) -> 8 | Y31: =IF(Y30="","",VLOOKUP(Y30,'【記載例】シフト記号表（勤務時間帯）'!$D$6:$X$47,21,FALSE)) | Z31: =IF(Z30="","",VLOOKUP(Z30,'【記載例】シフト記号表（勤務時間帯）'!$D$6:$X$47,21,FALSE)) -> 3 | AA31: =IF(AA30="","",VLOOKUP(AA30,'【記載例】シフト記号表（勤務時間帯）'!$D$6:$X$47,21,FALSE)) -> 3 | AB31: =IF(AB30="","",VLOOKUP(AB30,'【記載例】シフト記号表（勤務時間帯）'!$D$6:$X$47,21,FALSE)) | ... AY31: =IF(AY30="","",VLOOKUP(AY30,'【記載例】シフト記号表（勤務時間帯）'!$D$6:$X$47,21,FALSE)) | AZ31: =IF($BC$3="４週",SUM(U31:AV31),IF($BC$3="暦月",SUM(U31:AY31),"")) -> 110 | BB31: =IF($BC$3="４週",AZ31/4,IF($BC$3="暦月",(AZ31/($BC$8/7)),"")) -> 27.5
G32: =C30 -> 介護従業者 | P32: 夜間・深夜の勤務時間数 | U32: =IF(U30="","",VLOOKUP(U30,'【記載例】シフト記号表（勤務時間帯）'!$D$6:$Z$47,23,FALSE)) | V32: =IF(V30="","",VLOOKUP(V30,'【記載例】シフト記号表（勤務時間帯）'!$D$6:$Z$47,23,FALSE)) -> 4 | W32: =IF(W30="","",VLOOKUP(W30,'【記載例】シフト記号表（勤務時間帯）'!$D$6:$Z$47,23,FALSE)) -> 6 | X32: =IF(X30="","",VLOOKUP(X30,'【記載例】シフト記号表（勤務時間帯）'!$D$6:$Z$47,23,FALSE)) -> - | Y32: =IF(Y30="","",VLOOKUP(Y30,'【記載例】シフト記号表（勤務時間帯）'!$D$6:$Z$47,23,FALSE)) | Z32: =IF(Z30="","",VLOOKUP(Z30,'【記載例】シフト記号表（勤務時間帯）'!$D$6:$Z$47,23,FALSE)) -> 4 | AA32: =IF(AA30="","",VLOOKUP(AA30,'【記載例】シフト記号表（勤務時間帯）'!$D$6:$Z$47,23,FALSE)) -> 6 | AB32: =IF(AB30="","",VLOOKUP(AB30,'【記載例】シフト記号表（勤務時間帯）'!$D$6:$Z$47,23,FALSE)) | ... AY32: =IF(AY30="","",VLOOKUP(AY30,'【記載例】シフト記号表（勤務時間帯）'!$D$6:$Z$47,23,FALSE)) | AZ32: =IF($BC$3="４週",SUM(U32:AV32),IF($BC$3="暦月",SUM(U32:AY32),"")) -> 50 | BB32: =IF($BC$3="４週",AZ32/4,IF($BC$3="暦月",(AZ32/($BC$8/7)),"")) -> 12.5
C33: 介護従業者 | H33: A | I33: 介護福祉士 | M33: ○○ D美 | P33: シフト記号 | U33: b | V33: a | X33: a | Y33: b | Z33: b | AB33: b | AC33: b | AD33: b | AE33: b | AF33: b | AI33: b | AK33: a | AM33: b | AN33: b | AO33: b | AP33: b | AS33: b | AT33: b | AU33: b | AV33: b
B34: =B31+1 -> 5 | F34: =C33 -> 介護従業者 | P34: 日中の勤務時間数 | U34: =IF(U33="","",VLOOKUP(U33,'【記載例】シフト記号表（勤務時間帯）'!$D$6:$X$47,21,FALSE)) -> 8 | V34: =IF(V33="","",VLOOKUP(V33,'【記載例】シフト記号表（勤務時間帯）'!$D$6:$X$47,21,FALSE)) -> 8 | W34: =IF(W33="","",VLOOKUP(W33,'【記載例】シフト記号表（勤務時間帯）'!$D$6:$X$47,21,FALSE)) | X34: =IF(X33="","",VLOOKUP(X33,'【記載例】シフト記号表（勤務時間帯）'!$D$6:$X$47,21,FALSE)) -> 8 | Y34: =IF(Y33="","",VLOOKUP(Y33,'【記載例】シフト記号表（勤務時間帯）'!$D$6:$X$47,21,FALSE)) -> 8 | Z34: =IF(Z33="","",VLOOKUP(Z33,'【記載例】シフト記号表（勤務時間帯）'!$D$6:$X$47,21,FALSE)) -> 8 | AA34: =IF(AA33="","",VLOOKUP(AA33,'【記載例】シフト記号表（勤務時間帯）'!$D$6:$X$47,21,FALSE)) | AB34: =IF(AB33="","",VLOOKUP(AB33,'【記載例】シフト記号表（勤務時間帯）'!$D$6:$X$47,21,FALSE)) -> 8 | ... AY34: =IF(AY33="","",VLOOKUP(AY33,'【記載例】シフト記号表（勤務時間帯）'!$D$6:$X$47,21,FALSE)) | AZ34: =IF($BC$3="４週",SUM(U34:AV34),IF($BC$3="暦月",SUM(U34:AY34),"")) -> 160 | BB34: =IF($BC$3="４週",AZ34/4,IF($BC$3="暦月",(AZ34/($BC$8/7)),"")) -> 40
G35: =C33 -> 介護従業者 | P35: 夜間・深夜の勤務時間数 | U35: =IF(U33="","",VLOOKUP(U33,'【記載例】シフト記号表（勤務時間帯）'!$D$6:$Z$47,23,FALSE)) -> - | V35: =IF(V33="","",VLOOKUP(V33,'【記載例】シフト記号表（勤務時間帯）'!$D$6:$Z$47,23,FALSE)) -> - | W35: =IF(W33="","",VLOOKUP(W33,'【記載例】シフト記号表（勤務時間帯）'!$D$6:$Z$47,23,FALSE)) | X35: =IF(X33="","",VLOOKUP(X33,'【記載例】シフト記号表（勤務時間帯）'!$D$6:$Z$47,23,FALSE)) -> - | Y35: =IF(Y33="","",VLOOKUP(Y33,'【記載例】シフト記号表（勤務時間帯）'!$D$6:$Z$47,23,FALSE)) -> - | Z35: =IF(Z33="","",VLOOKUP(Z33,'【記載例】シフト記号表（勤務時間帯）'!$D$6:$Z$47,23,FALSE)) -> - | AA35: =IF(AA33="","",VLOOKUP(AA33,'【記載例】シフト記号表（勤務時間帯）'!$D$6:$Z$47,23,FALSE)) | AB35: =IF(AB33="","",VLOOKUP(AB33,'【記載例】シフト記号表（勤務時間帯）'!$D$6:$Z$47,23,FALSE)) -> - | ... AY35: =IF(AY33="","",VLOOKUP(AY33,'【記載例】シフト記号表（勤務時間帯）'!$D$6:$Z$47,23,FALSE)) | AZ35: =IF($BC$3="４週",SUM(U35:AV35),IF($BC$3="暦月",SUM(U35:AY35),"")) -> 0 | BB35: =IF($BC$3="４週",AZ35/4,IF($BC$3="暦月",(AZ35/($BC$8/7)),"")) -> 0
C36: 介護従業者 | H36: A | I36: ー | M36: ○○ E夫 | P36: シフト記号 | U36: a | W36: a | Y36: i | Z36: j | AA36: b | AC36: i | AD36: j | AE36: b | AG36: i | AH36: j | AJ36: c | AK36: c | AL36: b | AM36: c | AO36: i | AP36: j | AQ36: b | AR36: c | AT36: c | AU36: b
B37: =B34+1 -> 6 | F37: =C36 -> 介護従業者 | P37: 日中の勤務時間数 | U37: =IF(U36="","",VLOOKUP(U36,'【記載例】シフト記号表（勤務時間帯）'!$D$6:$X$47,21,FALSE)) -> 8 | V37: =IF(V36="","",VLOOKUP(V36,'【記載例】シフト記号表（勤務時間帯）'!$D$6:$X$47,21,FALSE)) | W37: =IF(W36="","",VLOOKUP(W36,'【記載例】シフト記号表（勤務時間帯）'!$D$6:$X$47,21,FALSE)) -> 8 | X37: =IF(X36="","",VLOOKUP(X36,'【記載例】シフト記号表（勤務時間帯）'!$D$6:$X$47,21,FALSE)) | Y37: =IF(Y36="","",VLOOKUP(Y36,'【記載例】シフト記号表（勤務時間帯）'!$D$6:$X$47,21,FALSE)) -> 3 | Z37: =IF(Z36="","",VLOOKUP(Z36,'【記載例】シフト記号表（勤務時間帯）'!$D$6:$X$47,21,FALSE)) -> 3 | AA37: =IF(AA36="","",VLOOKUP(AA36,'【記載例】シフト記号表（勤務時間帯）'!$D$6:$X$47,21,FALSE)) -> 8 | AB37: =IF(AB36="","",VLOOKUP(AB36,'【記載例】シフト記号表（勤務時間帯）'!$D$6:$X$47,21,FALSE)) | ... AY37: =IF(AY36="","",VLOOKUP(AY36,'【記載例】シフト記号表（勤務時間帯）'!$D$6:$X$47,21,FALSE)) | AZ37: =IF($BC$3="４週",SUM(U37:AV37),IF($BC$3="暦月",SUM(U37:AY37),"")) -> 120 | BB37: =IF($BC$3="４週",AZ37/4,IF($BC$3="暦月",(AZ37/($BC$8/7)),"")) -> 30
G38: =C36 -> 介護従業者 | P38: 夜間・深夜の勤務時間数 | U38: =IF(U36="","",VLOOKUP(U36,'【記載例】シフト記号表（勤務時間帯）'!$D$6:$Z$47,23,FALSE)) -> - | V38: =IF(V36="","",VLOOKUP(V36,'【記載例】シフト記号表（勤務時間帯）'!$D$6:$Z$47,23,FALSE)) | W38: =IF(W36="","",VLOOKUP(W36,'【記載例】シフト記号表（勤務時間帯）'!$D$6:$Z$47,23,FALSE)) -> - | X38: =IF(X36="","",VLOOKUP(X36,'【記載例】シフト記号表（勤務時間帯）'!$D$6:$Z$47,23,FALSE)) | Y38: =IF(Y36="","",VLOOKUP(Y36,'【記載例】シフト記号表（勤務時間帯）'!$D$6:$Z$47,23,FALSE)) -> 4 | Z38: =IF(Z36="","",VLOOKUP(Z36,'【記載例】シフト記号表（勤務時間帯）'!$D$6:$Z$47,23,FALSE)) -> 6 | AA38: =IF(AA36="","",VLOOKUP(AA36,'【記載例】シフト記号表（勤務時間帯）'!$D$6:$Z$47,23,FALSE)) -> - | AB38: =IF(AB36="","",VLOOKUP(AB36,'【記載例】シフト記号表（勤務時間帯）'!$D$6:$Z$47,23,FALSE)) | ... AY38: =IF(AY36="","",VLOOKUP(AY36,'【記載例】シフト記号表（勤務時間帯）'!$D$6:$Z$47,23,FALSE)) | AZ38: =IF($BC$3="４週",SUM(U38:AV38),IF($BC$3="暦月",SUM(U38:AY38),"")) -> 40 | BB38: =IF($BC$3="４週",AZ38/4,IF($BC$3="暦月",(AZ38/($BC$8/7)),"")) -> 10
C39: 介護従業者 | H39: A | I39: ー | M39: ○○ F子 | P39: シフト記号 | V39: a | W39: i | X39: j | Y39: a | AA39: a | AB39: b | AC39: b | AF39: i | AG39: j | AH39: b | AI39: a | AK39: i | AL39: j | AN39: a | AO39: a | AP39: c | AR39: a | AS39: b | AT39: i | AU39: j
B40: =B37+1 -> 7 | F40: =C39 -> 介護従業者 | P40: 日中の勤務時間数 | U40: =IF(U39="","",VLOOKUP(U39,'【記載例】シフト記号表（勤務時間帯）'!$D$6:$X$47,21,FALSE)) | V40: =IF(V39="","",VLOOKUP(V39,'【記載例】シフト記号表（勤務時間帯）'!$D$6:$X$47,21,FALSE)) -> 8 | W40: =IF(W39="","",VLOOKUP(W39,'【記載例】シフト記号表（勤務時間帯）'!$D$6:$X$47,21,FALSE)) -> 3 | X40: =IF(X39="","",VLOOKUP(X39,'【記載例】シフト記号表（勤務時間帯）'!$D$6:$X$47,21,FALSE)) -> 3 | Y40: =IF(Y39="","",VLOOKUP(Y39,'【記載例】シフト記号表（勤務時間帯）'!$D$6:$X$47,21,FALSE)) -> 8 | Z40: =IF(Z39="","",VLOOKUP(Z39,'【記載例】シフト記号表（勤務時間帯）'!$D$6:$X$47,21,FALSE)) | AA40: =IF(AA39="","",VLOOKUP(AA39,'【記載例】シフト記号表（勤務時間帯）'!$D$6:$X$47,21,FALSE)) -> 8 | AB40: =IF(AB39="","",VLOOKUP(AB39,'【記載例】シフト記号表（勤務時間帯）'!$D$6:$X$47,21,FALSE)) -> 8 | ... AY40: =IF(AY39="","",VLOOKUP(AY39,'【記載例】シフト記号表（勤務時間帯）'!$D$6:$X$47,21,FALSE)) | AZ40: =IF($BC$3="４週",SUM(U40:AV40),IF($BC$3="暦月",SUM(U40:AY40),"")) -> 120 | BB40: =IF($BC$3="４週",AZ40/4,IF($BC$3="暦月",(AZ40/($BC$8/7)),"")) -> 30
G41: =C39 -> 介護従業者 | P41: 夜間・深夜の勤務時間数 | U41: =IF(U39="","",VLOOKUP(U39,'【記載例】シフト記号表（勤務時間帯）'!$D$6:$Z$47,23,FALSE)) | V41: =IF(V39="","",VLOOKUP(V39,'【記載例】シフト記号表（勤務時間帯）'!$D$6:$Z$47,23,FALSE)) -> - | W41: =IF(W39="","",VLOOKUP(W39,'【記載例】シフト記号表（勤務時間帯）'!$D$6:$Z$47,23,FALSE)) -> 4 | X41: =IF(X39="","",VLOOKUP(X39,'【記載例】シフト記号表（勤務時間帯）'!$D$6:$Z$47,23,FALSE)) -> 6 | Y41: =IF(Y39="","",VLOOKUP(Y39,'【記載例】シフト記号表（勤務時間帯）'!$D$6:$Z$47,23,FALSE)) -> - | Z41: =IF(Z39="","",VLOOKUP(Z39,'【記載例】シフト記号表（勤務時間帯）'!$D$6:$Z$47,23,FALSE)) | AA41: =IF(AA39="","",VLOOKUP(AA39,'【記載例】シフト記号表（勤務時間帯）'!$D$6:$Z$47,23,FALSE)) -> - | AB41: =IF(AB39="","",VLOOKUP(AB39,'【記載例】シフト記号表（勤務時間帯）'!$D$6:$Z$47,23,FALSE)) -> - | ... AY41: =IF(AY39="","",VLOOKUP(AY39,'【記載例】シフト記号表（勤務時間帯）'!$D$6:$Z$47,23,FALSE)) | AZ41: =IF($BC$3="４週",SUM(U41:AV41),IF($BC$3="暦月",SUM(U41:AY41),"")) -> 40 | BB41: =IF($BC$3="４週",AZ41/4,IF($BC$3="暦月",(AZ41/($BC$8/7)),"")) -> 10
C42: 介護従業者 | H42: A | I42: 准看護師 | M42: ○○ G太 | P42: シフト記号 | U42: a | W42: b | X42: i | Y42: j | Z42: a | AB42: a | AD42: c | AE42: i | AF42: j | AH42: a | AI42: i | AJ42: j | AL42: a | AM42: a | AN42: b | AP42: i | AQ42: j | AS42: a | AU42: i | AV42: j
B43: =B40+1 -> 8 | F43: =C42 -> 介護従業者 | P43: 日中の勤務時間数 | U43: =IF(U42="","",VLOOKUP(U42,'【記載例】シフト記号表（勤務時間帯）'!$D$6:$X$47,21,FALSE)) -> 8 | V43: =IF(V42="","",VLOOKUP(V42,'【記載例】シフト記号表（勤務時間帯）'!$D$6:$X$47,21,FALSE)) | W43: =IF(W42="","",VLOOKUP(W42,'【記載例】シフト記号表（勤務時間帯）'!$D$6:$X$47,21,FALSE)) -> 8 | X43: =IF(X42="","",VLOOKUP(X42,'【記載例】シフト記号表（勤務時間帯）'!$D$6:$X$47,21,FALSE)) -> 3 | Y43: =IF(Y42="","",VLOOKUP(Y42,'【記載例】シフト記号表（勤務時間帯）'!$D$6:$X$47,21,FALSE)) -> 3 | Z43: =IF(Z42="","",VLOOKUP(Z42,'【記載例】シフト記号表（勤務時間帯）'!$D$6:$X$47,21,FALSE)) -> 8 | AA43: =IF(AA42="","",VLOOKUP(AA42,'【記載例】シフト記号表（勤務時間帯）'!$D$6:$X$47,21,FALSE)) | AB43: =IF(AB42="","",VLOOKUP(AB42,'【記載例】シフト記号表（勤務時間帯）'!$D$6:$X$47,21,FALSE)) -> 8 | ... AY43: =IF(AY42="","",VLOOKUP(AY42,'【記載例】シフト記号表（勤務時間帯）'!$D$6:$X$47,21,FALSE)) | AZ43: =IF($BC$3="４週",SUM(U43:AV43),IF($BC$3="暦月",SUM(U43:AY43),"")) -> 110 | BB43: =IF($BC$3="４週",AZ43/4,IF($BC$3="暦月",(AZ43/($BC$8/7)),"")) -> 27.5
G44: =C42 -> 介護従業者 | P44: 夜間・深夜の勤務時間数 | U44: =IF(U42="","",VLOOKUP(U42,'【記載例】シフト記号表（勤務時間帯）'!$D$6:$Z$47,23,FALSE)) -> - | V44: =IF(V42="","",VLOOKUP(V42,'【記載例】シフト記号表（勤務時間帯）'!$D$6:$Z$47,23,FALSE)) | W44: =IF(W42="","",VLOOKUP(W42,'【記載例】シフト記号表（勤務時間帯）'!$D$6:$Z$47,23,FALSE)) -> - | X44: =IF(X42="","",VLOOKUP(X42,'【記載例】シフト記号表（勤務時間帯）'!$D$6:$Z$47,23,FALSE)) -> 4 | Y44: =IF(Y42="","",VLOOKUP(Y42,'【記載例】シフト記号表（勤務時間帯）'!$D$6:$Z$47,23,FALSE)) -> 6 | Z44: =IF(Z42="","",VLOOKUP(Z42,'【記載例】シフト記号表（勤務時間帯）'!$D$6:$Z$47,23,FALSE)) -> - | AA44: =IF(AA42="","",VLOOKUP(AA42,'【記載例】シフト記号表（勤務時間帯）'!$D$6:$Z$47,23,FALSE)) | AB44: =IF(AB42="","",VLOOKUP(AB42,'【記載例】シフト記号表（勤務時間帯）'!$D$6:$Z$47,23,FALSE)) -> - | ... AY44: =IF(AY42="","",VLOOKUP(AY42,'【記載例】シフト記号表（勤務時間帯）'!$D$6:$Z$47,23,FALSE)) | AZ44: =IF($BC$3="４週",SUM(U44:AV44),IF($BC$3="暦月",SUM(U44:AY44),"")) -> 50 | BB44: =IF($BC$3="４週",AZ44/4,IF($BC$3="暦月",(AZ44/($BC$8/7)),"")) -> 12.5
C45: 介護従業者 | H45: A | I45: 看護師 | M45: ○○ H美 | P45: シフト記号 | U45: j | V45: c | W45: c | Z45: b | AA45: i | AB45: j | AE45: a | AF45: c | AG45: c | AH45: i | AI45: j | AJ45: c | AL45: b | AM45: i | AN45: j | AQ45: i | AR45: j | AT45: a | AU45: b | AV45: i
B46: =B43+1 -> 9 | F46: =C45 -> 介護従業者 | P46: 日中の勤務時間数 | U46: =IF(U45="","",VLOOKUP(U45,'【記載例】シフト記号表（勤務時間帯）'!$D$6:$X$47,21,FALSE)) -> 3 | V46: =IF(V45="","",VLOOKUP(V45,'【記載例】シフト記号表（勤務時間帯）'!$D$6:$X$47,21,FALSE)) -> 8 | W46: =IF(W45="","",VLOOKUP(W45,'【記載例】シフト記号表（勤務時間帯）'!$D$6:$X$47,21,FALSE)) -> 8 | X46: =IF(X45="","",VLOOKUP(X45,'【記載例】シフト記号表（勤務時間帯）'!$D$6:$X$47,21,FALSE)) | Y46: =IF(Y45="","",VLOOKUP(Y45,'【記載例】シフト記号表（勤務時間帯）'!$D$6:$X$47,21,FALSE)) | Z46: =IF(Z45="","",VLOOKUP(Z45,'【記載例】シフト記号表（勤務時間帯）'!$D$6:$X$47,21,FALSE)) -> 8 | AA46: =IF(AA45="","",VLOOKUP(AA45,'【記載例】シフト記号表（勤務時間帯）'!$D$6:$X$47,21,FALSE)) -> 3 | AB46: =IF(AB45="","",VLOOKUP(AB45,'【記載例】シフト記号表（勤務時間帯）'!$D$6:$X$47,21,FALSE)) -> 3 | ... AY46: =IF(AY45="","",VLOOKUP(AY45,'【記載例】シフト記号表（勤務時間帯）'!$D$6:$X$47,21,FALSE)) | AZ46: =IF($BC$3="４週",SUM(U46:AV46),IF($BC$3="暦月",SUM(U46:AY46),"")) -> 110 | BB46: =IF($BC$3="４週",AZ46/4,IF($BC$3="暦月",(AZ46/($BC$8/7)),"")) -> 27.5
G47: =C45 -> 介護従業者 | P47: 夜間・深夜の勤務時間数 | U47: =IF(U45="","",VLOOKUP(U45,'【記載例】シフト記号表（勤務時間帯）'!$D$6:$Z$47,23,FALSE)) -> 6 | V47: =IF(V45="","",VLOOKUP(V45,'【記載例】シフト記号表（勤務時間帯）'!$D$6:$Z$47,23,FALSE)) -> - | W47: =IF(W45="","",VLOOKUP(W45,'【記載例】シフト記号表（勤務時間帯）'!$D$6:$Z$47,23,FALSE)) -> - | X47: =IF(X45="","",VLOOKUP(X45,'【記載例】シフト記号表（勤務時間帯）'!$D$6:$Z$47,23,FALSE)) | Y47: =IF(Y45="","",VLOOKUP(Y45,'【記載例】シフト記号表（勤務時間帯）'!$D$6:$Z$47,23,FALSE)) | Z47: =IF(Z45="","",VLOOKUP(Z45,'【記載例】シフト記号表（勤務時間帯）'!$D$6:$Z$47,23,FALSE)) -> - | AA47: =IF(AA45="","",VLOOKUP(AA45,'【記載例】シフト記号表（勤務時間帯）'!$D$6:$Z$47,23,FALSE)) -> 4 | AB47: =IF(AB45="","",VLOOKUP(AB45,'【記載例】シフト記号表（勤務時間帯）'!$D$6:$Z$47,23,FALSE)) -> 6 | ... AY47: =IF(AY45="","",VLOOKUP(AY45,'【記載例】シフト記号表（勤務時間帯）'!$D$6:$Z$47,23,FALSE)) | AZ47: =IF($BC$3="４週",SUM(U47:AV47),IF($BC$3="暦月",SUM(U47:AY47),"")) -> 50 | BB47: =IF($BC$3="４週",AZ47/4,IF($BC$3="暦月",(AZ47/($BC$8/7)),"")) -> 12.5
C48: 介護従業者 | H48: C | I48: 介護福祉士 | M48: ○○ J太郎 | P48: シフト記号 | X48: a | Y48: f | AE48: a | AF48: f | AL48: a | AM48: f | AS48: a | AT48: f
B49: =B46+1 -> 10 | F49: =C48 -> 介護従業者 | P49: 日中の勤務時間数 | U49: =IF(U48="","",VLOOKUP(U48,'【記載例】シフト記号表（勤務時間帯）'!$D$6:$X$47,21,FALSE)) | V49: =IF(V48="","",VLOOKUP(V48,'【記載例】シフト記号表（勤務時間帯）'!$D$6:$X$47,21,FALSE)) | W49: =IF(W48="","",VLOOKUP(W48,'【記載例】シフト記号表（勤務時間帯）'!$D$6:$X$47,21,FALSE)) | X49: =IF(X48="","",VLOOKUP(X48,'【記載例】シフト記号表（勤務時間帯）'!$D$6:$X$47,21,FALSE)) -> 8 | Y49: =IF(Y48="","",VLOOKUP(Y48,'【記載例】シフト記号表（勤務時間帯）'!$D$6:$X$47,21,FALSE)) -> 6 | Z49: =IF(Z48="","",VLOOKUP(Z48,'【記載例】シフト記号表（勤務時間帯）'!$D$6:$X$47,21,FALSE)) | AA49: =IF(AA48="","",VLOOKUP(AA48,'【記載例】シフト記号表（勤務時間帯）'!$D$6:$X$47,21,FALSE)) | AB49: =IF(AB48="","",VLOOKUP(AB48,'【記載例】シフト記号表（勤務時間帯）'!$D$6:$X$47,21,FALSE)) | ... AY49: =IF(AY48="","",VLOOKUP(AY48,'【記載例】シフト記号表（勤務時間帯）'!$D$6:$X$47,21,FALSE)) | AZ49: =IF($BC$3="４週",SUM(U49:AV49),IF($BC$3="暦月",SUM(U49:AY49),"")) -> 56 | BB49: =IF($BC$3="４週",AZ49/4,IF($BC$3="暦月",(AZ49/($BC$8/7)),"")) -> 14
G50: =C48 -> 介護従業者 | P50: 夜間・深夜の勤務時間数 | U50: =IF(U48="","",VLOOKUP(U48,'【記載例】シフト記号表（勤務時間帯）'!$D$6:$Z$47,23,FALSE)) | V50: =IF(V48="","",VLOOKUP(V48,'【記載例】シフト記号表（勤務時間帯）'!$D$6:$Z$47,23,FALSE)) | W50: =IF(W48="","",VLOOKUP(W48,'【記載例】シフト記号表（勤務時間帯）'!$D$6:$Z$47,23,FALSE)) | X50: =IF(X48="","",VLOOKUP(X48,'【記載例】シフト記号表（勤務時間帯）'!$D$6:$Z$47,23,FALSE)) -> - | Y50: =IF(Y48="","",VLOOKUP(Y48,'【記載例】シフト記号表（勤務時間帯）'!$D$6:$Z$47,23,FALSE)) -> - | Z50: =IF(Z48="","",VLOOKUP(Z48,'【記載例】シフト記号表（勤務時間帯）'!$D$6:$Z$47,23,FALSE)) | AA50: =IF(AA48="","",VLOOKUP(AA48,'【記載例】シフト記号表（勤務時間帯）'!$D$6:$Z$47,23,FALSE)) | AB50: =IF(AB48="","",VLOOKUP(AB48,'【記載例】シフト記号表（勤務時間帯）'!$D$6:$Z$47,23,FALSE)) | ... AY50: =IF(AY48="","",VLOOKUP(AY48,'【記載例】シフト記号表（勤務時間帯）'!$D$6:$Z$47,23,FALSE)) | AZ50: =IF($BC$3="４週",SUM(U50:AV50),IF($BC$3="暦月",SUM(U50:AY50),"")) -> 0 | BB50: =IF($BC$3="４週",AZ50/4,IF($BC$3="暦月",(AZ50/($BC$8/7)),"")) -> 0
C51: 介護従業者 | H51: C | I51: 介護福祉士 | M51: ○○ K子 | P51: シフト記号 | X51: f | AA51: f | AE51: f | AH51: f | AL51: f | AO51: f | AS51: f | AV51: f
B52: =B49+1 -> 11 | F52: =C51 -> 介護従業者 | P52: 日中の勤務時間数 | U52: =IF(U51="","",VLOOKUP(U51,'【記載例】シフト記号表（勤務時間帯）'!$D$6:$X$47,21,FALSE)) | V52: =IF(V51="","",VLOOKUP(V51,'【記載例】シフト記号表（勤務時間帯）'!$D$6:$X$47,21,FALSE)) | W52: =IF(W51="","",VLOOKUP(W51,'【記載例】シフト記号表（勤務時間帯）'!$D$6:$X$47,21,FALSE)) | X52: =IF(X51="","",VLOOKUP(X51,'【記載例】シフト記号表（勤務時間帯）'!$D$6:$X$47,21,FALSE)) -> 6 | Y52: =IF(Y51="","",VLOOKUP(Y51,'【記載例】シフト記号表（勤務時間帯）'!$D$6:$X$47,21,FALSE)) | Z52: =IF(Z51="","",VLOOKUP(Z51,'【記載例】シフト記号表（勤務時間帯）'!$D$6:$X$47,21,FALSE)) | AA52: =IF(AA51="","",VLOOKUP(AA51,'【記載例】シフト記号表（勤務時間帯）'!$D$6:$X$47,21,FALSE)) -> 6 | AB52: =IF(AB51="","",VLOOKUP(AB51,'【記載例】シフト記号表（勤務時間帯）'!$D$6:$X$47,21,FALSE)) | ... AY52: =IF(AY51="","",VLOOKUP(AY51,'【記載例】シフト記号表（勤務時間帯）'!$D$6:$X$47,21,FALSE)) | AZ52: =IF($BC$3="４週",SUM(U52:AV52),IF($BC$3="暦月",SUM(U52:AY52),"")) -> 48 | BB52: =IF($BC$3="４週",AZ52/4,IF($BC$3="暦月",(AZ52/($BC$8/7)),"")) -> 12
G53: =C51 -> 介護従業者 | P53: 夜間・深夜の勤務時間数 | U53: =IF(U51="","",VLOOKUP(U51,'【記載例】シフト記号表（勤務時間帯）'!$D$6:$Z$47,23,FALSE)) | V53: =IF(V51="","",VLOOKUP(V51,'【記載例】シフト記号表（勤務時間帯）'!$D$6:$Z$47,23,FALSE)) | W53: =IF(W51="","",VLOOKUP(W51,'【記載例】シフト記号表（勤務時間帯）'!$D$6:$Z$47,23,FALSE)) | X53: =IF(X51="","",VLOOKUP(X51,'【記載例】シフト記号表（勤務時間帯）'!$D$6:$Z$47,23,FALSE)) -> - | Y53: =IF(Y51="","",VLOOKUP(Y51,'【記載例】シフト記号表（勤務時間帯）'!$D$6:$Z$47,23,FALSE)) | Z53: =IF(Z51="","",VLOOKUP(Z51,'【記載例】シフト記号表（勤務時間帯）'!$D$6:$Z$47,23,FALSE)) | AA53: =IF(AA51="","",VLOOKUP(AA51,'【記載例】シフト記号表（勤務時間帯）'!$D$6:$Z$47,23,FALSE)) -> - | AB53: =IF(AB51="","",VLOOKUP(AB51,'【記載例】シフト記号表（勤務時間帯）'!$D$6:$Z$47,23,FALSE)) | ... AY53: =IF(AY51="","",VLOOKUP(AY51,'【記載例】シフト記号表（勤務時間帯）'!$D$6:$Z$47,23,FALSE)) | AZ53: =IF($BC$3="４週",SUM(U53:AV53),IF($BC$3="暦月",SUM(U53:AY53),"")) -> 0 | BB53: =IF($BC$3="４週",AZ53/4,IF($BC$3="暦月",(AZ53/($BC$8/7)),"")) -> 0
C54: 介護従業者 | H54: C | I54: ー | M54: ○○ L太 | P54: シフト記号 | V54: a | Y54: a | AC54: a | AF54: a | AJ54: a | AM54: a | AQ54: a | AT54: a
B55: =B52+1 -> 12 | F55: =C54 -> 介護従業者 | P55: 日中の勤務時間数 | U55: =IF(U54="","",VLOOKUP(U54,'【記載例】シフト記号表（勤務時間帯）'!$D$6:$X$47,21,FALSE)) | V55: =IF(V54="","",VLOOKUP(V54,'【記載例】シフト記号表（勤務時間帯）'!$D$6:$X$47,21,FALSE)) -> 8 | W55: =IF(W54="","",VLOOKUP(W54,'【記載例】シフト記号表（勤務時間帯）'!$D$6:$X$47,21,FALSE)) | X55: =IF(X54="","",VLOOKUP(X54,'【記載例】シフト記号表（勤務時間帯）'!$D$6:$X$47,21,FALSE)) | Y55: =IF(Y54="","",VLOOKUP(Y54,'【記載例】シフト記号表（勤務時間帯）'!$D$6:$X$47,21,FALSE)) -> 8 | Z55: =IF(Z54="","",VLOOKUP(Z54,'【記載例】シフト記号表（勤務時間帯）'!$D$6:$X$47,21,FALSE)) | AA55: =IF(AA54="","",VLOOKUP(AA54,'【記載例】シフト記号表（勤務時間帯）'!$D$6:$X$47,21,FALSE)) | AB55: =IF(AB54="","",VLOOKUP(AB54,'【記載例】シフト記号表（勤務時間帯）'!$D$6:$X$47,21,FALSE)) | ... AY55: =IF(AY54="","",VLOOKUP(AY54,'【記載例】シフト記号表（勤務時間帯）'!$D$6:$X$47,21,FALSE)) | AZ55: =IF($BC$3="４週",SUM(U55:AV55),IF($BC$3="暦月",SUM(U55:AY55),"")) -> 64 | BB55: =IF($BC$3="４週",AZ55/4,IF($BC$3="暦月",(AZ55/($BC$8/7)),"")) -> 16
G56: =C54 -> 介護従業者 | P56: 夜間・深夜の勤務時間数 | U56: =IF(U54="","",VLOOKUP(U54,'【記載例】シフト記号表（勤務時間帯）'!$D$6:$Z$47,23,FALSE)) | V56: =IF(V54="","",VLOOKUP(V54,'【記載例】シフト記号表（勤務時間帯）'!$D$6:$Z$47,23,FALSE)) -> - | W56: =IF(W54="","",VLOOKUP(W54,'【記載例】シフト記号表（勤務時間帯）'!$D$6:$Z$47,23,FALSE)) | X56: =IF(X54="","",VLOOKUP(X54,'【記載例】シフト記号表（勤務時間帯）'!$D$6:$Z$47,23,FALSE)) | Y56: =IF(Y54="","",VLOOKUP(Y54,'【記載例】シフト記号表（勤務時間帯）'!$D$6:$Z$47,23,FALSE)) -> - | Z56: =IF(Z54="","",VLOOKUP(Z54,'【記載例】シフト記号表（勤務時間帯）'!$D$6:$Z$47,23,FALSE)) | AA56: =IF(AA54="","",VLOOKUP(AA54,'【記載例】シフト記号表（勤務時間帯）'!$D$6:$Z$47,23,FALSE)) | AB56: =IF(AB54="","",VLOOKUP(AB54,'【記載例】シフト記号表（勤務時間帯）'!$D$6:$Z$47,23,FALSE)) | ... AY56: =IF(AY54="","",VLOOKUP(AY54,'【記載例】シフト記号表（勤務時間帯）'!$D$6:$Z$47,23,FALSE)) | AZ56: =IF($BC$3="４週",SUM(U56:AV56),IF($BC$3="暦月",SUM(U56:AY56),"")) -> 0 | BB56: =IF($BC$3="４週",AZ56/4,IF($BC$3="暦月",(AZ56/($BC$8/7)),"")) -> 0
C57: 介護従業者 | H57: C | I57: ー | M57: ○○ M子 | P57: シフト記号 | U57: e | Z57: e | AB57: e | AG57: e | AI57: e | AN57: e | AP57: e | AU57: e
B58: =B55+1 -> 13 | F58: =C57 -> 介護従業者 | P58: 日中の勤務時間数 | U58: =IF(U57="","",VLOOKUP(U57,'【記載例】シフト記号表（勤務時間帯）'!$D$6:$X$47,21,FALSE)) -> 6 | V58: =IF(V57="","",VLOOKUP(V57,'【記載例】シフト記号表（勤務時間帯）'!$D$6:$X$47,21,FALSE)) | W58: =IF(W57="","",VLOOKUP(W57,'【記載例】シフト記号表（勤務時間帯）'!$D$6:$X$47,21,FALSE)) | X58: =IF(X57="","",VLOOKUP(X57,'【記載例】シフト記号表（勤務時間帯）'!$D$6:$X$47,21,FALSE)) | Y58: =IF(Y57="","",VLOOKUP(Y57,'【記載例】シフト記号表（勤務時間帯）'!$D$6:$X$47,21,FALSE)) | Z58: =IF(Z57="","",VLOOKUP(Z57,'【記載例】シフト記号表（勤務時間帯）'!$D$6:$X$47,21,FALSE)) -> 6 | AA58: =IF(AA57="","",VLOOKUP(AA57,'【記載例】シフト記号表（勤務時間帯）'!$D$6:$X$47,21,FALSE)) | AB58: =IF(AB57="","",VLOOKUP(AB57,'【記載例】シフト記号表（勤務時間帯）'!$D$6:$X$47,21,FALSE)) -> 6 | ... AY58: =IF(AY57="","",VLOOKUP(AY57,'【記載例】シフト記号表（勤務時間帯）'!$D$6:$X$47,21,FALSE)) | AZ58: =IF($BC$3="４週",SUM(U58:AV58),IF($BC$3="暦月",SUM(U58:AY58),"")) -> 48 | BB58: =IF($BC$3="４週",AZ58/4,IF($BC$3="暦月",(AZ58/($BC$8/7)),"")) -> 12
G59: =C57 -> 介護従業者 | P59: 夜間・深夜の勤務時間数 | U59: =IF(U57="","",VLOOKUP(U57,'【記載例】シフト記号表（勤務時間帯）'!$D$6:$Z$47,23,FALSE)) -> - | V59: =IF(V57="","",VLOOKUP(V57,'【記載例】シフト記号表（勤務時間帯）'!$D$6:$Z$47,23,FALSE)) | W59: =IF(W57="","",VLOOKUP(W57,'【記載例】シフト記号表（勤務時間帯）'!$D$6:$Z$47,23,FALSE)) | X59: =IF(X57="","",VLOOKUP(X57,'【記載例】シフト記号表（勤務時間帯）'!$D$6:$Z$47,23,FALSE)) | Y59: =IF(Y57="","",VLOOKUP(Y57,'【記載例】シフト記号表（勤務時間帯）'!$D$6:$Z$47,23,FALSE)) | Z59: =IF(Z57="","",VLOOKUP(Z57,'【記載例】シフト記号表（勤務時間帯）'!$D$6:$Z$47,23,FALSE)) -> - | AA59: =IF(AA57="","",VLOOKUP(AA57,'【記載例】シフト記号表（勤務時間帯）'!$D$6:$Z$47,23,FALSE)) | AB59: =IF(AB57="","",VLOOKUP(AB57,'【記載例】シフト記号表（勤務時間帯）'!$D$6:$Z$47,23,FALSE)) -> - | ... AY59: =IF(AY57="","",VLOOKUP(AY57,'【記載例】シフト記号表（勤務時間帯）'!$D$6:$Z$47,23,FALSE)) | AZ59: =IF($BC$3="４週",SUM(U59:AV59),IF($BC$3="暦月",SUM(U59:AY59),"")) -> 0 | BB59: =IF($BC$3="４週",AZ59/4,IF($BC$3="暦月",(AZ59/($BC$8/7)),"")) -> 0
C60: 介護従業者 | H60: C | I60: ー | M60: ○○ N男 | P60: シフト記号 | U60: h | V60: h | W60: h | AA60: h | AB60: h | AC60: h | AD60: h | AH60: h | AI60: h | AJ60: h | AK60: h | AO60: h | AP60: h | AQ60: h | AR60: h | AV60: h
B61: =B58+1 -> 14 | F61: =C60 -> 介護従業者 | P61: 日中の勤務時間数 | U61: =IF(U60="","",VLOOKUP(U60,'【記載例】シフト記号表（勤務時間帯）'!$D$6:$X$47,21,FALSE)) -> 4 | V61: =IF(V60="","",VLOOKUP(V60,'【記載例】シフト記号表（勤務時間帯）'!$D$6:$X$47,21,FALSE)) -> 4 | W61: =IF(W60="","",VLOOKUP(W60,'【記載例】シフト記号表（勤務時間帯）'!$D$6:$X$47,21,FALSE)) -> 4 | X61: =IF(X60="","",VLOOKUP(X60,'【記載例】シフト記号表（勤務時間帯）'!$D$6:$X$47,21,FALSE)) | Y61: =IF(Y60="","",VLOOKUP(Y60,'【記載例】シフト記号表（勤務時間帯）'!$D$6:$X$47,21,FALSE)) | Z61: =IF(Z60="","",VLOOKUP(Z60,'【記載例】シフト記号表（勤務時間帯）'!$D$6:$X$47,21,FALSE)) | AA61: =IF(AA60="","",VLOOKUP(AA60,'【記載例】シフト記号表（勤務時間帯）'!$D$6:$X$47,21,FALSE)) -> 4 | AB61: =IF(AB60="","",VLOOKUP(AB60,'【記載例】シフト記号表（勤務時間帯）'!$D$6:$X$47,21,FALSE)) -> 4 | ... AY61: =IF(AY60="","",VLOOKUP(AY60,'【記載例】シフト記号表（勤務時間帯）'!$D$6:$X$47,21,FALSE)) | AZ61: =IF($BC$3="４週",SUM(U61:AV61),IF($BC$3="暦月",SUM(U61:AY61),"")) -> 64 | BB61: =IF($BC$3="４週",AZ61/4,IF($BC$3="暦月",(AZ61/($BC$8/7)),"")) -> 16
G62: =C60 -> 介護従業者 | P62: 夜間・深夜の勤務時間数 | U62: =IF(U60="","",VLOOKUP(U60,'【記載例】シフト記号表（勤務時間帯）'!$D$6:$Z$47,23,FALSE)) -> - | V62: =IF(V60="","",VLOOKUP(V60,'【記載例】シフト記号表（勤務時間帯）'!$D$6:$Z$47,23,FALSE)) -> - | W62: =IF(W60="","",VLOOKUP(W60,'【記載例】シフト記号表（勤務時間帯）'!$D$6:$Z$47,23,FALSE)) -> - | X62: =IF(X60="","",VLOOKUP(X60,'【記載例】シフト記号表（勤務時間帯）'!$D$6:$Z$47,23,FALSE)) | Y62: =IF(Y60="","",VLOOKUP(Y60,'【記載例】シフト記号表（勤務時間帯）'!$D$6:$Z$47,23,FALSE)) | Z62: =IF(Z60="","",VLOOKUP(Z60,'【記載例】シフト記号表（勤務時間帯）'!$D$6:$Z$47,23,FALSE)) | AA62: =IF(AA60="","",VLOOKUP(AA60,'【記載例】シフト記号表（勤務時間帯）'!$D$6:$Z$47,23,FALSE)) -> - | AB62: =IF(AB60="","",VLOOKUP(AB60,'【記載例】シフト記号表（勤務時間帯）'!$D$6:$Z$47,23,FALSE)) -> - | ... AY62: =IF(AY60="","",VLOOKUP(AY60,'【記載例】シフト記号表（勤務時間帯）'!$D$6:$Z$47,23,FALSE)) | AZ62: =IF($BC$3="４週",SUM(U62:AV62),IF($BC$3="暦月",SUM(U62:AY62),"")) -> 0 | BB62: =IF($BC$3="４週",AZ62/4,IF($BC$3="暦月",(AZ62/($BC$8/7)),"")) -> 0
C63: 介護従業者 | H63: C | I63: ー | M63: ○○ P子 | P63: シフト記号 | U63: g | V63: g | W63: g | AB63: g | AC63: g | AD63: g | AI63: g | AJ63: g | AK63: g | AP63: g | AQ63: g | AR63: g
B64: =B61+1 -> 15 | F64: =C63 -> 介護従業者 | P64: 日中の勤務時間数 | U64: =IF(U63="","",VLOOKUP(U63,'【記載例】シフト記号表（勤務時間帯）'!$D$6:$X$47,21,FALSE)) -> 2.5 | V64: =IF(V63="","",VLOOKUP(V63,'【記載例】シフト記号表（勤務時間帯）'!$D$6:$X$47,21,FALSE)) -> 2.5 | W64: =IF(W63="","",VLOOKUP(W63,'【記載例】シフト記号表（勤務時間帯）'!$D$6:$X$47,21,FALSE)) -> 2.5 | X64: =IF(X63="","",VLOOKUP(X63,'【記載例】シフト記号表（勤務時間帯）'!$D$6:$X$47,21,FALSE)) | Y64: =IF(Y63="","",VLOOKUP(Y63,'【記載例】シフト記号表（勤務時間帯）'!$D$6:$X$47,21,FALSE)) | Z64: =IF(Z63="","",VLOOKUP(Z63,'【記載例】シフト記号表（勤務時間帯）'!$D$6:$X$47,21,FALSE)) | AA64: =IF(AA63="","",VLOOKUP(AA63,'【記載例】シフト記号表（勤務時間帯）'!$D$6:$X$47,21,FALSE)) | AB64: =IF(AB63="","",VLOOKUP(AB63,'【記載例】シフト記号表（勤務時間帯）'!$D$6:$X$47,21,FALSE)) -> 2.5 | ... AY64: =IF(AY63="","",VLOOKUP(AY63,'【記載例】シフト記号表（勤務時間帯）'!$D$6:$X$47,21,FALSE)) | AZ64: =IF($BC$3="４週",SUM(U64:AV64),IF($BC$3="暦月",SUM(U64:AY64),"")) -> 30 | BB64: =IF($BC$3="４週",AZ64/4,IF($BC$3="暦月",(AZ64/($BC$8/7)),"")) -> 7.5
G65: =C63 -> 介護従業者 | P65: 夜間・深夜の勤務時間数 | U65: =IF(U63="","",VLOOKUP(U63,'【記載例】シフト記号表（勤務時間帯）'!$D$6:$Z$47,23,FALSE)) -> - | V65: =IF(V63="","",VLOOKUP(V63,'【記載例】シフト記号表（勤務時間帯）'!$D$6:$Z$47,23,FALSE)) -> - | W65: =IF(W63="","",VLOOKUP(W63,'【記載例】シフト記号表（勤務時間帯）'!$D$6:$Z$47,23,FALSE)) -> - | X65: =IF(X63="","",VLOOKUP(X63,'【記載例】シフト記号表（勤務時間帯）'!$D$6:$Z$47,23,FALSE)) | Y65: =IF(Y63="","",VLOOKUP(Y63,'【記載例】シフト記号表（勤務時間帯）'!$D$6:$Z$47,23,FALSE)) | Z65: =IF(Z63="","",VLOOKUP(Z63,'【記載例】シフト記号表（勤務時間帯）'!$D$6:$Z$47,23,FALSE)) | AA65: =IF(AA63="","",VLOOKUP(AA63,'【記載例】シフト記号表（勤務時間帯）'!$D$6:$Z$47,23,FALSE)) | AB65: =IF(AB63="","",VLOOKUP(AB63,'【記載例】シフト記号表（勤務時間帯）'!$D$6:$Z$47,23,FALSE)) -> - | ... AY65: =IF(AY63="","",VLOOKUP(AY63,'【記載例】シフト記号表（勤務時間帯）'!$D$6:$Z$47,23,FALSE)) | AZ65: =IF($BC$3="４週",SUM(U65:AV65),IF($BC$3="暦月",SUM(U65:AY65),"")) -> 0 | BB65: =IF($BC$3="４週",AZ65/4,IF($BC$3="暦月",(AZ65/($BC$8/7)),"")) -> 0
C66: 介護従業者 | H66: C | I66: ー | M66: ○○ R次郎 | P66: シフト記号 | W66: ag | Z66: ag | AD66: ag | AG66: ag | AK66: ag | AN66: ag | AR66: ag | AU66: ag
B67: =B64+1 -> 16 | F67: =C66 -> 介護従業者 | P67: 日中の勤務時間数 | U67: =IF(U66="","",VLOOKUP(U66,'【記載例】シフト記号表（勤務時間帯）'!$D$6:$X$47,21,FALSE)) | V67: =IF(V66="","",VLOOKUP(V66,'【記載例】シフト記号表（勤務時間帯）'!$D$6:$X$47,21,FALSE)) | W67: =IF(W66="","",VLOOKUP(W66,'【記載例】シフト記号表（勤務時間帯）'!$D$6:$X$47,21,FALSE)) -> 6 | X67: =IF(X66="","",VLOOKUP(X66,'【記載例】シフト記号表（勤務時間帯）'!$D$6:$X$47,21,FALSE)) | Y67: =IF(Y66="","",VLOOKUP(Y66,'【記載例】シフト記号表（勤務時間帯）'!$D$6:$X$47,21,FALSE)) | Z67: =IF(Z66="","",VLOOKUP(Z66,'【記載例】シフト記号表（勤務時間帯）'!$D$6:$X$47,21,FALSE)) -> 6 | AA67: =IF(AA66="","",VLOOKUP(AA66,'【記載例】シフト記号表（勤務時間帯）'!$D$6:$X$47,21,FALSE)) | AB67: =IF(AB66="","",VLOOKUP(AB66,'【記載例】シフト記号表（勤務時間帯）'!$D$6:$X$47,21,FALSE)) | ... AY67: =IF(AY66="","",VLOOKUP(AY66,'【記載例】シフト記号表（勤務時間帯）'!$D$6:$X$47,21,FALSE)) | AZ67: =IF($BC$3="４週",SUM(U67:AV67),IF($BC$3="暦月",SUM(U67:AY67),"")) -> 48 | BB67: =IF($BC$3="４週",AZ67/4,IF($BC$3="暦月",(AZ67/($BC$8/7)),"")) -> 12
G68: =C66 -> 介護従業者 | P68: 夜間・深夜の勤務時間数 | U68: =IF(U66="","",VLOOKUP(U66,'【記載例】シフト記号表（勤務時間帯）'!$D$6:$Z$47,23,FALSE)) | V68: =IF(V66="","",VLOOKUP(V66,'【記載例】シフト記号表（勤務時間帯）'!$D$6:$Z$47,23,FALSE)) | W68: =IF(W66="","",VLOOKUP(W66,'【記載例】シフト記号表（勤務時間帯）'!$D$6:$Z$47,23,FALSE)) -> - | X68: =IF(X66="","",VLOOKUP(X66,'【記載例】シフト記号表（勤務時間帯）'!$D$6:$Z$47,23,FALSE)) | Y68: =IF(Y66="","",VLOOKUP(Y66,'【記載例】シフト記号表（勤務時間帯）'!$D$6:$Z$47,23,FALSE)) | Z68: =IF(Z66="","",VLOOKUP(Z66,'【記載例】シフト記号表（勤務時間帯）'!$D$6:$Z$47,23,FALSE)) -> - | AA68: =IF(AA66="","",VLOOKUP(AA66,'【記載例】シフト記号表（勤務時間帯）'!$D$6:$Z$47,23,FALSE)) | AB68: =IF(AB66="","",VLOOKUP(AB66,'【記載例】シフト記号表（勤務時間帯）'!$D$6:$Z$47,23,FALSE)) | ... AY68: =IF(AY66="","",VLOOKUP(AY66,'【記載例】シフト記号表（勤務時間帯）'!$D$6:$Z$47,23,FALSE)) | AZ68: =IF($BC$3="４週",SUM(U68:AV68),IF($BC$3="暦月",SUM(U68:AY68),"")) -> 0 | BB68: =IF($BC$3="４週",AZ68/4,IF($BC$3="暦月",(AZ68/($BC$8/7)),"")) -> 0
B69: (15) 宿直① （上記における該当者のNoを記載） | U69: 10 | V69: 11 | W69: 12 | X69: 13 | Y69: 14 | Z69: 15 | AA69: 16 | AB69: 10 | AC69: 11 | AD69: 12 | AE69: 13 | AF69: 14 | AG69: 15 | AH69: 16 | AI69: 10 | AJ69: 11 | AK69: 12 | AL69: 13 | AM69: 14 | AN69: 15 | AO69: 16 | AP69: 10 | AQ69: 11 | AR69: 12 | AS69: 13 | AT69: 14 | AU69: 15 | AV69: 16
B70: (15) 宿直② （上記における該当者のNoを記載）
B71: (16) 日ごとの実利用者数 | U71: 9 | V71: 9 | W71: 9 | X71: 9 | Y71: 9 | Z71: 9 | AA71: 9 | AB71: 9 | AC71: 9 | AD71: 9 | AE71: 9 | AF71: 9 | AG71: 9 | AH71: 9 | AI71: 9 | AJ71: 9 | AK71: 9 | AL71: 9 | AM71: 9 | AN71: 9 | AO71: 9 | AP71: 9 | AQ71: 9 | AR71: 9 | AS71: 9 | AT71: 9 | AU71: 9 | AV71: 9
B72: (17) 介護従業者の日中の勤務時間の合計 | U72: =IF(SUMIF($F$21:$F$68,"介護従業者",U21:U68)=0,"",SUMIF($F$21:$F$68,"介護従業者",U21:U68)) -> 42.5 | V72: =IF(SUMIF($F$21:$F$68,"介護従業者",V21:V68)=0,"",SUMIF($F$21:$F$68,"介護従業者",V21:V68)) -> 44.5 | W72: =IF(SUMIF($F$21:$F$68,"介護従業者",W21:W68)=0,"",SUMIF($F$21:$F$68,"介護従業者",W21:W68)) -> 42.5 | X72: =IF(SUMIF($F$21:$F$68,"介護従業者",X21:X68)=0,"",SUMIF($F$21:$F$68,"介護従業者",X21:X68)) -> 44 | Y72: =IF(SUMIF($F$21:$F$68,"介護従業者",Y21:Y68)=0,"",SUMIF($F$21:$F$68,"介護従業者",Y21:Y68)) -> 44 | Z72: =IF(SUMIF($F$21:$F$68,"介護従業者",Z21:Z68)=0,"",SUMIF($F$21:$F$68,"介護従業者",Z21:Z68)) -> 42 | AA72: =IF(SUMIF($F$21:$F$68,"介護従業者",AA21:AA68)=0,"",SUMIF($F$21:$F$68,"介護従業者",AA21:AA68)) -> 40 | AB72: =IF(SUMIF($F$21:$F$68,"介護従業者",AB21:AB68)=0,"",SUMIF($F$21:$F$68,"介護従業者",AB21:AB68)) -> 42.5 | ... AY72: =IF(SUMIF($F$21:$F$68,"介護従業者",AY21:AY68)=0,"",SUMIF($F$21:$F$68,"介護従業者",AY21:AY68)) | AZ72: =IF($BC$3="４週",SUM(U72:AV72),IF($BC$3="暦月",SUM(U72:AY72),"")) -> 1198
B73: (18) 介護従業者の夜間・深夜の勤務時間の合計 | U73: =IF(SUMIF($G$21:$G$68,"介護従業者",U21:U68)=0,"",SUMIF($G$21:$G$68,"介護従業者",U21:U68)) -> 10 | V73: =IF(SUMIF($G$21:$G$68,"介護従業者",V21:V68)=0,"",SUMIF($G$21:$G$68,"介護従業者",V21:V68)) -> 10 | W73: =IF(SUMIF($G$21:$G$68,"介護従業者",W21:W68)=0,"",SUMIF($G$21:$G$68,"介護従業者",W21:W68)) -> 10 | X73: =IF(SUMIF($G$21:$G$68,"介護従業者",X21:X68)=0,"",SUMIF($G$21:$G$68,"介護従業者",X21:X68)) -> 10 | Y73: =IF(SUMIF($G$21:$G$68,"介護従業者",Y21:Y68)=0,"",SUMIF($G$21:$G$68,"介護従業者",Y21:Y68)) -> 10 | Z73: =IF(SUMIF($G$21:$G$68,"介護従業者",Z21:Z68)=0,"",SUMIF($G$21:$G$68,"介護従業者",Z21:Z68)) -> 10 | AA73: =IF(SUMIF($G$21:$G$68,"介護従業者",AA21:AA68)=0,"",SUMIF($G$21:$G$68,"介護従業者",AA21:AA68)) -> 10 | AB73: =IF(SUMIF($G$21:$G$68,"介護従業者",AB21:AB68)=0,"",SUMIF($G$21:$G$68,"介護従業者",AB21:AB68)) -> 10 | ... AY73: =IF(SUMIF($G$21:$G$68,"介護従業者",AY21:AY68)=0,"",SUMIF($G$21:$G$68,"介護従業者",AY21:AY68)) | AZ73: =IF($BC$3="４週",SUM(U73:AV73),IF($BC$3="暦月",SUM(U73:AY73),"")) -> 280

Sheet 【記載例】シフト記号表（勤務時間帯）
B1: ≪要 提出≫
B2: ■シフト記号表（勤務時間帯）
B3: ※24時間表記 | F3: 休憩時間1時間は「1:00」、休憩時間45分は「00:45」と入力してください。
F4: 勤務時間 | N4: 日中の時間帯 | R4: 日中の勤務時間 | Z4: 夜間及び深夜 | AB4: 自由記載欄
B5: No | C5: 記号 | F5: 始業時刻 | H5: 終業時刻 | J5: うち、休憩時間 | L5: 勤務時間 | N5: 開始時刻 | P5: 終了時刻 | R5: 開始時刻 | T5: 終了時刻 | V5: うち、休憩時間 | X5: 勤務時間 | Z5: の勤務時間
B6: 1 | C6: a | D6: =C6 -> a | E6: ： | F6: 0.29166667 | G6: ～ | H6: 0.66666667 | I6: （ | J6: 0.041666667 | K6: ） | L6: =IF(OR(F6="",H6=""),"",(H6+IF(F6>H6,1,0)-F6-J6)*24) -> 8 | N6: =【記載例】認知症対応型共同生活介護!$BB$13 -> 0.29166667 | O6: ～ | P6: =【記載例】認知症対応型共同生活介護!$BF$13 -> 0.83333333 | R6: =IF(F6="","",IF(F6<N6,N6,IF(F6>=P6,"",F6))) -> 0.29166667 | S6: ～ | T6: =IF(H6="","",IF(H6>F6,IF(H6<P6,H6,P6),P6)) -> 0.66666667 | U6: （ | V6: 0.041666667 | W6: ） | X6: =IF(R6="","",IF((T6+IF(R6>T6,1,0)-R6-V6)*24=0,"",(T6+IF(R6>T6,1,0)-R6-V6)*24)) -> 8 | Z6: =IF(X6="",L6,IF(OR(L6-X6=0,L6-X6<0),"-",L6-X6)) -> -
B7: 2 | C7: b | D7: =C7 -> b | E7: ： | F7: 0.45833333 | G7: ～ | H7: 0.83333333 | I7: （ | J7: 0.041666667 | K7: ） | L7: =IF(OR(F7="",H7=""),"",(H7+IF(F7>H7,1,0)-F7-J7)*24) -> 8 | N7: =【記載例】認知症対応型共同生活介護!$BB$13 -> 0.29166667 | O7: ～ | P7: =【記載例】認知症対応型共同生活介護!$BF$13 -> 0.83333333 | R7: =IF(F7="","",IF(F7<N7,N7,IF(F7>=P7,"",F7))) -> 0.45833333 | S7: ～ | T7: =IF(H7="","",IF(H7>F7,IF(H7<P7,H7,P7),P7)) -> 0.83333333 | U7: （ | V7: 0.041666667 | W7: ） | X7: =IF(R7="","",IF((T7+IF(R7>T7,1,0)-R7-V7)*24=0,"",(T7+IF(R7>T7,1,0)-R7-V7)*24)) -> 8 | Z7: =IF(X7="",L7,IF(OR(L7-X7=0,L7-X7<0),"-",L7-X7)) -> -
B8: 3 | C8: c | D8: =C8 -> c | E8: ： | F8: 0.375 | G8: ～ | H8: 0.75 | I8: （ | J8: 0.041666667 | K8: ） | L8: =IF(OR(F8="",H8=""),"",(H8+IF(F8>H8,1,0)-F8-J8)*24) -> 8 | N8: =【記載例】認知症対応型共同生活介護!$BB$13 -> 0.29166667 | O8: ～ | P8: =【記載例】認知症対応型共同生活介護!$BF$13 -> 0.83333333 | R8: =IF(F8="","",IF(F8<N8,N8,IF(F8>=P8,"",F8))) -> 0.375 | S8: ～ | T8: =IF(H8="","",IF(H8>F8,IF(H8<P8,H8,P8),P8)) -> 0.75 | U8: （ | V8: 0.041666667 | W8: ） | X8: =IF(R8="","",IF((T8+IF(R8>T8,1,0)-R8-V8)*24=0,"",(T8+IF(R8>T8,1,0)-R8-V8)*24)) -> 8 | Z8: =IF(X8="",L8,IF(OR(L8-X8=0,L8-X8<0),"-",L8-X8)) -> -
B9: 4 | C9: d | D9: =C9 -> d | E9: ： | F9: 0.35416667 | G9: ～ | H9: 0.72916667 | I9: （ | J9: 0.041666667 | K9: ） | L9: =IF(OR(F9="",H9=""),"",(H9+IF(F9>H9,1,0)-F9-J9)*24) -> 8 | N9: =【記載例】認知症対応型共同生活介護!$BB$13 -> 0.29166667 | O9: ～ | P9: =【記載例】認知症対応型共同生活介護!$BF$13 -> 0.83333333 | R9: =IF(F9="","",IF(F9<N9,N9,IF(F9>=P9,"",F9))) -> 0.35416667 | S9: ～ | T9: =IF(H9="","",IF(H9>F9,IF(H9<P9,H9,P9),P9)) -> 0.72916667 | U9: （ | V9: 0.041666667 | W9: ） | X9: =IF(R9="","",IF((T9+IF(R9>T9,1,0)-R9-V9)*24=0,"",(T9+IF(R9>T9,1,0)-R9-V9)*24)) -> 8 | Z9: =IF(X9="",L9,IF(OR(L9-X9=0,L9-X9<0),"-",L9-X9)) -> -
B10: 5 | C10: e | D10: =C10 -> e | E10: ： | F10: 0.375 | G10: ～ | H10: 0.625 | I10: （ | J10: 0 | K10: ） | L10: =IF(OR(F10="",H10=""),"",(H10+IF(F10>H10,1,0)-F10-J10)*24) -> 6 | N10: =【記載例】認知症対応型共同生活介護!$BB$13 -> 0.29166667 | O10: ～ | P10: =【記載例】認知症対応型共同生活介護!$BF$13 -> 0.83333333 | R10: =IF(F10="","",IF(F10<N10,N10,IF(F10>=P10,"",F10))) -> 0.375 | S10: ～ | T10: =IF(H10="","",IF(H10>F10,IF(H10<P10,H10,P10),P10)) -> 0.625 | U10: （ | V10: 0 | W10: ） | X10: =IF(R10="","",IF((T10+IF(R10>T10,1,0)-R10-V10)*24=0,"",(T10+IF(R10>T10,1,0)-R10-V10)*24)) -> 6 | Z10: =IF(X10="",L10,IF(OR(L10-X10=0,L10-X10<0),"-",L10-X10)) -> -
B11: 6 | C11: f | D11: =C11 -> f | E11: ： | F11: 0.41666667 | G11: ～ | H11: 0.66666667 | I11: （ | J11: 0 | K11: ） | L11: =IF(OR(F11="",H11=""),"",(H11+IF(F11>H11,1,0)-F11-J11)*24) -> 6 | N11: =【記載例】認知症対応型共同生活介護!$BB$13 -> 0.29166667 | O11: ～ | P11: =【記載例】認知症対応型共同生活介護!$BF$13 -> 0.83333333 | R11: =IF(F11="","",IF(F11<N11,N11,IF(F11>=P11,"",F11))) -> 0.41666667 | S11: ～ | T11: =IF(H11="","",IF(H11>F11,IF(H11<P11,H11,P11),P11)) -> 0.66666667 | U11: （ | V11: 0 | W11: ） | X11: =IF(R11="","",IF((T11+IF(R11>T11,1,0)-R11-V11)*24=0,"",(T11+IF(R11>T11,1,0)-R11-V11)*24)) -> 6 | Z11: =IF(X11="",L11,IF(OR(L11-X11=0,L11-X11<0),"-",L11-X11)) -> -
B12: 7 | C12: g | D12: =C12 -> g | E12: ： | F12: 0.29166667 | G12: ～ | H12: 0.39583333 | I12: （ | J12: 0 | K12: ） | L12: =IF(OR(F12="",H12=""),"",(H12+IF(F12>H12,1,0)-F12-J12)*24) -> 2.5 | N12: =【記載例】認知症対応型共同生活介護!$BB$13 -> 0.29166667 | O12: ～ | P12: =【記載例】認知症対応型共同生活介護!$BF$13 -> 0.83333333 | R12: =IF(F12="","",IF(F12<N12,N12,IF(F12>=P12,"",F12))) -> 0.29166667 | S12: ～ | T12: =IF(H12="","",IF(H12>F12,IF(H12<P12,H12,P12),P12)) -> 0.39583333 | U12: （ | V12: 0 | W12: ） | X12: =IF(R12="","",IF((T12+IF(R12>T12,1,0)-R12-V12)*24=0,"",(T12+IF(R12>T12,1,0)-R12-V12)*24)) -> 2.5 | Z12: =IF(X12="",L12,IF(OR(L12-X12=0,L12-X12<0),"-",L12-X12)) -> -
B13: 8 | C13: h | D13: =C13 -> h | E13: ： | F13: 0.66666667 | G13: ～ | H13: 0.83333333 | I13: （ | J13: 0 | K13: ） | L13: =IF(OR(F13="",H13=""),"",(H13+IF(F13>H13,1,0)-F13-J13)*24) -> 4 | N13: =【記載例】認知症対応型共同生活介護!$BB$13 -> 0.29166667 | O13: ～ | P13: =【記載例】認知症対応型共同生活介護!$BF$13 -> 0.83333333 | R13: =IF(F13="","",IF(F13<N13,N13,IF(F13>=P13,"",F13))) -> 0.66666667 | S13: ～ | T13: =IF(H13="","",IF(H13>F13,IF(H13<P13,H13,P13),P13)) -> 0.83333333 | U13: （ | V13: 0 | W13: ） | X13: =IF(R13="","",IF((T13+IF(R13>T13,1,0)-R13-V13)*24=0,"",(T13+IF(R13>T13,1,0)-R13-V13)*24)) -> 4 | Z13: =IF(X13="",L13,IF(OR(L13-X13=0,L13-X13<0),"-",L13-X13)) -> -
B14: 9 | C14: i | D14: =C14 -> i | E14: ： | F14: 0.70833333 | G14: ～ | H14: 1 | I14: （ | J14: 0 | K14: ） | L14: =IF(OR(F14="",H14=""),"",(H14+IF(F14>H14,1,0)-F14-J14)*24) -> 7 | N14: =【記載例】認知症対応型共同生活介護!$BB$13 -> 0.29166667 | O14: ～ | P14: =【記載例】認知症対応型共同生活介護!$BF$13 -> 0.83333333 | R14: =IF(F14="","",IF(F14<N14,N14,IF(F14>=P14,"",F14))) -> 0.70833333 | S14: ～ | T14: =IF(H14="","",IF(H14>F14,IF(H14<P14,H14,P14),P14)) -> 0.83333333 | U14: （ | V14: 0 | W14: ） | X14: =IF(R14="","",IF((T14+IF(R14>T14,1,0)-R14-V14)*24=0,"",(T14+IF(R14>T14,1,0)-R14-V14)*24)) -> 3 | Z14: =IF(X14="",L14,IF(OR(L14-X14=0,L14-X14<0),"-",L14-X14)) -> 4 | AB14: （夜勤）17:00～翌10:00勤務
B15: 10 | C15: j | D15: =C15 -> j | E15: ： | F15: 0 | G15: ～ | H15: 0.41666667 | I15: （ | J15: 0.041666667 | K15: ） | L15: =IF(OR(F15="",H15=""),"",(H15+IF(F15>H15,1,0)-F15-J15)*24) -> 9 | N15: =【記載例】認知症対応型共同生活介護!$BB$13 -> 0.29166667 | O15: ～ | P15: =【記載例】認知症対応型共同生活介護!$BF$13 -> 0.83333333 | R15: =IF(F15="","",IF(F15<N15,N15,IF(F15>=P15,"",F15))) -> 0.29166667 | S15: ～ | T15: =IF(H15="","",IF(H15>F15,IF(H15<P15,H15,P15),P15)) -> 0.41666667 | U15: （ | V15: 0 | W15: ） | X15: =IF(R15="","",IF((T15+IF(R15>T15,1,0)-R15-V15)*24=0,"",(T15+IF(R15>T15,1,0)-R15-V15)*24)) -> 3 | Z15: =IF(X15="",L15,IF(OR(L15-X15=0,L15-X15<0),"-",L15-X15)) -> 6 | AB15: （夜勤）17:00～翌10:00勤務
B16: 11 | C16: k | D16: =C16 -> k | E16: ： | G16: ～ | I16: （ | J16: 0 | K16: ） | L16: =IF(OR(F16="",H16=""),"",(H16+IF(F16>H16,1,0)-F16-J16)*24) | N16: =【記載例】認知症対応型共同生活介護!$BB$13 -> 0.29166667 | O16: ～ | P16: =【記載例】認知症対応型共同生活介護!$BF$13 -> 0.83333333 | R16: =IF(F16="","",IF(F16<N16,N16,IF(F16>=P16,"",F16))) | S16: ～ | T16: =IF(H16="","",IF(H16>F16,IF(H16<P16,H16,P16),P16)) | U16: （ | V16: 0 | W16: ） | X16: =IF(R16="","",IF((T16+IF(R16>T16,1,0)-R16-V16)*24=0,"",(T16+IF(R16>T16,1,0)-R16-V16)*24)) | Z16: =IF(X16="",L16,IF(OR(L16-X16=0,L16-X16<0),"-",L16-X16))
B17: 12 | C17: l | D17: =C17 -> l | E17: ： | G17: ～ | I17: （ | J17: 0 | K17: ） | L17: =IF(OR(F17="",H17=""),"",(H17+IF(F17>H17,1,0)-F17-J17)*24) | N17: =【記載例】認知症対応型共同生活介護!$BB$13 -> 0.29166667 | O17: ～ | P17: =【記載例】認知症対応型共同生活介護!$BF$13 -> 0.83333333 | R17: =IF(F17="","",IF(F17<N17,N17,IF(F17>=P17,"",F17))) | S17: ～ | T17: =IF(H17="","",IF(H17>F17,IF(H17<P17,H17,P17),P17)) | U17: （ | V17: 0 | W17: ） | X17: =IF(R17="","",IF((T17+IF(R17>T17,1,0)-R17-V17)*24=0,"",(T17+IF(R17>T17,1,0)-R17-V17)*24)) | Z17: =IF(X17="",L17,IF(OR(L17-X17=0,L17-X17<0),"-",L17-X17))
B18: 13 | C18: m | D18: =C18 -> m | E18: ： | G18: ～ | I18: （ | J18: 0 | K18: ） | L18: =IF(OR(F18="",H18=""),"",(H18+IF(F18>H18,1,0)-F18-J18)*24) | N18: =【記載例】認知症対応型共同生活介護!$BB$13 -> 0.29166667 | O18: ～ | P18: =【記載例】認知症対応型共同生活介護!$BF$13 -> 0.83333333 | R18: =IF(F18="","",IF(F18<N18,N18,IF(F18>=P18,"",F18))) | S18: ～ | T18: =IF(H18="","",IF(H18>F18,IF(H18<P18,H18,P18),P18)) | U18: （ | V18: 0 | W18: ） | X18: =IF(R18="","",IF((T18+IF(R18>T18,1,0)-R18-V18)*24=0,"",(T18+IF(R18>T18,1,0)-R18-V18)*24)) | Z18: =IF(X18="",L18,IF(OR(L18-X18=0,L18-X18<0),"-",L18-X18))
B19: 14 | C19: n | D19: =C19 -> n | E19: ： | G19: ～ | I19: （ | J19: 0 | K19: ） | L19: =IF(OR(F19="",H19=""),"",(H19+IF(F19>H19,1,0)-F19-J19)*24) | N19: =【記載例】認知症対応型共同生活介護!$BB$13 -> 0.29166667 | O19: ～ | P19: =【記載例】認知症対応型共同生活介護!$BF$13 -> 0.83333333 | R19: =IF(F19="","",IF(F19<N19,N19,IF(F19>=P19,"",F19))) | S19: ～ | T19: =IF(H19="","",IF(H19>F19,IF(H19<P19,H19,P19),P19)) | U19: （ | V19: 0 | W19: ） | X19: =IF(R19="","",IF((T19+IF(R19>T19,1,0)-R19-V19)*24=0,"",(T19+IF(R19>T19,1,0)-R19-V19)*24)) | Z19: =IF(X19="",L19,IF(OR(L19-X19=0,L19-X19<0),"-",L19-X19))
B20: 15 | C20: o | D20: =C20 -> o | E20: ： | G20: ～ | I20: （ | J20: 0 | K20: ） | L20: =IF(OR(F20="",H20=""),"",(H20+IF(F20>H20,1,0)-F20-J20)*24) | N20: =【記載例】認知症対応型共同生活介護!$BB$13 -> 0.29166667 | O20: ～ | P20: =【記載例】認知症対応型共同生活介護!$BF$13 -> 0.83333333 | R20: =IF(F20="","",IF(F20<N20,N20,IF(F20>=P20,"",F20))) | S20: ～ | T20: =IF(H20="","",IF(H20>F20,IF(H20<P20,H20,P20),P20)) | U20: （ | V20: 0 | W20: ） | X20: =IF(R20="","",IF((T20+IF(R20>T20,1,0)-R20-V20)*24=0,"",(T20+IF(R20>T20,1,0)-R20-V20)*24)) | Z20: =IF(X20="",L20,IF(OR(L20-X20=0,L20-X20<0),"-",L20-X20))
B21: 16 | C21: p | D21: =C21 -> p | E21: ： | G21: ～ | I21: （ | J21: 0 | K21: ） | L21: =IF(OR(F21="",H21=""),"",(H21+IF(F21>H21,1,0)-F21-J21)*24) | N21: =【記載例】認知症対応型共同生活介護!$BB$13 -> 0.29166667 | O21: ～ | P21: =【記載例】認知症対応型共同生活介護!$BF$13 -> 0.83333333 | R21: =IF(F21="","",IF(F21<N21,N21,IF(F21>=P21,"",F21))) | S21: ～ | T21: =IF(H21="","",IF(H21>F21,IF(H21<P21,H21,P21),P21)) | U21: （ | V21: 0 | W21: ） | X21: =IF(R21="","",IF((T21+IF(R21>T21,1,0)-R21-V21)*24=0,"",(T21+IF(R21>T21,1,0)-R21-V21)*24)) | Z21: =IF(X21="",L21,IF(OR(L21-X21=0,L21-X21<0),"-",L21-X21))
B22: 17 | C22: q | D22: =C22 -> q | E22: ： | G22: ～ | I22: （ | J22: 0 | K22: ） | L22: =IF(OR(F22="",H22=""),"",(H22+IF(F22>H22,1,0)-F22-J22)*24) | N22: =【記載例】認知症対応型共同生活介護!$BB$13 -> 0.29166667 | O22: ～ | P22: =【記載例】認知症対応型共同生活介護!$BF$13 -> 0.83333333 | R22: =IF(F22="","",IF(F22<N22,N22,IF(F22>=P22,"",F22))) | S22: ～ | T22: =IF(H22="","",IF(H22>F22,IF(H22<P22,H22,P22),P22)) | U22: （ | V22: 0 | W22: ） | X22: =IF(R22="","",IF((T22+IF(R22>T22,1,0)-R22-V22)*24=0,"",(T22+IF(R22>T22,1,0)-R22-V22)*24)) | Z22: =IF(X22="",L22,IF(OR(L22-X22=0,L22-X22<0),"-",L22-X22))
B23: 18 | C23: r | D23: =C23 -> r | E23: ： | G23: ～ | I23: （ | K23: ） | L23: 1 | O23: ～ | S23: ～ | U23: （ | W23: ） | X23: 1 | Z23: -
B24: 19 | C24: s | D24: =C24 -> s | E24: ： | G24: ～ | I24: （ | K24: ） | L24: 2 | O24: ～ | S24: ～ | U24: （ | W24: ） | X24: 2 | Z24: -
B25: 20 | C25: t | D25: =C25 -> t | E25: ： | G25: ～ | I25: （ | K25: ） | L25: 3 | O25: ～ | S25: ～ | U25: （ | W25: ） | X25: 3 | Z25: -
B26: 21 | C26: u | D26: =C26 -> u | E26: ： | G26: ～ | I26: （ | K26: ） | L26: 4 | O26: ～ | S26: ～ | U26: （ | W26: ） | X26: 4 | Z26: -
B27: 22 | C27: v | D27: =C27 -> v | E27: ： | G27: ～ | I27: （ | K27: ） | L27: 5 | O27: ～ | S27: ～ | U27: （ | W27: ） | X27: 5 | Z27: -
B28: 23 | C28: w | D28: =C28 -> w | E28: ： | G28: ～ | I28: （ | K28: ） | L28: 6 | O28: ～ | S28: ～ | U28: （ | W28: ） | X28: 6 | Z28: -
B29: 24 | C29: x | D29: =C29 -> x | E29: ： | G29: ～ | I29: （ | K29: ） | L29: 7 | O29: ～ | S29: ～ | U29: （ | W29: ） | X29: 7 | Z29: -
B30: 25 | C30: y | D30: =C30 -> y | E30: ： | G30: ～ | I30: （ | K30: ） | L30: 8 | O30: ～ | S30: ～ | U30: （ | W30: ） | X30: 8 | Z30: -
B31: 26 | C31: z | D31: =C31 -> z | E31: ： | G31: ～ | I31: （ | K31: ） | L31: 1 | O31: ～ | S31: ～ | U31: （ | W31: ） | X31: - | Z31: 1
B32: 27 | C32: x | D32: =C32 -> x | E32: ： | G32: ～ | I32: （ | K32: ） | L32: 2 | O32: ～ | S32: ～ | U32: （ | W32: ） | X32: - | Z32: 2
B33: 28 | C33: aa | D33: =C33 -> aa | E33: ： | G33: ～ | I33: （ | K33: ） | L33: 3 | O33: ～ | S33: ～ | U33: （ | W33: ） | X33: - | Z33: 3
B34: 29 | C34: ab | D34: =C34 -> ab | E34: ： | G34: ～ | I34: （ | K34: ） | L34: 4 | O34: ～ | S34: ～ | U34: （ | W34: ） | X34: - | Z34: 4
B35: 30 | C35: ac | D35: =C35 -> ac | E35: ： | G35: ～ | I35: （ | K35: ） | L35: 5 | O35: ～ | S35: ～ | U35: （ | W35: ） | X35: - | Z35: 5
B36: 31 | C36: ad | D36: =C36 -> ad | E36: ： | G36: ～ | I36: （ | K36: ） | L36: 6 | O36: ～ | S36: ～ | U36: （ | W36: ） | X36: - | Z36: 6
B37: 32 | C37: ae | D37: =C37 -> ae | E37: ： | G37: ～ | I37: （ | K37: ） | L37: 7 | O37: ～ | S37: ～ | U37: （ | W37: ） | X37: - | Z37: 7
B38: 33 | C38: af | D38: =C38 -> af | E38: ： | G38: ～ | I38: （ | K38: ） | L38: 8 | O38: ～ | S38: ～ | U38: （ | W38: ） | X38: - | Z38: 8
B39: 34 | C39: ag | E39: ： | F39: 0.29166667 | G39: ～ | H39: 0.39583333 | I39: （ | J39: 0 | K39: ） | L39: =IF(OR(F39="",H39=""),"",(H39+IF(F39>H39,1,0)-F39-J39)*24) -> 2.5 | N39: =【記載例】認知症対応型共同生活介護!$BB$13 -> 0.29166667 | O39: ～ | P39: =【記載例】認知症対応型共同生活介護!$BF$13 -> 0.83333333 | R39: =IF(F39="","",IF(F39<N39,N39,IF(F39>=P39,"",F39))) -> 0.29166667 | S39: ～ | T39: =IF(H39="","",IF(H39>F39,IF(H39<P39,H39,P39),P39)) -> 0.39583333 | U39: （ | V39: 0 | W39: ） | X39: =IF(R39="","",IF((T39+IF(R39>T39,1,0)-R39-V39)*24=0,"",(T39+IF(R39>T39,1,0)-R39-V39)*24)) -> 2.5 | Z39: =IF(X39="",L39,IF(OR(L39-X39=0,L39-X39<0),"-",L39-X39)) -> -
C40: - | E40: ： | F40: 0.6875 | G40: ～ | H40: 0.83333333 | I40: （ | J40: 0 | K40: ） | L40: =IF(OR(F40="",H40=""),"",(H40+IF(F40>H40,1,0)-F40-J40)*24) -> 3.5 | N40: =【記載例】認知症対応型共同生活介護!$BB$13 -> 0.29166667 | O40: ～ | P40: =【記載例】認知症対応型共同生活介護!$BF$13 -> 0.83333333 | R40: =IF(F40="","",IF(F40<N40,N40,IF(F40>=P40,"",F40))) -> 0.6875 | S40: ～ | T40: =IF(H40="","",IF(H40>F40,IF(H40<P40,H40,P40),P40)) -> 0.83333333 | U40: （ | V40: 0 | W40: ） | X40: =IF(R40="","",IF((T40+IF(R40>T40,1,0)-R40-V40)*24=0,"",(T40+IF(R40>T40,1,0)-R40-V40)*24)) -> 3.5 | Z40: =IF(X40="",L40,IF(OR(L40-X40=0,L40-X40<0),"-",L40-X40)) -> -
C41: - | D41: =C39 -> ag | E41: ： | F41: - | G41: ～ | H41: - | I41: （ | J41: - | K41: ） | L41: =IF(OR(L39="",L40=""),"",L39+L40) -> 6 | N41: - | O41: ～ | P41: - | R41: - | S41: ～ | T41: - | U41: （ | V41: - | W41: ） | X41: =IF(OR(X39="",X40=""),"",X39+X40) -> 6 | Z41: =IF(X41="",L41,IF(OR(L41-X41=0,L41-X41<0),"-",L41-X41)) -> - | AB41: 1日に2回勤務する場合
C42: ah | E42: ： | G42: ～ | I42: （ | J42: 0 | K42: ） | L42: =IF(OR(F42="",H42=""),"",(H42+IF(F42>H42,1,0)-F42-J42)*24) | N42: =【記載例】認知症対応型共同生活介護!$BB$13 -> 0.29166667 | O42: ～ | P42: =【記載例】認知症対応型共同生活介護!$BF$13 -> 0.83333333 | R42: =IF(F42="","",IF(F42<N42,N42,IF(F42>=P42,"",F42))) | S42: ～ | T42: =IF(H42="","",IF(H42>F42,IF(H42<P42,H42,P42),P42)) | U42: （ | V42: 0 | W42: ） | X42: =IF(R42="","",IF((T42+IF(R42>T42,1,0)-R42-V42)*24=0,"",(T42+IF(R42>T42,1,0)-R42-V42)*24)) | Z42: =IF(X42="",L42,IF(OR(L42-X42=0,L42-X42<0),"-",L42-X42))
B43: 35 | C43: - | E43: ： | G43: ～ | I43: （ | J43: 0 | K43: ） | L43: =IF(OR(F43="",H43=""),"",(H43+IF(F43>H43,1,0)-F43-J43)*24) | N43: =【記載例】認知症対応型共同生活介護!$BB$13 -> 0.29166667 | O43: ～ | P43: =【記載例】認知症対応型共同生活介護!$BF$13 -> 0.83333333 | R43: =IF(F43="","",IF(F43<N43,N43,IF(F43>=P43,"",F43))) | S43: ～ | T43: =IF(H43="","",IF(H43>F43,IF(H43<P43,H43,P43),P43)) | U43: （ | V43: 0 | W43: ） | X43: =IF(R43="","",IF((T43+IF(R43>T43,1,0)-R43-V43)*24=0,"",(T43+IF(R43>T43,1,0)-R43-V43)*24)) | Z43: =IF(X43="",L43,IF(OR(L43-X43=0,L43-X43<0),"-",L43-X43))
C44: - | D44: =C42 -> ah | E44: ： | F44: - | G44: ～ | H44: - | I44: （ | J44: - | K44: ） | L44: =IF(OR(L42="",L43=""),"",L42+L43) | N44: - | O44: ～ | P44: - | R44: - | S44: ～ | T44: - | U44: （ | V44: - | W44: ） | X44: =IF(OR(X42="",X43=""),"",X42+X43) | Z44: =IF(X44="",L44,IF(OR(L44-X44=0,L44-X44<0),"-",L44-X44)) | AB44: 1日に2回勤務する場合
C45: ai | E45: ： | G45: ～ | I45: （ | J45: 0 | K45: ） | L45: =IF(OR(F45="",H45=""),"",(H45+IF(F45>H45,1,0)-F45-J45)*24) | N45: =【記載例】認知症対応型共同生活介護!$BB$13 -> 0.29166667 | O45: ～ | P45: =【記載例】認知症対応型共同生活介護!$BF$13 -> 0.83333333 | R45: =IF(F45="","",IF(F45<N45,N45,IF(F45>=P45,"",F45))) | S45: ～ | T45: =IF(H45="","",IF(H45>F45,IF(H45<P45,H45,P45),P45)) | U45: （ | V45: 0 | W45: ） | X45: =IF(R45="","",IF((T45+IF(R45>T45,1,0)-R45-V45)*24=0,"",(T45+IF(R45>T45,1,0)-R45-V45)*24)) | Z45: =IF(X45="",L45,IF(OR(L45-X45=0,L45-X45<0),"-",L45-X45))
B46: 36 | C46: - | E46: ： | G46: ～ | I46: （ | J46: 0 | K46: ） | L46: =IF(OR(F46="",H46=""),"",(H46+IF(F46>H46,1,0)-F46-J46)*24) | N46: =【記載例】認知症対応型共同生活介護!$BB$13 -> 0.29166667 | O46: ～ | P46: =【記載例】認知症対応型共同生活介護!$BF$13 -> 0.83333333 | R46: =IF(F46="","",IF(F46<N46,N46,IF(F46>=P46,"",F46))) | S46: ～ | T46: =IF(H46="","",IF(H46>F46,IF(H46<P46,H46,P46),P46)) | U46: （ | V46: 0 | W46: ） | X46: =IF(R46="","",IF((T46+IF(R46>T46,1,0)-R46-V46)*24=0,"",(T46+IF(R46>T46,1,0)-R46-V46)*24)) | Z46: =IF(X46="",L46,IF(OR(L46-X46=0,L46-X46<0),"-",L46-X46))
C47: - | D47: =C45 -> ai | E47: ： | F47: - | G47: ～ | H47: - | I47: （ | J47: - | K47: ） | L47: =IF(OR(L45="",L46=""),"",L45+L46) | N47: - | O47: ～ | P47: - | R47: - | S47: ～ | T47: - | U47: （ | V47: - | W47: ） | X47: =IF(OR(X45="",X46=""),"",X45+X46) | Z47: =IF(X47="",L47,IF(OR(L47-X47=0,L47-X47<0),"-",L47-X47)) | AB47: 1日に2回勤務する場合
C49: ・職種ごとの勤務時間を「○：○○～○：○○」と表記することが困難な場合は、No18～33を活用し、勤務時間数のみを入力してください。
C50: ・No18～33以外は始業時刻・終業時刻・休憩時間等を入力すると勤務時間数が計算されますが、入力の補助を目的とするものですので、結果に誤りがないかご確認ください。
C51: ・シフト記号が足りない場合は、適宜、行を追加してください。
C52: ・シフト記号は、適宜、使いやすい記号に変更していただいて構いません。

Sheet 認知症対応型共同生活介護(50人)
C1: （標準様式1） | K1: 従業者の勤務の体制及び勤務形態一覧表 | AQ1: サービス種別（ | AR1: 認知症対応型共同生活介護 | BH1: ）
Z2: 令和 | AA2: 6 | AC2: ( | AD2: =IF(AA2=0,"",YEAR(DATE(2018+AA2,1,1))) -> 2024 | AF2: ) | AG2: 年 | AH2: 4 | AJ2: 月 | AQ2: 事業所名（ | AR2: ○○○○ | BH2: ）
BB3: (1) | BC3: ４週
BB4: (2) | BC4: 予定
AM6: (3) 事業所における常勤の従業者が勤務すべき時間数 | AY6: 40 | BA6: 時間/週 | BC6: 160 | BE6: 時間/月
AZ8: 当月の日数 | BC8: =DAY(EOMONTH(DATE(AD2,AH2,1),0)) -> 30 | BE8: 日
AQ10: (4) 利用者数 | BA10: （前年度の平均値または推定数） | BE10: 人
AI12: (5) 事業所の共同生活住居（ユニット）数 | AS12: (6) 日中／夜間及び深夜の時間帯の区分
AO13: ユニット | AS13: 利用者の生活時間帯（日中） | BB13: 0.29166667 | BE13: ～ | BF13: 0.83333333
AO14: ユニット目 | AS14: 夜間及び深夜の時間帯 | BB14: 0.83333333 | BE14: ～ | BF14: 0.29166667
B16: No | C16: (7) 職種 | H16: (8) 勤務 形態 | I16: (9) 資格 | M16: (10) 氏 名 | P16: 日中／夜間及び深夜 の区分 | AI16: (11) | AN16: （宿直 ･･･ | AR16: ） | AZ16: =IF(BC3="計画","(12)1～4週目の勤務時間数合計","(12)1か月の勤務時間数 合計") -> (12)1か月の勤務時間数 合計 | BB16: (13) 週平均 勤務時間数 | BD16: (14) 兼務状況 （兼務先/兼務する職務の内容）等
U17: 1週目 | AB17: 2週目 | AI17: 3週目 | AP17: 4週目 | AW17: 5週目
U18: 1 | V18: 2 | W18: 3 | X18: 4 | Y18: 5 | Z18: 6 | AA18: 7 | AB18: 8 | AC18: 9 | AD18: 10 | AE18: 11 | AF18: 12 | AG18: 13 | AH18: 14 | AI18: 15 | AJ18: 16 | AK18: 17 | AL18: 18 | AM18: 19 | AN18: 20 | AO18: 21 | AP18: 22 | AQ18: 23 | AR18: 24 | AS18: 25 | AT18: 26 | AU18: 27 | AV18: 28 | AW18: =IF($BC$3="暦月",IF(DAY(DATE($AD$2,$AH$2,29))=29,29,""),"") | AX18: =IF($BC$3="暦月",IF(DAY(DATE($AD$2,$AH$2,30))=30,30,""),"") | AY18: =IF($BC$3="暦月",IF(DAY(DATE($AD$2,$AH$2,31))=31,31,""),"")
U19: =WEEKDAY(DATE($AD$2,$AH$2,1)) -> 2 | V19: =WEEKDAY(DATE($AD$2,$AH$2,2)) -> 3 | W19: =WEEKDAY(DATE($AD$2,$AH$2,3)) -> 4 | X19: =WEEKDAY(DATE($AD$2,$AH$2,4)) -> 5 | Y19: =WEEKDAY(DATE($AD$2,$AH$2,5)) -> 6 | Z19: =WEEKDAY(DATE($AD$2,$AH$2,6)) -> 7 | AA19: =WEEKDAY(DATE($AD$2,$AH$2,7)) -> 1 | AB19: =WEEKDAY(DATE($AD$2,$AH$2,8)) -> 2 | AC19: =WEEKDAY(DATE($AD$2,$AH$2,9)) -> 3 | AD19: =WEEKDAY(DATE($AD$2,$AH$2,10)) -> 4 | AE19: =WEEKDAY(DATE($AD$2,$AH$2,11)) -> 5 | AF19: =WEEKDAY(DATE($AD$2,$AH$2,12)) -> 6 | AG19: =WEEKDAY(DATE($AD$2,$AH$2,13)) -> 7 | AH19: =WEEKDAY(DATE($AD$2,$AH$2,14)) -> 1 | AI19: =WEEKDAY(DATE($AD$2,$AH$2,15)) -> 2 | AJ19: =WEEKDAY(DATE($AD$2,$AH$2,16)) -> 3 | AK19: =WEEKDAY(DATE($AD$2,$AH$2,17)) -> 4 | AL19: =WEEKDAY(DATE($AD$2,$AH$2,18)) -> 5 | AM19: =WEEKDAY(DATE($AD$2,$AH$2,19)) -> 6 | AN19: =WEEKDAY(DATE($AD$2,$AH$2,20)) -> 7 | AO19: =WEEKDAY(DATE($AD$2,$AH$2,21)) -> 1 | AP19: =WEEKDAY(DATE($AD$2,$AH$2,22)) -> 2 | AQ19: =WEEKDAY(DATE($AD$2,$AH$2,23)) -> 3 | AR19: =WEEKDAY(DATE($AD$2,$AH$2,24)) -> 4 | AS19: =WEEKDAY(DATE($AD$2,$AH$2,25)) -> 5 | AT19: =WEEKDAY(DATE($AD$2,$AH$2,26)) -> 6 | AU19: =WEEKDAY(DATE($AD$2,$AH$2,27)) -> 7 | AV19: =WEEKDAY(DATE($AD$2,$AH$2,28)) -> 1 | AW19: =IF(AW18=29,WEEKDAY(DATE($AD$2,$AH$2,29)),0) -> 0 | AX19: =IF(AX18=30,WEEKDAY(DATE($AD$2,$AH$2,30)),0) -> 0 | AY19: =IF(AY18=31,WEEKDAY(DATE($AD$2,$AH$2,31)),0) -> 0
U20: =IF(U19=1,"日",IF(U19=2,"月",IF(U19=3,"火",IF(U19=4,"水",IF(U19=5,"木",IF(U19=6,"金","土")))))) -> 月 | V20: =IF(V19=1,"日",IF(V19=2,"月",IF(V19=3,"火",IF(V19=4,"水",IF(V19=5,"木",IF(V19=6,"金","土")))))) -> 火 | W20: =IF(W19=1,"日",IF(W19=2,"月",IF(W19=3,"火",IF(W19=4,"水",IF(W19=5,"木",IF(W19=6,"金","土")))))) -> 水 | X20: =IF(X19=1,"日",IF(X19=2,"月",IF(X19=3,"火",IF(X19=4,"水",IF(X19=5,"木",IF(X19=6,"金","土")))))) -> 木 | Y20: =IF(Y19=1,"日",IF(Y19=2,"月",IF(Y19=3,"火",IF(Y19=4,"水",IF(Y19=5,"木",IF(Y19=6,"金","土")))))) -> 金 | Z20: =IF(Z19=1,"日",IF(Z19=2,"月",IF(Z19=3,"火",IF(Z19=4,"水",IF(Z19=5,"木",IF(Z19=6,"金","土")))))) -> 土 | AA20: =IF(AA19=1,"日",IF(AA19=2,"月",IF(AA19=3,"火",IF(AA19=4,"水",IF(AA19=5,"木",IF(AA19=6,"金","土")))))) -> 日 | AB20: =IF(AB19=1,"日",IF(AB19=2,"月",IF(AB19=3,"火",IF(AB19=4,"水",IF(AB19=5,"木",IF(AB19=6,"金","土")))))) -> 月 | ... AV20: =IF(AV19=1,"日",IF(AV19=2,"月",IF(AV19=3,"火",IF(AV19=4,"水",IF(AV19=5,"木",IF(AV19=6,"金","土")))))) -> 日 | AW20: =IF(AW19=1,"日",IF(AW19=2,"月",IF(AW19=3,"火",IF(AW19=4,"水",IF(AW19=5,"木",IF(AW19=6,"金",IF(AW19=0,"","土"))))))) | AX20: =IF(AX19=1,"日",IF(AX19=2,"月",IF(AX19=3,"火",IF(AX19=4,"水",IF(AX19=5,"木",IF(AX19=6,"金",IF(AX19=0,"","土"))))))) | AY20: =IF(AY19=1,"日",IF(AY19=2,"月",IF(AY19=3,"火",IF(AY19=4,"水",IF(AY19=5,"木",IF(AY19=6,"金",IF(AY19=0,"","土")))))))
P21: シフト記号
B22: 1 | F22: =C21 -> 0 | P22: 日中の勤務時間数 | U22: =IF(U21="","",VLOOKUP(U21,'シフト記号表（勤務時間帯）'!$D$6:$X$47,21,FALSE)) | V22: =IF(V21="","",VLOOKUP(V21,'シフト記号表（勤務時間帯）'!$D$6:$X$47,21,FALSE)) | W22: =IF(W21="","",VLOOKUP(W21,'シフト記号表（勤務時間帯）'!$D$6:$X$47,21,FALSE)) | X22: =IF(X21="","",VLOOKUP(X21,'シフト記号表（勤務時間帯）'!$D$6:$X$47,21,FALSE)) | Y22: =IF(Y21="","",VLOOKUP(Y21,'シフト記号表（勤務時間帯）'!$D$6:$X$47,21,FALSE)) | Z22: =IF(Z21="","",VLOOKUP(Z21,'シフト記号表（勤務時間帯）'!$D$6:$X$47,21,FALSE)) | AA22: =IF(AA21="","",VLOOKUP(AA21,'シフト記号表（勤務時間帯）'!$D$6:$X$47,21,FALSE)) | AB22: =IF(AB21="","",VLOOKUP(AB21,'シフト記号表（勤務時間帯）'!$D$6:$X$47,21,FALSE)) | ... AY22: =IF(AY21="","",VLOOKUP(AY21,'シフト記号表（勤務時間帯）'!$D$6:$X$47,21,FALSE)) | AZ22: =IF($BC$3="４週",SUM(U22:AV22),IF($BC$3="暦月",SUM(U22:AY22),"")) -> 0 | BB22: =IF($BC$3="４週",AZ22/4,IF($BC$3="暦月",(AZ22/($BC$8/7)),"")) -> 0
G23: =C21 -> 0 | P23: 夜間・深夜の勤務時間数 | U23: =IF(U21="","",VLOOKUP(U21,'シフト記号表（勤務時間帯）'!$D$6:$Z$47,23,FALSE)) | V23: =IF(V21="","",VLOOKUP(V21,'シフト記号表（勤務時間帯）'!$D$6:$Z$47,23,FALSE)) | W23: =IF(W21="","",VLOOKUP(W21,'シフト記号表（勤務時間帯）'!$D$6:$Z$47,23,FALSE)) | X23: =IF(X21="","",VLOOKUP(X21,'シフト記号表（勤務時間帯）'!$D$6:$Z$47,23,FALSE)) | Y23: =IF(Y21="","",VLOOKUP(Y21,'シフト記号表（勤務時間帯）'!$D$6:$Z$47,23,FALSE)) | Z23: =IF(Z21="","",VLOOKUP(Z21,'シフト記号表（勤務時間帯）'!$D$6:$Z$47,23,FALSE)) | AA23: =IF(AA21="","",VLOOKUP(AA21,'シフト記号表（勤務時間帯）'!$D$6:$Z$47,23,FALSE)) | AB23: =IF(AB21="","",VLOOKUP(AB21,'シフト記号表（勤務時間帯）'!$D$6:$Z$47,23,FALSE)) | ... AY23: =IF(AY21="","",VLOOKUP(AY21,'シフト記号表（勤務時間帯）'!$D$6:$Z$47,23,FALSE)) | AZ23: =IF($BC$3="４週",SUM(U23:AV23),IF($BC$3="暦月",SUM(U23:AY23),"")) -> 0 | BB23: =IF($BC$3="４週",AZ23/4,IF($BC$3="暦月",(AZ23/($BC$8/7)),"")) -> 0
P24: シフト記号
B25: =B22+1 -> 2 | F25: =C24 -> 0 | P25: 日中の勤務時間数 | U25: =IF(U24="","",VLOOKUP(U24,'シフト記号表（勤務時間帯）'!$D$6:$X$47,21,FALSE)) | V25: =IF(V24="","",VLOOKUP(V24,'シフト記号表（勤務時間帯）'!$D$6:$X$47,21,FALSE)) | W25: =IF(W24="","",VLOOKUP(W24,'シフト記号表（勤務時間帯）'!$D$6:$X$47,21,FALSE)) | X25: =IF(X24="","",VLOOKUP(X24,'シフト記号表（勤務時間帯）'!$D$6:$X$47,21,FALSE)) | Y25: =IF(Y24="","",VLOOKUP(Y24,'シフト記号表（勤務時間帯）'!$D$6:$X$47,21,FALSE)) | Z25: =IF(Z24="","",VLOOKUP(Z24,'シフト記号表（勤務時間帯）'!$D$6:$X$47,21,FALSE)) | AA25: =IF(AA24="","",VLOOKUP(AA24,'シフト記号表（勤務時間帯）'!$D$6:$X$47,21,FALSE)) | AB25: =IF(AB24="","",VLOOKUP(AB24,'シフト記号表（勤務時間帯）'!$D$6:$X$47,21,FALSE)) | ... AY25: =IF(AY24="","",VLOOKUP(AY24,'シフト記号表（勤務時間帯）'!$D$6:$X$47,21,FALSE)) | AZ25: =IF($BC$3="４週",SUM(U25:AV25),IF($BC$3="暦月",SUM(U25:AY25),"")) -> 0 | BB25: =IF($BC$3="４週",AZ25/4,IF($BC$3="暦月",(AZ25/($BC$8/7)),"")) -> 0
G26: =C24 -> 0 | P26: 夜間・深夜の勤務時間数 | U26: =IF(U24="","",VLOOKUP(U24,'シフト記号表（勤務時間帯）'!$D$6:$Z$47,23,FALSE)) | V26: =IF(V24="","",VLOOKUP(V24,'シフト記号表（勤務時間帯）'!$D$6:$Z$47,23,FALSE)) | W26: =IF(W24="","",VLOOKUP(W24,'シフト記号表（勤務時間帯）'!$D$6:$Z$47,23,FALSE)) | X26: =IF(X24="","",VLOOKUP(X24,'シフト記号表（勤務時間帯）'!$D$6:$Z$47,23,FALSE)) | Y26: =IF(Y24="","",VLOOKUP(Y24,'シフト記号表（勤務時間帯）'!$D$6:$Z$47,23,FALSE)) | Z26: =IF(Z24="","",VLOOKUP(Z24,'シフト記号表（勤務時間帯）'!$D$6:$Z$47,23,FALSE)) | AA26: =IF(AA24="","",VLOOKUP(AA24,'シフト記号表（勤務時間帯）'!$D$6:$Z$47,23,FALSE)) | AB26: =IF(AB24="","",VLOOKUP(AB24,'シフト記号表（勤務時間帯）'!$D$6:$Z$47,23,FALSE)) | ... AY26: =IF(AY24="","",VLOOKUP(AY24,'シフト記号表（勤務時間帯）'!$D$6:$Z$47,23,FALSE)) | AZ26: =IF($BC$3="４週",SUM(U26:AV26),IF($BC$3="暦月",SUM(U26:AY26),"")) -> 0 | BB26: =IF($BC$3="４週",AZ26/4,IF($BC$3="暦月",(AZ26/($BC$8/7)),"")) -> 0
P27: シフト記号
B28: =B25+1 -> 3 | F28: =C27 -> 0 | P28: 日中の勤務時間数 | U28: =IF(U27="","",VLOOKUP(U27,'シフト記号表（勤務時間帯）'!$D$6:$X$47,21,FALSE)) | V28: =IF(V27="","",VLOOKUP(V27,'シフト記号表（勤務時間帯）'!$D$6:$X$47,21,FALSE)) | W28: =IF(W27="","",VLOOKUP(W27,'シフト記号表（勤務時間帯）'!$D$6:$X$47,21,FALSE)) | X28: =IF(X27="","",VLOOKUP(X27,'シフト記号表（勤務時間帯）'!$D$6:$X$47,21,FALSE)) | Y28: =IF(Y27="","",VLOOKUP(Y27,'シフト記号表（勤務時間帯）'!$D$6:$X$47,21,FALSE)) | Z28: =IF(Z27="","",VLOOKUP(Z27,'シフト記号表（勤務時間帯）'!$D$6:$X$47,21,FALSE)) | AA28: =IF(AA27="","",VLOOKUP(AA27,'シフト記号表（勤務時間帯）'!$D$6:$X$47,21,FALSE)) | AB28: =IF(AB27="","",VLOOKUP(AB27,'シフト記号表（勤務時間帯）'!$D$6:$X$47,21,FALSE)) | ... AY28: =IF(AY27="","",VLOOKUP(AY27,'シフト記号表（勤務時間帯）'!$D$6:$X$47,21,FALSE)) | AZ28: =IF($BC$3="４週",SUM(U28:AV28),IF($BC$3="暦月",SUM(U28:AY28),"")) -> 0 | BB28: =IF($BC$3="４週",AZ28/4,IF($BC$3="暦月",(AZ28/($BC$8/7)),"")) -> 0
G29: =C27 -> 0 | P29: 夜間・深夜の勤務時間数 | U29: =IF(U27="","",VLOOKUP(U27,'シフト記号表（勤務時間帯）'!$D$6:$Z$47,23,FALSE)) | V29: =IF(V27="","",VLOOKUP(V27,'シフト記号表（勤務時間帯）'!$D$6:$Z$47,23,FALSE)) | W29: =IF(W27="","",VLOOKUP(W27,'シフト記号表（勤務時間帯）'!$D$6:$Z$47,23,FALSE)) | X29: =IF(X27="","",VLOOKUP(X27,'シフト記号表（勤務時間帯）'!$D$6:$Z$47,23,FALSE)) | Y29: =IF(Y27="","",VLOOKUP(Y27,'シフト記号表（勤務時間帯）'!$D$6:$Z$47,23,FALSE)) | Z29: =IF(Z27="","",VLOOKUP(Z27,'シフト記号表（勤務時間帯）'!$D$6:$Z$47,23,FALSE)) | AA29: =IF(AA27="","",VLOOKUP(AA27,'シフト記号表（勤務時間帯）'!$D$6:$Z$47,23,FALSE)) | AB29: =IF(AB27="","",VLOOKUP(AB27,'シフト記号表（勤務時間帯）'!$D$6:$Z$47,23,FALSE)) | ... AY29: =IF(AY27="","",VLOOKUP(AY27,'シフト記号表（勤務時間帯）'!$D$6:$Z$47,23,FALSE)) | AZ29: =IF($BC$3="４週",SUM(U29:AV29),IF($BC$3="暦月",SUM(U29:AY29),"")) -> 0 | BB29: =IF($BC$3="４週",AZ29/4,IF($BC$3="暦月",(AZ29/($BC$8/7)),"")) -> 0
P30: シフト記号
B31: =B28+1 -> 4 | F31: =C30 -> 0 | P31: 日中の勤務時間数 | U31: =IF(U30="","",VLOOKUP(U30,'シフト記号表（勤務時間帯）'!$D$6:$X$47,21,FALSE)) | V31: =IF(V30="","",VLOOKUP(V30,'シフト記号表（勤務時間帯）'!$D$6:$X$47,21,FALSE)) | W31: =IF(W30="","",VLOOKUP(W30,'シフト記号表（勤務時間帯）'!$D$6:$X$47,21,FALSE)) | X31: =IF(X30="","",VLOOKUP(X30,'シフト記号表（勤務時間帯）'!$D$6:$X$47,21,FALSE)) | Y31: =IF(Y30="","",VLOOKUP(Y30,'シフト記号表（勤務時間帯）'!$D$6:$X$47,21,FALSE)) | Z31: =IF(Z30="","",VLOOKUP(Z30,'シフト記号表（勤務時間帯）'!$D$6:$X$47,21,FALSE)) | AA31: =IF(AA30="","",VLOOKUP(AA30,'シフト記号表（勤務時間帯）'!$D$6:$X$47,21,FALSE)) | AB31: =IF(AB30="","",VLOOKUP(AB30,'シフト記号表（勤務時間帯）'!$D$6:$X$47,21,FALSE)) | ... AY31: =IF(AY30="","",VLOOKUP(AY30,'シフト記号表（勤務時間帯）'!$D$6:$X$47,21,FALSE)) | AZ31: =IF($BC$3="４週",SUM(U31:AV31),IF($BC$3="暦月",SUM(U31:AY31),"")) -> 0 | BB31: =IF($BC$3="４週",AZ31/4,IF($BC$3="暦月",(AZ31/($BC$8/7)),"")) -> 0
G32: =C30 -> 0 | P32: 夜間・深夜の勤務時間数 | U32: =IF(U30="","",VLOOKUP(U30,'シフト記号表（勤務時間帯）'!$D$6:$Z$47,23,FALSE)) | V32: =IF(V30="","",VLOOKUP(V30,'シフト記号表（勤務時間帯）'!$D$6:$Z$47,23,FALSE)) | W32: =IF(W30="","",VLOOKUP(W30,'シフト記号表（勤務時間帯）'!$D$6:$Z$47,23,FALSE)) | X32: =IF(X30="","",VLOOKUP(X30,'シフト記号表（勤務時間帯）'!$D$6:$Z$47,23,FALSE)) | Y32: =IF(Y30="","",VLOOKUP(Y30,'シフト記号表（勤務時間帯）'!$D$6:$Z$47,23,FALSE)) | Z32: =IF(Z30="","",VLOOKUP(Z30,'シフト記号表（勤務時間帯）'!$D$6:$Z$47,23,FALSE)) | AA32: =IF(AA30="","",VLOOKUP(AA30,'シフト記号表（勤務時間帯）'!$D$6:$Z$47,23,FALSE)) | AB32: =IF(AB30="","",VLOOKUP(AB30,'シフト記号表（勤務時間帯）'!$D$6:$Z$47,23,FALSE)) | ... AY32: =IF(AY30="","",VLOOKUP(AY30,'シフト記号表（勤務時間帯）'!$D$6:$Z$47,23,FALSE)) | AZ32: =IF($BC$3="４週",SUM(U32:AV32),IF($BC$3="暦月",SUM(U32:AY32),"")) -> 0 | BB32: =IF($BC$3="４週",AZ32/4,IF($BC$3="暦月",(AZ32/($BC$8/7)),"")) -> 0
P33: シフト記号
B34: =B31+1 -> 5 | F34: =C33 -> 0 | P34: 日中の勤務時間数 | U34: =IF(U33="","",VLOOKUP(U33,'シフト記号表（勤務時間帯）'!$D$6:$X$47,21,FALSE)) | V34: =IF(V33="","",VLOOKUP(V33,'シフト記号表（勤務時間帯）'!$D$6:$X$47,21,FALSE)) | W34: =IF(W33="","",VLOOKUP(W33,'シフト記号表（勤務時間帯）'!$D$6:$X$47,21,FALSE)) | X34: =IF(X33="","",VLOOKUP(X33,'シフト記号表（勤務時間帯）'!$D$6:$X$47,21,FALSE)) | Y34: =IF(Y33="","",VLOOKUP(Y33,'シフト記号表（勤務時間帯）'!$D$6:$X$47,21,FALSE)) | Z34: =IF(Z33="","",VLOOKUP(Z33,'シフト記号表（勤務時間帯）'!$D$6:$X$47,21,FALSE)) | AA34: =IF(AA33="","",VLOOKUP(AA33,'シフト記号表（勤務時間帯）'!$D$6:$X$47,21,FALSE)) | AB34: =IF(AB33="","",VLOOKUP(AB33,'シフト記号表（勤務時間帯）'!$D$6:$X$47,21,FALSE)) | ... AY34: =IF(AY33="","",VLOOKUP(AY33,'シフト記号表（勤務時間帯）'!$D$6:$X$47,21,FALSE)) | AZ34: =IF($BC$3="４週",SUM(U34:AV34),IF($BC$3="暦月",SUM(U34:AY34),"")) -> 0 | BB34: =IF($BC$3="４週",AZ34/4,IF($BC$3="暦月",(AZ34/($BC$8/7)),"")) -> 0
G35: =C33 -> 0 | P35: 夜間・深夜の勤務時間数 | U35: =IF(U33="","",VLOOKUP(U33,'シフト記号表（勤務時間帯）'!$D$6:$Z$47,23,FALSE)) | V35: =IF(V33="","",VLOOKUP(V33,'シフト記号表（勤務時間帯）'!$D$6:$Z$47,23,FALSE)) | W35: =IF(W33="","",VLOOKUP(W33,'シフト記号表（勤務時間帯）'!$D$6:$Z$47,23,FALSE)) | X35: =IF(X33="","",VLOOKUP(X33,'シフト記号表（勤務時間帯）'!$D$6:$Z$47,23,FALSE)) | Y35: =IF(Y33="","",VLOOKUP(Y33,'シフト記号表（勤務時間帯）'!$D$6:$Z$47,23,FALSE)) | Z35: =IF(Z33="","",VLOOKUP(Z33,'シフト記号表（勤務時間帯）'!$D$6:$Z$47,23,FALSE)) | AA35: =IF(AA33="","",VLOOKUP(AA33,'シフト記号表（勤務時間帯）'!$D$6:$Z$47,23,FALSE)) | AB35: =IF(AB33="","",VLOOKUP(AB33,'シフト記号表（勤務時間帯）'!$D$6:$Z$47,23,FALSE)) | ... AY35: =IF(AY33="","",VLOOKUP(AY33,'シフト記号表（勤務時間帯）'!$D$6:$Z$47,23,FALSE)) | AZ35: =IF($BC$3="４週",SUM(U35:AV35),IF($BC$3="暦月",SUM(U35:AY35),"")) -> 0 | BB35: =IF($BC$3="４週",AZ35/4,IF($BC$3="暦月",(AZ35/($BC$8/7)),"")) -> 0
P36: シフト記号
B37: =B34+1 -> 6 | F37: =C36 -> 0 | P37: 日中の勤務時間数 | U37: =IF(U36="","",VLOOKUP(U36,'シフト記号表（勤務時間帯）'!$D$6:$X$47,21,FALSE)) | V37: =IF(V36="","",VLOOKUP(V36,'シフト記号表（勤務時間帯）'!$D$6:$X$47,21,FALSE)) | W37: =IF(W36="","",VLOOKUP(W36,'シフト記号表（勤務時間帯）'!$D$6:$X$47,21,FALSE)) | X37: =IF(X36="","",VLOOKUP(X36,'シフト記号表（勤務時間帯）'!$D$6:$X$47,21,FALSE)) | Y37: =IF(Y36="","",VLOOKUP(Y36,'シフト記号表（勤務時間帯）'!$D$6:$X$47,21,FALSE)) | Z37: =IF(Z36="","",VLOOKUP(Z36,'シフト記号表（勤務時間帯）'!$D$6:$X$47,21,FALSE)) | AA37: =IF(AA36="","",VLOOKUP(AA36,'シフト記号表（勤務時間帯）'!$D$6:$X$47,21,FALSE)) | AB37: =IF(AB36="","",VLOOKUP(AB36,'シフト記号表（勤務時間帯）'!$D$6:$X$47,21,FALSE)) | ... AY37: =IF(AY36="","",VLOOKUP(AY36,'シフト記号表（勤務時間帯）'!$D$6:$X$47,21,FALSE)) | AZ37: =IF($BC$3="４週",SUM(U37:AV37),IF($BC$3="暦月",SUM(U37:AY37),"")) -> 0 | BB37: =IF($BC$3="４週",AZ37/4,IF($BC$3="暦月",(AZ37/($BC$8/7)),"")) -> 0
G38: =C36 -> 0 | P38: 夜間・深夜の勤務時間数 | U38: =IF(U36="","",VLOOKUP(U36,'シフト記号表（勤務時間帯）'!$D$6:$Z$47,23,FALSE)) | V38: =IF(V36="","",VLOOKUP(V36,'シフト記号表（勤務時間帯）'!$D$6:$Z$47,23,FALSE)) | W38: =IF(W36="","",VLOOKUP(W36,'シフト記号表（勤務時間帯）'!$D$6:$Z$47,23,FALSE)) | X38: =IF(X36="","",VLOOKUP(X36,'シフト記号表（勤務時間帯）'!$D$6:$Z$47,23,FALSE)) | Y38: =IF(Y36="","",VLOOKUP(Y36,'シフト記号表（勤務時間帯）'!$D$6:$Z$47,23,FALSE)) | Z38: =IF(Z36="","",VLOOKUP(Z36,'シフト記号表（勤務時間帯）'!$D$6:$Z$47,23,FALSE)) | AA38: =IF(AA36="","",VLOOKUP(AA36,'シフト記号表（勤務時間帯）'!$D$6:$Z$47,23,FALSE)) | AB38: =IF(AB36="","",VLOOKUP(AB36,'シフト記号表（勤務時間帯）'!$D$6:$Z$47,23,FALSE)) | ... AY38: =IF(AY36="","",VLOOKUP(AY36,'シフト記号表（勤務時間帯）'!$D$6:$Z$47,23,FALSE)) | AZ38: =IF($BC$3="４週",SUM(U38:AV38),IF($BC$3="暦月",SUM(U38:AY38),"")) -> 0 | BB38: =IF($BC$3="４週",AZ38/4,IF($BC$3="暦月",(AZ38/($BC$8/7)),"")) -> 0
P39: シフト記号
B40: =B37+1 -> 7 | F40: =C39 -> 0 | P40: 日中の勤務時間数 | U40: =IF(U39="","",VLOOKUP(U39,'シフト記号表（勤務時間帯）'!$D$6:$X$47,21,FALSE)) | V40: =IF(V39="","",VLOOKUP(V39,'シフト記号表（勤務時間帯）'!$D$6:$X$47,21,FALSE)) | W40: =IF(W39="","",VLOOKUP(W39,'シフト記号表（勤務時間帯）'!$D$6:$X$47,21,FALSE)) | X40: =IF(X39="","",VLOOKUP(X39,'シフト記号表（勤務時間帯）'!$D$6:$X$47,21,FALSE)) | Y40: =IF(Y39="","",VLOOKUP(Y39,'シフト記号表（勤務時間帯）'!$D$6:$X$47,21,FALSE)) | Z40: =IF(Z39="","",VLOOKUP(Z39,'シフト記号表（勤務時間帯）'!$D$6:$X$47,21,FALSE)) | AA40: =IF(AA39="","",VLOOKUP(AA39,'シフト記号表（勤務時間帯）'!$D$6:$X$47,21,FALSE)) | AB40: =IF(AB39="","",VLOOKUP(AB39,'シフト記号表（勤務時間帯）'!$D$6:$X$47,21,FALSE)) | ... AY40: =IF(AY39="","",VLOOKUP(AY39,'シフト記号表（勤務時間帯）'!$D$6:$X$47,21,FALSE)) | AZ40: =IF($BC$3="４週",SUM(U40:AV40),IF($BC$3="暦月",SUM(U40:AY40),"")) -> 0 | BB40: =IF($BC$3="４週",AZ40/4,IF($BC$3="暦月",(AZ40/($BC$8/7)),"")) -> 0
G41: =C39 -> 0 | P41: 夜間・深夜の勤務時間数 | U41: =IF(U39="","",VLOOKUP(U39,'シフト記号表（勤務時間帯）'!$D$6:$Z$47,23,FALSE)) | V41: =IF(V39="","",VLOOKUP(V39,'シフト記号表（勤務時間帯）'!$D$6:$Z$47,23,FALSE)) | W41: =IF(W39="","",VLOOKUP(W39,'シフト記号表（勤務時間帯）'!$D$6:$Z$47,23,FALSE)) | X41: =IF(X39="","",VLOOKUP(X39,'シフト記号表（勤務時間帯）'!$D$6:$Z$47,23,FALSE)) | Y41: =IF(Y39="","",VLOOKUP(Y39,'シフト記号表（勤務時間帯）'!$D$6:$Z$47,23,FALSE)) | Z41: =IF(Z39="","",VLOOKUP(Z39,'シフト記号表（勤務時間帯）'!$D$6:$Z$47,23,FALSE)) | AA41: =IF(AA39="","",VLOOKUP(AA39,'シフト記号表（勤務時間帯）'!$D$6:$Z$47,23,FALSE)) | AB41: =IF(AB39="","",VLOOKUP(AB39,'シフト記号表（勤務時間帯）'!$D$6:$Z$47,23,FALSE)) | ... AY41: =IF(AY39="","",VLOOKUP(AY39,'シフト記号表（勤務時間帯）'!$D$6:$Z$47,23,FALSE)) | AZ41: =IF($BC$3="４週",SUM(U41:AV41),IF($BC$3="暦月",SUM(U41:AY41),"")) -> 0 | BB41: =IF($BC$3="４週",AZ41/4,IF($BC$3="暦月",(AZ41/($BC$8/7)),"")) -> 0
P42: シフト記号
B43: =B40+1 -> 8 | F43: =C42 -> 0 | P43: 日中の勤務時間数 | U43: =IF(U42="","",VLOOKUP(U42,'シフト記号表（勤務時間帯）'!$D$6:$X$47,21,FALSE)) | V43: =IF(V42="","",VLOOKUP(V42,'シフト記号表（勤務時間帯）'!$D$6:$X$47,21,FALSE)) | W43: =IF(W42="","",VLOOKUP(W42,'シフト記号表（勤務時間帯）'!$D$6:$X$47,21,FALSE)) | X43: =IF(X42="","",VLOOKUP(X42,'シフト記号表（勤務時間帯）'!$D$6:$X$47,21,FALSE)) | Y43: =IF(Y42="","",VLOOKUP(Y42,'シフト記号表（勤務時間帯）'!$D$6:$X$47,21,FALSE)) | Z43: =IF(Z42="","",VLOOKUP(Z42,'シフト記号表（勤務時間帯）'!$D$6:$X$47,21,FALSE)) | AA43: =IF(AA42="","",VLOOKUP(AA42,'シフト記号表（勤務時間帯）'!$D$6:$X$47,21,FALSE)) | AB43: =IF(AB42="","",VLOOKUP(AB42,'シフト記号表（勤務時間帯）'!$D$6:$X$47,21,FALSE)) | ... AY43: =IF(AY42="","",VLOOKUP(AY42,'シフト記号表（勤務時間帯）'!$D$6:$X$47,21,FALSE)) | AZ43: =IF($BC$3="４週",SUM(U43:AV43),IF($BC$3="暦月",SUM(U43:AY43),"")) -> 0 | BB43: =IF($BC$3="４週",AZ43/4,IF($BC$3="暦月",(AZ43/($BC$8/7)),"")) -> 0
G44: =C42 -> 0 | P44: 夜間・深夜の勤務時間数 | U44: =IF(U42="","",VLOOKUP(U42,'シフト記号表（勤務時間帯）'!$D$6:$Z$47,23,FALSE)) | V44: =IF(V42="","",VLOOKUP(V42,'シフト記号表（勤務時間帯）'!$D$6:$Z$47,23,FALSE)) | W44: =IF(W42="","",VLOOKUP(W42,'シフト記号表（勤務時間帯）'!$D$6:$Z$47,23,FALSE)) | X44: =IF(X42="","",VLOOKUP(X42,'シフト記号表（勤務時間帯）'!$D$6:$Z$47,23,FALSE)) | Y44: =IF(Y42="","",VLOOKUP(Y42,'シフト記号表（勤務時間帯）'!$D$6:$Z$47,23,FALSE)) | Z44: =IF(Z42="","",VLOOKUP(Z42,'シフト記号表（勤務時間帯）'!$D$6:$Z$47,23,FALSE)) | AA44: =IF(AA42="","",VLOOKUP(AA42,'シフト記号表（勤務時間帯）'!$D$6:$Z$47,23,FALSE)) | AB44: =IF(AB42="","",VLOOKUP(AB42,'シフト記号表（勤務時間帯）'!$D$6:$Z$47,23,FALSE)) | ... AY44: =IF(AY42="","",VLOOKUP(AY42,'シフト記号表（勤務時間帯）'!$D$6:$Z$47,23,FALSE)) | AZ44: =IF($BC$3="４週",SUM(U44:AV44),IF($BC$3="暦月",SUM(U44:AY44),"")) -> 0 | BB44: =IF($BC$3="４週",AZ44/4,IF($BC$3="暦月",(AZ44/($BC$8/7)),"")) -> 0
P45: シフト記号
B46: =B43+1 -> 9 | F46: =C45 -> 0 | P46: 日中の勤務時間数 | U46: =IF(U45="","",VLOOKUP(U45,'シフト記号表（勤務時間帯）'!$D$6:$X$47,21,FALSE)) | V46: =IF(V45="","",VLOOKUP(V45,'シフト記号表（勤務時間帯）'!$D$6:$X$47,21,FALSE)) | W46: =IF(W45="","",VLOOKUP(W45,'シフト記号表（勤務時間帯）'!$D$6:$X$47,21,FALSE)) | X46: =IF(X45="","",VLOOKUP(X45,'シフト記号表（勤務時間帯）'!$D$6:$X$47,21,FALSE)) | Y46: =IF(Y45="","",VLOOKUP(Y45,'シフト記号表（勤務時間帯）'!$D$6:$X$47,21,FALSE)) | Z46: =IF(Z45="","",VLOOKUP(Z45,'シフト記号表（勤務時間帯）'!$D$6:$X$47,21,FALSE)) | AA46: =IF(AA45="","",VLOOKUP(AA45,'シフト記号表（勤務時間帯）'!$D$6:$X$47,21,FALSE)) | AB46: =IF(AB45="","",VLOOKUP(AB45,'シフト記号表（勤務時間帯）'!$D$6:$X$47,21,FALSE)) | ... AY46: =IF(AY45="","",VLOOKUP(AY45,'シフト記号表（勤務時間帯）'!$D$6:$X$47,21,FALSE)) | AZ46: =IF($BC$3="４週",SUM(U46:AV46),IF($BC$3="暦月",SUM(U46:AY46),"")) -> 0 | BB46: =IF($BC$3="４週",AZ46/4,IF($BC$3="暦月",(AZ46/($BC$8/7)),"")) -> 0
G47: =C45 -> 0 | P47: 夜間・深夜の勤務時間数 | U47: =IF(U45="","",VLOOKUP(U45,'シフト記号表（勤務時間帯）'!$D$6:$Z$47,23,FALSE)) | V47: =IF(V45="","",VLOOKUP(V45,'シフト記号表（勤務時間帯）'!$D$6:$Z$47,23,FALSE)) | W47: =IF(W45="","",VLOOKUP(W45,'シフト記号表（勤務時間帯）'!$D$6:$Z$47,23,FALSE)) | X47: =IF(X45="","",VLOOKUP(X45,'シフト記号表（勤務時間帯）'!$D$6:$Z$47,23,FALSE)) | Y47: =IF(Y45="","",VLOOKUP(Y45,'シフト記号表（勤務時間帯）'!$D$6:$Z$47,23,FALSE)) | Z47: =IF(Z45="","",VLOOKUP(Z45,'シフト記号表（勤務時間帯）'!$D$6:$Z$47,23,FALSE)) | AA47: =IF(AA45="","",VLOOKUP(AA45,'シフト記号表（勤務時間帯）'!$D$6:$Z$47,23,FALSE)) | AB47: =IF(AB45="","",VLOOKUP(AB45,'シフト記号表（勤務時間帯）'!$D$6:$Z$47,23,FALSE)) | ... AY47: =IF(AY45="","",VLOOKUP(AY45,'シフト記号表（勤務時間帯）'!$D$6:$Z$47,23,FALSE)) | AZ47: =IF($BC$3="４週",SUM(U47:AV47),IF($BC$3="暦月",SUM(U47:AY47),"")) -> 0 | BB47: =IF($BC$3="４週",AZ47/4,IF($BC$3="暦月",(AZ47/($BC$8/7)),"")) -> 0
P48: シフト記号
B49: =B46+1 -> 10 | F49: =C48 -> 0 | P49: 日中の勤務時間数 | U49: =IF(U48="","",VLOOKUP(U48,'シフト記号表（勤務時間帯）'!$D$6:$X$47,21,FALSE)) | V49: =IF(V48="","",VLOOKUP(V48,'シフト記号表（勤務時間帯）'!$D$6:$X$47,21,FALSE)) | W49: =IF(W48="","",VLOOKUP(W48,'シフト記号表（勤務時間帯）'!$D$6:$X$47,21,FALSE)) | X49: =IF(X48="","",VLOOKUP(X48,'シフト記号表（勤務時間帯）'!$D$6:$X$47,21,FALSE)) | Y49: =IF(Y48="","",VLOOKUP(Y48,'シフト記号表（勤務時間帯）'!$D$6:$X$47,21,FALSE)) | Z49: =IF(Z48="","",VLOOKUP(Z48,'シフト記号表（勤務時間帯）'!$D$6:$X$47,21,FALSE)) | AA49: =IF(AA48="","",VLOOKUP(AA48,'シフト記号表（勤務時間帯）'!$D$6:$X$47,21,FALSE)) | AB49: =IF(AB48="","",VLOOKUP(AB48,'シフト記号表（勤務時間帯）'!$D$6:$X$47,21,FALSE)) | ... AY49: =IF(AY48="","",VLOOKUP(AY48,'シフト記号表（勤務時間帯）'!$D$6:$X$47,21,FALSE)) | AZ49: =IF($BC$3="４週",SUM(U49:AV49),IF($BC$3="暦月",SUM(U49:AY49),"")) -> 0 | BB49: =IF($BC$3="４週",AZ49/4,IF($BC$3="暦月",(AZ49/($BC$8/7)),"")) -> 0
G50: =C48 -> 0 | P50: 夜間・深夜の勤務時間数 | U50: =IF(U48="","",VLOOKUP(U48,'シフト記号表（勤務時間帯）'!$D$6:$Z$47,23,FALSE)) | V50: =IF(V48="","",VLOOKUP(V48,'シフト記号表（勤務時間帯）'!$D$6:$Z$47,23,FALSE)) | W50: =IF(W48="","",VLOOKUP(W48,'シフト記号表（勤務時間帯）'!$D$6:$Z$47,23,FALSE)) | X50: =IF(X48="","",VLOOKUP(X48,'シフト記号表（勤務時間帯）'!$D$6:$Z$47,23,FALSE)) | Y50: =IF(Y48="","",VLOOKUP(Y48,'シフト記号表（勤務時間帯）'!$D$6:$Z$47,23,FALSE)) | Z50: =IF(Z48="","",VLOOKUP(Z48,'シフト記号表（勤務時間帯）'!$D$6:$Z$47,23,FALSE)) | AA50: =IF(AA48="","",VLOOKUP(AA48,'シフト記号表（勤務時間帯）'!$D$6:$Z$47,23,FALSE)) | AB50: =IF(AB48="","",VLOOKUP(AB48,'シフト記号表（勤務時間帯）'!$D$6:$Z$47,23,FALSE)) | ... AY50: =IF(AY48="","",VLOOKUP(AY48,'シフト記号表（勤務時間帯）'!$D$6:$Z$47,23,FALSE)) | AZ50: =IF($BC$3="４週",SUM(U50:AV50),IF($BC$3="暦月",SUM(U50:AY50),"")) -> 0 | BB50: =IF($BC$3="４週",AZ50/4,IF($BC$3="暦月",(AZ50/($BC$8/7)),"")) -> 0
P51: シフト記号
B52: =B49+1 -> 11 | F52: =C51 -> 0 | P52: 日中の勤務時間数 | U52: =IF(U51="","",VLOOKUP(U51,'シフト記号表（勤務時間帯）'!$D$6:$X$47,21,FALSE)) | V52: =IF(V51="","",VLOOKUP(V51,'シフト記号表（勤務時間帯）'!$D$6:$X$47,21,FALSE)) | W52: =IF(W51="","",VLOOKUP(W51,'シフト記号表（勤務時間帯）'!$D$6:$X$47,21,FALSE)) | X52: =IF(X51="","",VLOOKUP(X51,'シフト記号表（勤務時間帯）'!$D$6:$X$47,21,FALSE)) | Y52: =IF(Y51="","",VLOOKUP(Y51,'シフト記号表（勤務時間帯）'!$D$6:$X$47,21,FALSE)) | Z52: =IF(Z51="","",VLOOKUP(Z51,'シフト記号表（勤務時間帯）'!$D$6:$X$47,21,FALSE)) | AA52: =IF(AA51="","",VLOOKUP(AA51,'シフト記号表（勤務時間帯）'!$D$6:$X$47,21,FALSE)) | AB52: =IF(AB51="","",VLOOKUP(AB51,'シフト記号表（勤務時間帯）'!$D$6:$X$47,21,FALSE)) | ... AY52: =IF(AY51="","",VLOOKUP(AY51,'シフト記号表（勤務時間帯）'!$D$6:$X$47,21,FALSE)) | AZ52: =IF($BC$3="４週",SUM(U52:AV52),IF($BC$3="暦月",SUM(U52:AY52),"")) -> 0 | BB52: =IF($BC$3="４週",AZ52/4,IF($BC$3="暦月",(AZ52/($BC$8/7)),"")) -> 0
G53: =C51 -> 0 | P53: 夜間・深夜の勤務時間数 | U53: =IF(U51="","",VLOOKUP(U51,'シフト記号表（勤務時間帯）'!$D$6:$Z$47,23,FALSE)) | V53: =IF(V51="","",VLOOKUP(V51,'シフト記号表（勤務時間帯）'!$D$6:$Z$47,23,FALSE)) | W53: =IF(W51="","",VLOOKUP(W51,'シフト記号表（勤務時間帯）'!$D$6:$Z$47,23,FALSE)) | X53: =IF(X51="","",VLOOKUP(X51,'シフト記号表（勤務時間帯）'!$D$6:$Z$47,23,FALSE)) | Y53: =IF(Y51="","",VLOOKUP(Y51,'シフト記号表（勤務時間帯）'!$D$6:$Z$47,23,FALSE)) | Z53: =IF(Z51="","",VLOOKUP(Z51,'シフト記号表（勤務時間帯）'!$D$6:$Z$47,23,FALSE)) | AA53: =IF(AA51="","",VLOOKUP(AA51,'シフト記号表（勤務時間帯）'!$D$6:$Z$47,23,FALSE)) | AB53: =IF(AB51="","",VLOOKUP(AB51,'シフト記号表（勤務時間帯）'!$D$6:$Z$47,23,FALSE)) | ... AY53: =IF(AY51="","",VLOOKUP(AY51,'シフト記号表（勤務時間帯）'!$D$6:$Z$47,23,FALSE)) | AZ53: =IF($BC$3="４週",SUM(U53:AV53),IF($BC$3="暦月",SUM(U53:AY53),"")) -> 0 | BB53: =IF($BC$3="４週",AZ53/4,IF($BC$3="暦月",(AZ53/($BC$8/7)),"")) -> 0
P54: シフト記号
B55: =B52+1 -> 12 | F55: =C54 -> 0 | P55: 日中の勤務時間数 | U55: =IF(U54="","",VLOOKUP(U54,'シフト記号表（勤務時間帯）'!$D$6:$X$47,21,FALSE)) | V55: =IF(V54="","",VLOOKUP(V54,'シフト記号表（勤務時間帯）'!$D$6:$X$47,21,FALSE)) | W55: =IF(W54="","",VLOOKUP(W54,'シフト記号表（勤務時間帯）'!$D$6:$X$47,21,FALSE)) | X55: =IF(X54="","",VLOOKUP(X54,'シフト記号表（勤務時間帯）'!$D$6:$X$47,21,FALSE)) | Y55: =IF(Y54="","",VLOOKUP(Y54,'シフト記号表（勤務時間帯）'!$D$6:$X$47,21,FALSE)) | Z55: =IF(Z54="","",VLOOKUP(Z54,'シフト記号表（勤務時間帯）'!$D$6:$X$47,21,FALSE)) | AA55: =IF(AA54="","",VLOOKUP(AA54,'シフト記号表（勤務時間帯）'!$D$6:$X$47,21,FALSE)) | AB55: =IF(AB54="","",VLOOKUP(AB54,'シフト記号表（勤務時間帯）'!$D$6:$X$47,21,FALSE)) | ... AY55: =IF(AY54="","",VLOOKUP(AY54,'シフト記号表（勤務時間帯）'!$D$6:$X$47,21,FALSE)) | AZ55: =IF($BC$3="４週",SUM(U55:AV55),IF($BC$3="暦月",SUM(U55:AY55),"")) -> 0 | BB55: =IF($BC$3="４週",AZ55/4,IF($BC$3="暦月",(AZ55/($BC$8/7)),"")) -> 0
G56: =C54 -> 0 | P56: 夜間・深夜の勤務時間数 | U56: =IF(U54="","",VLOOKUP(U54,'シフト記号表（勤務時間帯）'!$D$6:$Z$47,23,FALSE)) | V56: =IF(V54="","",VLOOKUP(V54,'シフト記号表（勤務時間帯）'!$D$6:$Z$47,23,FALSE)) | W56: =IF(W54="","",VLOOKUP(W54,'シフト記号表（勤務時間帯）'!$D$6:$Z$47,23,FALSE)) | X56: =IF(X54="","",VLOOKUP(X54,'シフト記号表（勤務時間帯）'!$D$6:$Z$47,23,FALSE)) | Y56: =IF(Y54="","",VLOOKUP(Y54,'シフト記号表（勤務時間帯）'!$D$6:$Z$47,23,FALSE)) | Z56: =IF(Z54="","",VLOOKUP(Z54,'シフト記号表（勤務時間帯）'!$D$6:$Z$47,23,FALSE)) | AA56: =IF(AA54="","",VLOOKUP(AA54,'シフト記号表（勤務時間帯）'!$D$6:$Z$47,23,FALSE)) | AB56: =IF(AB54="","",VLOOKUP(AB54,'シフト記号表（勤務時間帯）'!$D$6:$Z$47,23,FALSE)) | ... AY56: =IF(AY54="","",VLOOKUP(AY54,'シフト記号表（勤務時間帯）'!$D$6:$Z$47,23,FALSE)) | AZ56: =IF($BC$3="４週",SUM(U56:AV56),IF($BC$3="暦月",SUM(U56:AY56),"")) -> 0 | BB56: =IF($BC$3="４週",AZ56/4,IF($BC$3="暦月",(AZ56/($BC$8/7)),"")) -> 0
P57: シフト記号
B58: =B55+1 -> 13 | F58: =C57 -> 0 | P58: 日中の勤務時間数 | U58: =IF(U57="","",VLOOKUP(U57,'シフト記号表（勤務時間帯）'!$D$6:$X$47,21,FALSE)) | V58: =IF(V57="","",VLOOKUP(V57,'シフト記号表（勤務時間帯）'!$D$6:$X$47,21,FALSE)) | W58: =IF(W57="","",VLOOKUP(W57,'シフト記号表（勤務時間帯）'!$D$6:$X$47,21,FALSE)) | X58: =IF(X57="","",VLOOKUP(X57,'シフト記号表（勤務時間帯）'!$D$6:$X$47,21,FALSE)) | Y58: =IF(Y57="","",VLOOKUP(Y57,'シフト記号表（勤務時間帯）'!$D$6:$X$47,21,FALSE)) | Z58: =IF(Z57="","",VLOOKUP(Z57,'シフト記号表（勤務時間帯）'!$D$6:$X$47,21,FALSE)) | AA58: =IF(AA57="","",VLOOKUP(AA57,'シフト記号表（勤務時間帯）'!$D$6:$X$47,21,FALSE)) | AB58: =IF(AB57="","",VLOOKUP(AB57,'シフト記号表（勤務時間帯）'!$D$6:$X$47,21,FALSE)) | ... AY58: =IF(AY57="","",VLOOKUP(AY57,'シフト記号表（勤務時間帯）'!$D$6:$X$47,21,FALSE)) | AZ58: =IF($BC$3="４週",SUM(U58:AV58),IF($BC$3="暦月",SUM(U58:AY58),"")) -> 0 | BB58: =IF($BC$3="４週",AZ58/4,IF($BC$3="暦月",(AZ58/($BC$8/7)),"")) -> 0
G59: =C57 -> 0 | P59: 夜間・深夜の勤務時間数 | U59: =IF(U57="","",VLOOKUP(U57,'シフト記号表（勤務時間帯）'!$D$6:$Z$47,23,FALSE)) | V59: =IF(V57="","",VLOOKUP(V57,'シフト記号表（勤務時間帯）'!$D$6:$Z$47,23,FALSE)) | W59: =IF(W57="","",VLOOKUP(W57,'シフト記号表（勤務時間帯）'!$D$6:$Z$47,23,FALSE)) | X59: =IF(X57="","",VLOOKUP(X57,'シフト記号表（勤務時間帯）'!$D$6:$Z$47,23,FALSE)) | Y59: =IF(Y57="","",VLOOKUP(Y57,'シフト記号表（勤務時間帯）'!$D$6:$Z$47,23,FALSE)) | Z59: =IF(Z57="","",VLOOKUP(Z57,'シフト記号表（勤務時間帯）'!$D$6:$Z$47,23,FALSE)) | AA59: =IF(AA57="","",VLOOKUP(AA57,'シフト記号表（勤務時間帯）'!$D$6:$Z$47,23,FALSE)) | AB59: =IF(AB57="","",VLOOKUP(AB57,'シフト記号表（勤務時間帯）'!$D$6:$Z$47,23,FALSE)) | ... AY59: =IF(AY57="","",VLOOKUP(AY57,'シフト記号表（勤務時間帯）'!$D$6:$Z$47,23,FALSE)) | AZ59: =IF($BC$3="４週",SUM(U59:AV59),IF($BC$3="暦月",SUM(U59:AY59),"")) -> 0 | BB59: =IF($BC$3="４週",AZ59/4,IF($BC$3="暦月",(AZ59/($BC$8/7)),"")) -> 0
P60: シフト記号
B61: =B58+1 -> 14 | F61: =C60 -> 0 | P61: 日中の勤務時間数 | U61: =IF(U60="","",VLOOKUP(U60,'シフト記号表（勤務時間帯）'!$D$6:$X$47,21,FALSE)) | V61: =IF(V60="","",VLOOKUP(V60,'シフト記号表（勤務時間帯）'!$D$6:$X$47,21,FALSE)) | W61: =IF(W60="","",VLOOKUP(W60,'シフト記号表（勤務時間帯）'!$D$6:$X$47,21,FALSE)) | X61: =IF(X60="","",VLOOKUP(X60,'シフト記号表（勤務時間帯）'!$D$6:$X$47,21,FALSE)) | Y61: =IF(Y60="","",VLOOKUP(Y60,'シフト記号表（勤務時間帯）'!$D$6:$X$47,21,FALSE)) | Z61: =IF(Z60="","",VLOOKUP(Z60,'シフト記号表（勤務時間帯）'!$D$6:$X$47,21,FALSE)) | AA61: =IF(AA60="","",VLOOKUP(AA60,'シフト記号表（勤務時間帯）'!$D$6:$X$47,21,FALSE)) | AB61: =IF(AB60="","",VLOOKUP(AB60,'シフト記号表（勤務時間帯）'!$D$6:$X$47,21,FALSE)) | ... AY61: =IF(AY60="","",VLOOKUP(AY60,'シフト記号表（勤務時間帯）'!$D$6:$X$47,21,FALSE)) | AZ61: =IF($BC$3="４週",SUM(U61:AV61),IF($BC$3="暦月",SUM(U61:AY61),"")) -> 0 | BB61: =IF($BC$3="４週",AZ61/4,IF($BC$3="暦月",(AZ61/($BC$8/7)),"")) -> 0
G62: =C60 -> 0 | P62: 夜間・深夜の勤務時間数 | U62: =IF(U60="","",VLOOKUP(U60,'シフト記号表（勤務時間帯）'!$D$6:$Z$47,23,FALSE)) | V62: =IF(V60="","",VLOOKUP(V60,'シフト記号表（勤務時間帯）'!$D$6:$Z$47,23,FALSE)) | W62: =IF(W60="","",VLOOKUP(W60,'シフト記号表（勤務時間帯）'!$D$6:$Z$47,23,FALSE)) | X62: =IF(X60="","",VLOOKUP(X60,'シフト記号表（勤務時間帯）'!$D$6:$Z$47,23,FALSE)) | Y62: =IF(Y60="","",VLOOKUP(Y60,'シフト記号表（勤務時間帯）'!$D$6:$Z$47,23,FALSE)) | Z62: =IF(Z60="","",VLOOKUP(Z60,'シフト記号表（勤務時間帯）'!$D$6:$Z$47,23,FALSE)) | AA62: =IF(AA60="","",VLOOKUP(AA60,'シフト記号表（勤務時間帯）'!$D$6:$Z$47,23,FALSE)) | AB62: =IF(AB60="","",VLOOKUP(AB60,'シフト記号表（勤務時間帯）'!$D$6:$Z$47,23,FALSE)) | ... AY62: =IF(AY60="","",VLOOKUP(AY60,'シフト記号表（勤務時間帯）'!$D$6:$Z$47,23,FALSE)) | AZ62: =IF($BC$3="４週",SUM(U62:AV62),IF($BC$3="暦月",SUM(U62:AY62),"")) -> 0 | BB62: =IF($BC$3="４週",AZ62/4,IF($BC$3="暦月",(AZ62/($BC$8/7)),"")) -> 0
P63: シフト記号
B64: =B61+1 -> 15 | F64: =C63 -> 0 | P64: 日中の勤務時間数 | U64: =IF(U63="","",VLOOKUP(U63,'シフト記号表（勤務時間帯）'!$D$6:$X$47,21,FALSE)) | V64: =IF(V63="","",VLOOKUP(V63,'シフト記号表（勤務時間帯）'!$D$6:$X$47,21,FALSE)) | W64: =IF(W63="","",VLOOKUP(W63,'シフト記号表（勤務時間帯）'!$D$6:$X$47,21,FALSE)) | X64: =IF(X63="","",VLOOKUP(X63,'シフト記号表（勤務時間帯）'!$D$6:$X$47,21,FALSE)) | Y64: =IF(Y63="","",VLOOKUP(Y63,'シフト記号表（勤務時間帯）'!$D$6:$X$47,21,FALSE)) | Z64: =IF(Z63="","",VLOOKUP(Z63,'シフト記号表（勤務時間帯）'!$D$6:$X$47,21,FALSE)) | AA64: =IF(AA63="","",VLOOKUP(AA63,'シフト記号表（勤務時間帯）'!$D$6:$X$47,21,FALSE)) | AB64: =IF(AB63="","",VLOOKUP(AB63,'シフト記号表（勤務時間帯）'!$D$6:$X$47,21,FALSE)) | ... AY64: =IF(AY63="","",VLOOKUP(AY63,'シフト記号表（勤務時間帯）'!$D$6:$X$47,21,FALSE)) | AZ64: =IF($BC$3="４週",SUM(U64:AV64),IF($BC$3="暦月",SUM(U64:AY64),"")) -> 0 | BB64: =IF($BC$3="４週",AZ64/4,IF($BC$3="暦月",(AZ64/($BC$8/7)),"")) -> 0
G65: =C63 -> 0 | P65: 夜間・深夜の勤務時間数 | U65: =IF(U63="","",VLOOKUP(U63,'シフト記号表（勤務時間帯）'!$D$6:$Z$47,23,FALSE)) | V65: =IF(V63="","",VLOOKUP(V63,'シフト記号表（勤務時間帯）'!$D$6:$Z$47,23,FALSE)) | W65: =IF(W63="","",VLOOKUP(W63,'シフト記号表（勤務時間帯）'!$D$6:$Z$47,23,FALSE)) | X65: =IF(X63="","",VLOOKUP(X63,'シフト記号表（勤務時間帯）'!$D$6:$Z$47,23,FALSE)) | Y65: =IF(Y63="","",VLOOKUP(Y63,'シフト記号表（勤務時間帯）'!$D$6:$Z$47,23,FALSE)) | Z65: =IF(Z63="","",VLOOKUP(Z63,'シフト記号表（勤務時間帯）'!$D$6:$Z$47,23,FALSE)) | AA65: =IF(AA63="","",VLOOKUP(AA63,'シフト記号表（勤務時間帯）'!$D$6:$Z$47,23,FALSE)) | AB65: =IF(AB63="","",VLOOKUP(AB63,'シフト記号表（勤務時間帯）'!$D$6:$Z$47,23,FALSE)) | ... AY65: =IF(AY63="","",VLOOKUP(AY63,'シフト記号表（勤務時間帯）'!$D$6:$Z$47,23,FALSE)) | AZ65: =IF($BC$3="４週",SUM(U65:AV65),IF($BC$3="暦月",SUM(U65:AY65),"")) -> 0 | BB65: =IF($BC$3="４週",AZ65/4,IF($BC$3="暦月",(AZ65/($BC$8/7)),"")) -> 0
P66: シフト記号
B67: =B64+1 -> 16 | F67: =C66 -> 0 | P67: 日中の勤務時間数 | U67: =IF(U66="","",VLOOKUP(U66,'シフト記号表（勤務時間帯）'!$D$6:$X$47,21,FALSE)) | V67: =IF(V66="","",VLOOKUP(V66,'シフト記号表（勤務時間帯）'!$D$6:$X$47,21,FALSE)) | W67: =IF(W66="","",VLOOKUP(W66,'シフト記号表（勤務時間帯）'!$D$6:$X$47,21,FALSE)) | X67: =IF(X66="","",VLOOKUP(X66,'シフト記号表（勤務時間帯）'!$D$6:$X$47,21,FALSE)) | Y67: =IF(Y66="","",VLOOKUP(Y66,'シフト記号表（勤務時間帯）'!$D$6:$X$47,21,FALSE)) | Z67: =IF(Z66="","",VLOOKUP(Z66,'シフト記号表（勤務時間帯）'!$D$6:$X$47,21,FALSE)) | AA67: =IF(AA66="","",VLOOKUP(AA66,'シフト記号表（勤務時間帯）'!$D$6:$X$47,21,FALSE)) | AB67: =IF(AB66="","",VLOOKUP(AB66,'シフト記号表（勤務時間帯）'!$D$6:$X$47,21,FALSE)) | ... AY67: =IF(AY66="","",VLOOKUP(AY66,'シフト記号表（勤務時間帯）'!$D$6:$X$47,21,FALSE)) | AZ67: =IF($BC$3="４週",SUM(U67:AV67),IF($BC$3="暦月",SUM(U67:AY67),"")) -> 0 | BB67: =IF($BC$3="４週",AZ67/4,IF($BC$3="暦月",(AZ67/($BC$8/7)),"")) -> 0
G68: =C66 -> 0 | P68: 夜間・深夜の勤務時間数 | U68: =IF(U66="","",VLOOKUP(U66,'シフト記号表（勤務時間帯）'!$D$6:$Z$47,23,FALSE)) | V68: =IF(V66="","",VLOOKUP(V66,'シフト記号表（勤務時間帯）'!$D$6:$Z$47,23,FALSE)) | W68: =IF(W66="","",VLOOKUP(W66,'シフト記号表（勤務時間帯）'!$D$6:$Z$47,23,FALSE)) | X68: =IF(X66="","",VLOOKUP(X66,'シフト記号表（勤務時間帯）'!$D$6:$Z$47,23,FALSE)) | Y68: =IF(Y66="","",VLOOKUP(Y66,'シフト記号表（勤務時間帯）'!$D$6:$Z$47,23,FALSE)) | Z68: =IF(Z66="","",VLOOKUP(Z66,'シフト記号表（勤務時間帯）'!$D$6:$Z$47,23,FALSE)) | AA68: =IF(AA66="","",VLOOKUP(AA66,'シフト記号表（勤務時間帯）'!$D$6:$Z$47,23,FALSE)) | AB68: =IF(AB66="","",VLOOKUP(AB66,'シフト記号表（勤務時間帯）'!$D$6:$Z$47,23,FALSE)) | ... AY68: =IF(AY66="","",VLOOKUP(AY66,'シフト記号表（勤務時間帯）'!$D$6:$Z$47,23,FALSE)) | AZ68: =IF($BC$3="４週",SUM(U68:AV68),IF($BC$3="暦月",SUM(U68:AY68),"")) -> 0 | BB68: =IF($BC$3="４週",AZ68/4,IF($BC$3="暦月",(AZ68/($BC$8/7)),"")) -> 0
P69: シフト記号
B70: =B67+1 -> 17 | F70: =C69 -> 0 | P70: 日中の勤務時間数 | U70: =IF(U69="","",VLOOKUP(U69,'シフト記号表（勤務時間帯）'!$D$6:$X$47,21,FALSE)) | V70: =IF(V69="","",VLOOKUP(V69,'シフト記号表（勤務時間帯）'!$D$6:$X$47,21,FALSE)) | W70: =IF(W69="","",VLOOKUP(W69,'シフト記号表（勤務時間帯）'!$D$6:$X$47,21,FALSE)) | X70: =IF(X69="","",VLOOKUP(X69,'シフト記号表（勤務時間帯）'!$D$6:$X$47,21,FALSE)) | Y70: =IF(Y69="","",VLOOKUP(Y69,'シフト記号表（勤務時間帯）'!$D$6:$X$47,21,FALSE)) | Z70: =IF(Z69="","",VLOOKUP(Z69,'シフト記号表（勤務時間帯）'!$D$6:$X$47,21,FALSE)) | AA70: =IF(AA69="","",VLOOKUP(AA69,'シフト記号表（勤務時間帯）'!$D$6:$X$47,21,FALSE)) | AB70: =IF(AB69="","",VLOOKUP(AB69,'シフト記号表（勤務時間帯）'!$D$6:$X$47,21,FALSE)) | ... AY70: =IF(AY69="","",VLOOKUP(AY69,'シフト記号表（勤務時間帯）'!$D$6:$X$47,21,FALSE)) | AZ70: =IF($BC$3="４週",SUM(U70:AV70),IF($BC$3="暦月",SUM(U70:AY70),"")) -> 0 | BB70: =IF($BC$3="４週",AZ70/4,IF($BC$3="暦月",(AZ70/($BC$8/7)),"")) -> 0
G71: =C69 -> 0 | P71: 夜間・深夜の勤務時間数 | U71: =IF(U69="","",VLOOKUP(U69,'シフト記号表（勤務時間帯）'!$D$6:$Z$47,23,FALSE)) | V71: =IF(V69="","",VLOOKUP(V69,'シフト記号表（勤務時間帯）'!$D$6:$Z$47,23,FALSE)) | W71: =IF(W69="","",VLOOKUP(W69,'シフト記号表（勤務時間帯）'!$D$6:$Z$47,23,FALSE)) | X71: =IF(X69="","",VLOOKUP(X69,'シフト記号表（勤務時間帯）'!$D$6:$Z$47,23,FALSE)) | Y71: =IF(Y69="","",VLOOKUP(Y69,'シフト記号表（勤務時間帯）'!$D$6:$Z$47,23,FALSE)) | Z71: =IF(Z69="","",VLOOKUP(Z69,'シフト記号表（勤務時間帯）'!$D$6:$Z$47,23,FALSE)) | AA71: =IF(AA69="","",VLOOKUP(AA69,'シフト記号表（勤務時間帯）'!$D$6:$Z$47,23,FALSE)) | AB71: =IF(AB69="","",VLOOKUP(AB69,'シフト記号表（勤務時間帯）'!$D$6:$Z$47,23,FALSE)) | ... AY71: =IF(AY69="","",VLOOKUP(AY69,'シフト記号表（勤務時間帯）'!$D$6:$Z$47,23,FALSE)) | AZ71: =IF($BC$3="４週",SUM(U71:AV71),IF($BC$3="暦月",SUM(U71:AY71),"")) -> 0 | BB71: =IF($BC$3="４週",AZ71/4,IF($BC$3="暦月",(AZ71/($BC$8/7)),"")) -> 0
P72: シフト記号
B73: =B70+1 -> 18 | F73: =C72 -> 0 | P73: 日中の勤務時間数 | U73: =IF(U72="","",VLOOKUP(U72,'シフト記号表（勤務時間帯）'!$D$6:$X$47,21,FALSE)) | V73: =IF(V72="","",VLOOKUP(V72,'シフト記号表（勤務時間帯）'!$D$6:$X$47,21,FALSE)) | W73: =IF(W72="","",VLOOKUP(W72,'シフト記号表（勤務時間帯）'!$D$6:$X$47,21,FALSE)) | X73: =IF(X72="","",VLOOKUP(X72,'シフト記号表（勤務時間帯）'!$D$6:$X$47,21,FALSE)) | Y73: =IF(Y72="","",VLOOKUP(Y72,'シフト記号表（勤務時間帯）'!$D$6:$X$47,21,FALSE)) | Z73: =IF(Z72="","",VLOOKUP(Z72,'シフト記号表（勤務時間帯）'!$D$6:$X$47,21,FALSE)) | AA73: =IF(AA72="","",VLOOKUP(AA72,'シフト記号表（勤務時間帯）'!$D$6:$X$47,21,FALSE)) | AB73: =IF(AB72="","",VLOOKUP(AB72,'シフト記号表（勤務時間帯）'!$D$6:$X$47,21,FALSE)) | ... AY73: =IF(AY72="","",VLOOKUP(AY72,'シフト記号表（勤務時間帯）'!$D$6:$X$47,21,FALSE)) | AZ73: =IF($BC$3="４週",SUM(U73:AV73),IF($BC$3="暦月",SUM(U73:AY73),"")) -> 0 | BB73: =IF($BC$3="４週",AZ73/4,IF($BC$3="暦月",(AZ73/($BC$8/7)),"")) -> 0
G74: =C72 -> 0 | P74: 夜間・深夜の勤務時間数 | U74: =IF(U72="","",VLOOKUP(U72,'シフト記号表（勤務時間帯）'!$D$6:$Z$47,23,FALSE)) | V74: =IF(V72="","",VLOOKUP(V72,'シフト記号表（勤務時間帯）'!$D$6:$Z$47,23,FALSE)) | W74: =IF(W72="","",VLOOKUP(W72,'シフト記号表（勤務時間帯）'!$D$6:$Z$47,23,FALSE)) | X74: =IF(X72="","",VLOOKUP(X72,'シフト記号表（勤務時間帯）'!$D$6:$Z$47,23,FALSE)) | Y74: =IF(Y72="","",VLOOKUP(Y72,'シフト記号表（勤務時間帯）'!$D$6:$Z$47,23,FALSE)) | Z74: =IF(Z72="","",VLOOKUP(Z72,'シフト記号表（勤務時間帯）'!$D$6:$Z$47,23,FALSE)) | AA74: =IF(AA72="","",VLOOKUP(AA72,'シフト記号表（勤務時間帯）'!$D$6:$Z$47,23,FALSE)) | AB74: =IF(AB72="","",VLOOKUP(AB72,'シフト記号表（勤務時間帯）'!$D$6:$Z$47,23,FALSE)) | ... AY74: =IF(AY72="","",VLOOKUP(AY72,'シフト記号表（勤務時間帯）'!$D$6:$Z$47,23,FALSE)) | AZ74: =IF($BC$3="４週",SUM(U74:AV74),IF($BC$3="暦月",SUM(U74:AY74),"")) -> 0 | BB74: =IF($BC$3="４週",AZ74/4,IF($BC$3="暦月",(AZ74/($BC$8/7)),"")) -> 0
P75: シフト記号
B76: =B73+1 -> 19 | F76: =C75 -> 0 | P76: 日中の勤務時間数 | U76: =IF(U75="","",VLOOKUP(U75,'シフト記号表（勤務時間帯）'!$D$6:$X$47,21,FALSE)) | V76: =IF(V75="","",VLOOKUP(V75,'シフト記号表（勤務時間帯）'!$D$6:$X$47,21,FALSE)) | W76: =IF(W75="","",VLOOKUP(W75,'シフト記号表（勤務時間帯）'!$D$6:$X$47,21,FALSE)) | X76: =IF(X75="","",VLOOKUP(X75,'シフト記号表（勤務時間帯）'!$D$6:$X$47,21,FALSE)) | Y76: =IF(Y75="","",VLOOKUP(Y75,'シフト記号表（勤務時間帯）'!$D$6:$X$47,21,FALSE)) | Z76: =IF(Z75="","",VLOOKUP(Z75,'シフト記号表（勤務時間帯）'!$D$6:$X$47,21,FALSE)) | AA76: =IF(AA75="","",VLOOKUP(AA75,'シフト記号表（勤務時間帯）'!$D$6:$X$47,21,FALSE)) | AB76: =IF(AB75="","",VLOOKUP(AB75,'シフト記号表（勤務時間帯）'!$D$6:$X$47,21,FALSE)) | ... AY76: =IF(AY75="","",VLOOKUP(AY75,'シフト記号表（勤務時間帯）'!$D$6:$X$47,21,FALSE)) | AZ76: =IF($BC$3="４週",SUM(U76:AV76),IF($BC$3="暦月",SUM(U76:AY76),"")) -> 0 | BB76: =IF($BC$3="４週",AZ76/4,IF($BC$3="暦月",(AZ76/($BC$8/7)),"")) -> 0
G77: =C75 -> 0 | P77: 夜間・深夜の勤務時間数 | U77: =IF(U75="","",VLOOKUP(U75,'シフト記号表（勤務時間帯）'!$D$6:$Z$47,23,FALSE)) | V77: =IF(V75="","",VLOOKUP(V75,'シフト記号表（勤務時間帯）'!$D$6:$Z$47,23,FALSE)) | W77: =IF(W75="","",VLOOKUP(W75,'シフト記号表（勤務時間帯）'!$D$6:$Z$47,23,FALSE)) | X77: =IF(X75="","",VLOOKUP(X75,'シフト記号表（勤務時間帯）'!$D$6:$Z$47,23,FALSE)) | Y77: =IF(Y75="","",VLOOKUP(Y75,'シフト記号表（勤務時間帯）'!$D$6:$Z$47,23,FALSE)) | Z77: =IF(Z75="","",VLOOKUP(Z75,'シフト記号表（勤務時間帯）'!$D$6:$Z$47,23,FALSE)) | AA77: =IF(AA75="","",VLOOKUP(AA75,'シフト記号表（勤務時間帯）'!$D$6:$Z$47,23,FALSE)) | AB77: =IF(AB75="","",VLOOKUP(AB75,'シフト記号表（勤務時間帯）'!$D$6:$Z$47,23,FALSE)) | ... AY77: =IF(AY75="","",VLOOKUP(AY75,'シフト記号表（勤務時間帯）'!$D$6:$Z$47,23,FALSE)) | AZ77: =IF($BC$3="４週",SUM(U77:AV77),IF($BC$3="暦月",SUM(U77:AY77),"")) -> 0 | BB77: =IF($BC$3="４週",AZ77/4,IF($BC$3="暦月",(AZ77/($BC$8/7)),"")) -> 0
P78: シフト記号
B79: =B76+1 -> 20 | F79: =C78 -> 0 | P79: 日中の勤務時間数 | U79: =IF(U78="","",VLOOKUP(U78,'シフト記号表（勤務時間帯）'!$D$6:$X$47,21,FALSE)) | V79: =IF(V78="","",VLOOKUP(V78,'シフト記号表（勤務時間帯）'!$D$6:$X$47,21,FALSE)) | W79: =IF(W78="","",VLOOKUP(W78,'シフト記号表（勤務時間帯）'!$D$6:$X$47,21,FALSE)) | X79: =IF(X78="","",VLOOKUP(X78,'シフト記号表（勤務時間帯）'!$D$6:$X$47,21,FALSE)) | Y79: =IF(Y78="","",VLOOKUP(Y78,'シフト記号表（勤務時間帯）'!$D$6:$X$47,21,FALSE)) | Z79: =IF(Z78="","",VLOOKUP(Z78,'シフト記号表（勤務時間帯）'!$D$6:$X$47,21,FALSE)) | AA79: =IF(AA78="","",VLOOKUP(AA78,'シフト記号表（勤務時間帯）'!$D$6:$X$47,21,FALSE)) | AB79: =IF(AB78="","",VLOOKUP(AB78,'シフト記号表（勤務時間帯）'!$D$6:$X$47,21,FALSE)) | ... AY79: =IF(AY78="","",VLOOKUP(AY78,'シフト記号表（勤務時間帯）'!$D$6:$X$47,21,FALSE)) | AZ79: =IF($BC$3="４週",SUM(U79:AV79),IF($BC$3="暦月",SUM(U79:AY79),"")) -> 0 | BB79: =IF($BC$3="４週",AZ79/4,IF($BC$3="暦月",(AZ79/($BC$8/7)),"")) -> 0
G80: =C78 -> 0 | P80: 夜間・深夜の勤務時間数 | U80: =IF(U78="","",VLOOKUP(U78,'シフト記号表（勤務時間帯）'!$D$6:$Z$47,23,FALSE)) | V80: =IF(V78="","",VLOOKUP(V78,'シフト記号表（勤務時間帯）'!$D$6:$Z$47,23,FALSE)) | W80: =IF(W78="","",VLOOKUP(W78,'シフト記号表（勤務時間帯）'!$D$6:$Z$47,23,FALSE)) | X80: =IF(X78="","",VLOOKUP(X78,'シフト記号表（勤務時間帯）'!$D$6:$Z$47,23,FALSE)) | Y80: =IF(Y78="","",VLOOKUP(Y78,'シフト記号表（勤務時間帯）'!$D$6:$Z$47,23,FALSE)) | Z80: =IF(Z78="","",VLOOKUP(Z78,'シフト記号表（勤務時間帯）'!$D$6:$Z$47,23,FALSE)) | AA80: =IF(AA78="","",VLOOKUP(AA78,'シフト記号表（勤務時間帯）'!$D$6:$Z$47,23,FALSE)) | AB80: =IF(AB78="","",VLOOKUP(AB78,'シフト記号表（勤務時間帯）'!$D$6:$Z$47,23,FALSE)) | ... AY80: =IF(AY78="","",VLOOKUP(AY78,'シフト記号表（勤務時間帯）'!$D$6:$Z$47,23,FALSE)) | AZ80: =IF($BC$3="４週",SUM(U80:AV80),IF($BC$3="暦月",SUM(U80:AY80),"")) -> 0 | BB80: =IF($BC$3="４週",AZ80/4,IF($BC$3="暦月",(AZ80/($BC$8/7)),"")) -> 0
P81: シフト記号
B82: =B79+1 -> 21 | F82: =C81 -> 0 | P82: 日中の勤務時間数 | U82: =IF(U81="","",VLOOKUP(U81,'シフト記号表（勤務時間帯）'!$D$6:$X$47,21,FALSE)) | V82: =IF(V81="","",VLOOKUP(V81,'シフト記号表（勤務時間帯）'!$D$6:$X$47,21,FALSE)) | W82: =IF(W81="","",VLOOKUP(W81,'シフト記号表（勤務時間帯）'!$D$6:$X$47,21,FALSE)) | X82: =IF(X81="","",VLOOKUP(X81,'シフト記号表（勤務時間帯）'!$D$6:$X$47,21,FALSE)) | Y82: =IF(Y81="","",VLOOKUP(Y81,'シフト記号表（勤務時間帯）'!$D$6:$X$47,21,FALSE)) | Z82: =IF(Z81="","",VLOOKUP(Z81,'シフト記号表（勤務時間帯）'!$D$6:$X$47,21,FALSE)) | AA82: =IF(AA81="","",VLOOKUP(AA81,'シフト記号表（勤務時間帯）'!$D$6:$X$47,21,FALSE)) | AB82: =IF(AB81="","",VLOOKUP(AB81,'シフト記号表（勤務時間帯）'!$D$6:$X$47,21,FALSE)) | ... AY82: =IF(AY81="","",VLOOKUP(AY81,'シフト記号表（勤務時間帯）'!$D$6:$X$47,21,FALSE)) | AZ82: =IF($BC$3="４週",SUM(U82:AV82),IF($BC$3="暦月",SUM(U82:AY82),"")) -> 0 | BB82: =IF($BC$3="４週",AZ82/4,IF($BC$3="暦月",(AZ82/($BC$8/7)),"")) -> 0
G83: =C81 -> 0 | P83: 夜間・深夜の勤務時間数 | U83: =IF(U81="","",VLOOKUP(U81,'シフト記号表（勤務時間帯）'!$D$6:$Z$47,23,FALSE)) | V83: =IF(V81="","",VLOOKUP(V81,'シフト記号表（勤務時間帯）'!$D$6:$Z$47,23,FALSE)) | W83: =IF(W81="","",VLOOKUP(W81,'シフト記号表（勤務時間帯）'!$D$6:$Z$47,23,FALSE)) | X83: =IF(X81="","",VLOOKUP(X81,'シフト記号表（勤務時間帯）'!$D$6:$Z$47,23,FALSE)) | Y83: =IF(Y81="","",VLOOKUP(Y81,'シフト記号表（勤務時間帯）'!$D$6:$Z$47,23,FALSE)) | Z83: =IF(Z81="","",VLOOKUP(Z81,'シフト記号表（勤務時間帯）'!$D$6:$Z$47,23,FALSE)) | AA83: =IF(AA81="","",VLOOKUP(AA81,'シフト記号表（勤務時間帯）'!$D$6:$Z$47,23,FALSE)) | AB83: =IF(AB81="","",VLOOKUP(AB81,'シフト記号表（勤務時間帯）'!$D$6:$Z$47,23,FALSE)) | ... AY83: =IF(AY81="","",VLOOKUP(AY81,'シフト記号表（勤務時間帯）'!$D$6:$Z$47,23,FALSE)) | AZ83: =IF($BC$3="４週",SUM(U83:AV83),IF($BC$3="暦月",SUM(U83:AY83),"")) -> 0 | BB83: =IF($BC$3="４週",AZ83/4,IF($BC$3="暦月",(AZ83/($BC$8/7)),"")) -> 0
P84: シフト記号
B85: =B82+1 -> 22 | F85: =C84 -> 0 | P85: 日中の勤務時間数 | U85: =IF(U84="","",VLOOKUP(U84,'シフト記号表（勤務時間帯）'!$D$6:$X$47,21,FALSE)) | V85: =IF(V84="","",VLOOKUP(V84,'シフト記号表（勤務時間帯）'!$D$6:$X$47,21,FALSE)) | W85: =IF(W84="","",VLOOKUP(W84,'シフト記号表（勤務時間帯）'!$D$6:$X$47,21,FALSE)) | X85: =IF(X84="","",VLOOKUP(X84,'シフト記号表（勤務時間帯）'!$D$6:$X$47,21,FALSE)) | Y85: =IF(Y84="","",VLOOKUP(Y84,'シフト記号表（勤務時間帯）'!$D$6:$X$47,21,FALSE)) | Z85: =IF(Z84="","",VLOOKUP(Z84,'シフト記号表（勤務時間帯）'!$D$6:$X$47,21,FALSE)) | AA85: =IF(AA84="","",VLOOKUP(AA84,'シフト記号表（勤務時間帯）'!$D$6:$X$47,21,FALSE)) | AB85: =IF(AB84="","",VLOOKUP(AB84,'シフト記号表（勤務時間帯）'!$D$6:$X$47,21,FALSE)) | ... AY85: =IF(AY84="","",VLOOKUP(AY84,'シフト記号表（勤務時間帯）'!$D$6:$X$47,21,FALSE)) | AZ85: =IF($BC$3="４週",SUM(U85:AV85),IF($BC$3="暦月",SUM(U85:AY85),"")) -> 0 | BB85: =IF($BC$3="４週",AZ85/4,IF($BC$3="暦月",(AZ85/($BC$8/7)),"")) -> 0
G86: =C84 -> 0 | P86: 夜間・深夜の勤務時間数 | U86: =IF(U84="","",VLOOKUP(U84,'シフト記号表（勤務時間帯）'!$D$6:$Z$47,23,FALSE)) | V86: =IF(V84="","",VLOOKUP(V84,'シフト記号表（勤務時間帯）'!$D$6:$Z$47,23,FALSE)) | W86: =IF(W84="","",VLOOKUP(W84,'シフト記号表（勤務時間帯）'!$D$6:$Z$47,23,FALSE)) | X86: =IF(X84="","",VLOOKUP(X84,'シフト記号表（勤務時間帯）'!$D$6:$Z$47,23,FALSE)) | Y86: =IF(Y84="","",VLOOKUP(Y84,'シフト記号表（勤務時間帯）'!$D$6:$Z$47,23,FALSE)) | Z86: =IF(Z84="","",VLOOKUP(Z84,'シフト記号表（勤務時間帯）'!$D$6:$Z$47,23,FALSE)) | AA86: =IF(AA84="","",VLOOKUP(AA84,'シフト記号表（勤務時間帯）'!$D$6:$Z$47,23,FALSE)) | AB86: =IF(AB84="","",VLOOKUP(AB84,'シフト記号表（勤務時間帯）'!$D$6:$Z$47,23,FALSE)) | ... AY86: =IF(AY84="","",VLOOKUP(AY84,'シフト記号表（勤務時間帯）'!$D$6:$Z$47,23,FALSE)) | AZ86: =IF($BC$3="４週",SUM(U86:AV86),IF($BC$3="暦月",SUM(U86:AY86),"")) -> 0 | BB86: =IF($BC$3="４週",AZ86/4,IF($BC$3="暦月",(AZ86/($BC$8/7)),"")) -> 0
P87: シフト記号
B88: =B85+1 -> 23 | F88: =C87 -> 0 | P88: 日中の勤務時間数 | U88: =IF(U87="","",VLOOKUP(U87,'シフト記号表（勤務時間帯）'!$D$6:$X$47,21,FALSE)) | V88: =IF(V87="","",VLOOKUP(V87,'シフト記号表（勤務時間帯）'!$D$6:$X$47,21,FALSE)) | W88: =IF(W87="","",VLOOKUP(W87,'シフト記号表（勤務時間帯）'!$D$6:$X$47,21,FALSE)) | X88: =IF(X87="","",VLOOKUP(X87,'シフト記号表（勤務時間帯）'!$D$6:$X$47,21,FALSE)) | Y88: =IF(Y87="","",VLOOKUP(Y87,'シフト記号表（勤務時間帯）'!$D$6:$X$47,21,FALSE)) | Z88: =IF(Z87="","",VLOOKUP(Z87,'シフト記号表（勤務時間帯）'!$D$6:$X$47,21,FALSE)) | AA88: =IF(AA87="","",VLOOKUP(AA87,'シフト記号表（勤務時間帯）'!$D$6:$X$47,21,FALSE)) | AB88: =IF(AB87="","",VLOOKUP(AB87,'シフト記号表（勤務時間帯）'!$D$6:$X$47,21,FALSE)) | ... AY88: =IF(AY87="","",VLOOKUP(AY87,'シフト記号表（勤務時間帯）'!$D$6:$X$47,21,FALSE)) | AZ88: =IF($BC$3="４週",SUM(U88:AV88),IF($BC$3="暦月",SUM(U88:AY88),"")) -> 0 | BB88: =IF($BC$3="４週",AZ88/4,IF($BC$3="暦月",(AZ88/($BC$8/7)),"")) -> 0
G89: =C87 -> 0 | P89: 夜間・深夜の勤務時間数 | U89: =IF(U87="","",VLOOKUP(U87,'シフト記号表（勤務時間帯）'!$D$6:$Z$47,23,FALSE)) | V89: =IF(V87="","",VLOOKUP(V87,'シフト記号表（勤務時間帯）'!$D$6:$Z$47,23,FALSE)) | W89: =IF(W87="","",VLOOKUP(W87,'シフト記号表（勤務時間帯）'!$D$6:$Z$47,23,FALSE)) | X89: =IF(X87="","",VLOOKUP(X87,'シフト記号表（勤務時間帯）'!$D$6:$Z$47,23,FALSE)) | Y89: =IF(Y87="","",VLOOKUP(Y87,'シフト記号表（勤務時間帯）'!$D$6:$Z$47,23,FALSE)) | Z89: =IF(Z87="","",VLOOKUP(Z87,'シフト記号表（勤務時間帯）'!$D$6:$Z$47,23,FALSE)) | AA89: =IF(AA87="","",VLOOKUP(AA87,'シフト記号表（勤務時間帯）'!$D$6:$Z$47,23,FALSE)) | AB89: =IF(AB87="","",VLOOKUP(AB87,'シフト記号表（勤務時間帯）'!$D$6:$Z$47,23,FALSE)) | ... AY89: =IF(AY87="","",VLOOKUP(AY87,'シフト記号表（勤務時間帯）'!$D$6:$Z$47,23,FALSE)) | AZ89: =IF($BC$3="４週",SUM(U89:AV89),IF($BC$3="暦月",SUM(U89:AY89),"")) -> 0 | BB89: =IF($BC$3="４週",AZ89/4,IF($BC$3="暦月",(AZ89/($BC$8/7)),"")) -> 0
P90: シフト記号
B91: =B88+1 -> 24 | F91: =C90 -> 0 | P91: 日中の勤務時間数 | U91: =IF(U90="","",VLOOKUP(U90,'シフト記号表（勤務時間帯）'!$D$6:$X$47,21,FALSE)) | V91: =IF(V90="","",VLOOKUP(V90,'シフト記号表（勤務時間帯）'!$D$6:$X$47,21,FALSE)) | W91: =IF(W90="","",VLOOKUP(W90,'シフト記号表（勤務時間帯）'!$D$6:$X$47,21,FALSE)) | X91: =IF(X90="","",VLOOKUP(X90,'シフト記号表（勤務時間帯）'!$D$6:$X$47,21,FALSE)) | Y91: =IF(Y90="","",VLOOKUP(Y90,'シフト記号表（勤務時間帯）'!$D$6:$X$47,21,FALSE)) | Z91: =IF(Z90="","",VLOOKUP(Z90,'シフト記号表（勤務時間帯）'!$D$6:$X$47,21,FALSE)) | AA91: =IF(AA90="","",VLOOKUP(AA90,'シフト記号表（勤務時間帯）'!$D$6:$X$47,21,FALSE)) | AB91: =IF(AB90="","",VLOOKUP(AB90,'シフト記号表（勤務時間帯）'!$D$6:$X$47,21,FALSE)) | ... AY91: =IF(AY90="","",VLOOKUP(AY90,'シフト記号表（勤務時間帯）'!$D$6:$X$47,21,FALSE)) | AZ91: =IF($BC$3="４週",SUM(U91:AV91),IF($BC$3="暦月",SUM(U91:AY91),"")) -> 0 | BB91: =IF($BC$3="４週",AZ91/4,IF($BC$3="暦月",(AZ91/($BC$8/7)),"")) -> 0
G92: =C90 -> 0 | P92: 夜間・深夜の勤務時間数 | U92: =IF(U90="","",VLOOKUP(U90,'シフト記号表（勤務時間帯）'!$D$6:$Z$47,23,FALSE)) | V92: =IF(V90="","",VLOOKUP(V90,'シフト記号表（勤務時間帯）'!$D$6:$Z$47,23,FALSE)) | W92: =IF(W90="","",VLOOKUP(W90,'シフト記号表（勤務時間帯）'!$D$6:$Z$47,23,FALSE)) | X92: =IF(X90="","",VLOOKUP(X90,'シフト記号表（勤務時間帯）'!$D$6:$Z$47,23,FALSE)) | Y92: =IF(Y90="","",VLOOKUP(Y90,'シフト記号表（勤務時間帯）'!$D$6:$Z$47,23,FALSE)) | Z92: =IF(Z90="","",VLOOKUP(Z90,'シフト記号表（勤務時間帯）'!$D$6:$Z$47,23,FALSE)) | AA92: =IF(AA90="","",VLOOKUP(AA90,'シフト記号表（勤務時間帯）'!$D$6:$Z$47,23,FALSE)) | AB92: =IF(AB90="","",VLOOKUP(AB90,'シフト記号表（勤務時間帯）'!$D$6:$Z$47,23,FALSE)) | ... AY92: =IF(AY90="","",VLOOKUP(AY90,'シフト記号表（勤務時間帯）'!$D$6:$Z$47,23,FALSE)) | AZ92: =IF($BC$3="４週",SUM(U92:AV92),IF($BC$3="暦月",SUM(U92:AY92),"")) -> 0 | BB92: =IF($BC$3="４週",AZ92/4,IF($BC$3="暦月",(AZ92/($BC$8/7)),"")) -> 0
P93: シフト記号
B94: =B91+1 -> 25 | F94: =C93 -> 0 | P94: 日中の勤務時間数 | U94: =IF(U93="","",VLOOKUP(U93,'シフト記号表（勤務時間帯）'!$D$6:$X$47,21,FALSE)) | V94: =IF(V93="","",VLOOKUP(V93,'シフト記号表（勤務時間帯）'!$D$6:$X$47,21,FALSE)) | W94: =IF(W93="","",VLOOKUP(W93,'シフト記号表（勤務時間帯）'!$D$6:$X$47,21,FALSE)) | X94: =IF(X93="","",VLOOKUP(X93,'シフト記号表（勤務時間帯）'!$D$6:$X$47,21,FALSE)) | Y94: =IF(Y93="","",VLOOKUP(Y93,'シフト記号表（勤務時間帯）'!$D$6:$X$47,21,FALSE)) | Z94: =IF(Z93="","",VLOOKUP(Z93,'シフト記号表（勤務時間帯）'!$D$6:$X$47,21,FALSE)) | AA94: =IF(AA93="","",VLOOKUP(AA93,'シフト記号表（勤務時間帯）'!$D$6:$X$47,21,FALSE)) | AB94: =IF(AB93="","",VLOOKUP(AB93,'シフト記号表（勤務時間帯）'!$D$6:$X$47,21,FALSE)) | ... AY94: =IF(AY93="","",VLOOKUP(AY93,'シフト記号表（勤務時間帯）'!$D$6:$X$47,21,FALSE)) | AZ94: =IF($BC$3="４週",SUM(U94:AV94),IF($BC$3="暦月",SUM(U94:AY94),"")) -> 0 | BB94: =IF($BC$3="４週",AZ94/4,IF($BC$3="暦月",(AZ94/($BC$8/7)),"")) -> 0
G95: =C93 -> 0 | P95: 夜間・深夜の勤務時間数 | U95: =IF(U93="","",VLOOKUP(U93,'シフト記号表（勤務時間帯）'!$D$6:$Z$47,23,FALSE)) | V95: =IF(V93="","",VLOOKUP(V93,'シフト記号表（勤務時間帯）'!$D$6:$Z$47,23,FALSE)) | W95: =IF(W93="","",VLOOKUP(W93,'シフト記号表（勤務時間帯）'!$D$6:$Z$47,23,FALSE)) | X95: =IF(X93="","",VLOOKUP(X93,'シフト記号表（勤務時間帯）'!$D$6:$Z$47,23,FALSE)) | Y95: =IF(Y93="","",VLOOKUP(Y93,'シフト記号表（勤務時間帯）'!$D$6:$Z$47,23,FALSE)) | Z95: =IF(Z93="","",VLOOKUP(Z93,'シフト記号表（勤務時間帯）'!$D$6:$Z$47,23,FALSE)) | AA95: =IF(AA93="","",VLOOKUP(AA93,'シフト記号表（勤務時間帯）'!$D$6:$Z$47,23,FALSE)) | AB95: =IF(AB93="","",VLOOKUP(AB93,'シフト記号表（勤務時間帯）'!$D$6:$Z$47,23,FALSE)) | ... AY95: =IF(AY93="","",VLOOKUP(AY93,'シフト記号表（勤務時間帯）'!$D$6:$Z$47,23,FALSE)) | AZ95: =IF($BC$3="４週",SUM(U95:AV95),IF($BC$3="暦月",SUM(U95:AY95),"")) -> 0 | BB95: =IF($BC$3="４週",AZ95/4,IF($BC$3="暦月",(AZ95/($BC$8/7)),"")) -> 0
P96: シフト記号
B97: =B94+1 -> 26 | F97: =C96 -> 0 | P97: 日中の勤務時間数 | U97: =IF(U96="","",VLOOKUP(U96,'シフト記号表（勤務時間帯）'!$D$6:$X$47,21,FALSE)) | V97: =IF(V96="","",VLOOKUP(V96,'シフト記号表（勤務時間帯）'!$D$6:$X$47,21,FALSE)) | W97: =IF(W96="","",VLOOKUP(W96,'シフト記号表（勤務時間帯）'!$D$6:$X$47,21,FALSE)) | X97: =IF(X96="","",VLOOKUP(X96,'シフト記号表（勤務時間帯）'!$D$6:$X$47,21,FALSE)) | Y97: =IF(Y96="","",VLOOKUP(Y96,'シフト記号表（勤務時間帯）'!$D$6:$X$47,21,FALSE)) | Z97: =IF(Z96="","",VLOOKUP(Z96,'シフト記号表（勤務時間帯）'!$D$6:$X$47,21,FALSE)) | AA97: =IF(AA96="","",VLOOKUP(AA96,'シフト記号表（勤務時間帯）'!$D$6:$X$47,21,FALSE)) | AB97: =IF(AB96="","",VLOOKUP(AB96,'シフト記号表（勤務時間帯）'!$D$6:$X$47,21,FALSE)) | ... AY97: =IF(AY96="","",VLOOKUP(AY96,'シフト記号表（勤務時間帯）'!$D$6:$X$47,21,FALSE)) | AZ97: =IF($BC$3="４週",SUM(U97:AV97),IF($BC$3="暦月",SUM(U97:AY97),"")) -> 0 | BB97: =IF($BC$3="４週",AZ97/4,IF($BC$3="暦月",(AZ97/($BC$8/7)),"")) -> 0
G98: =C96 -> 0 | P98: 夜間・深夜の勤務時間数 | U98: =IF(U96="","",VLOOKUP(U96,'シフト記号表（勤務時間帯）'!$D$6:$Z$47,23,FALSE)) | V98: =IF(V96="","",VLOOKUP(V96,'シフト記号表（勤務時間帯）'!$D$6:$Z$47,23,FALSE)) | W98: =IF(W96="","",VLOOKUP(W96,'シフト記号表（勤務時間帯）'!$D$6:$Z$47,23,FALSE)) | X98: =IF(X96="","",VLOOKUP(X96,'シフト記号表（勤務時間帯）'!$D$6:$Z$47,23,FALSE)) | Y98: =IF(Y96="","",VLOOKUP(Y96,'シフト記号表（勤務時間帯）'!$D$6:$Z$47,23,FALSE)) | Z98: =IF(Z96="","",VLOOKUP(Z96,'シフト記号表（勤務時間帯）'!$D$6:$Z$47,23,FALSE)) | AA98: =IF(AA96="","",VLOOKUP(AA96,'シフト記号表（勤務時間帯）'!$D$6:$Z$47,23,FALSE)) | AB98: =IF(AB96="","",VLOOKUP(AB96,'シフト記号表（勤務時間帯）'!$D$6:$Z$47,23,FALSE)) | ... AY98: =IF(AY96="","",VLOOKUP(AY96,'シフト記号表（勤務時間帯）'!$D$6:$Z$47,23,FALSE)) | AZ98: =IF($BC$3="４週",SUM(U98:AV98),IF($BC$3="暦月",SUM(U98:AY98),"")) -> 0 | BB98: =IF($BC$3="４週",AZ98/4,IF($BC$3="暦月",(AZ98/($BC$8/7)),"")) -> 0
P99: シフト記号
B100: =B97+1 -> 27 | F100: =C99 -> 0 | P100: 日中の勤務時間数 | U100: =IF(U99="","",VLOOKUP(U99,'シフト記号表（勤務時間帯）'!$D$6:$X$47,21,FALSE)) | V100: =IF(V99="","",VLOOKUP(V99,'シフト記号表（勤務時間帯）'!$D$6:$X$47,21,FALSE)) | W100: =IF(W99="","",VLOOKUP(W99,'シフト記号表（勤務時間帯）'!$D$6:$X$47,21,FALSE)) | X100: =IF(X99="","",VLOOKUP(X99,'シフト記号表（勤務時間帯）'!$D$6:$X$47,21,FALSE)) | Y100: =IF(Y99="","",VLOOKUP(Y99,'シフト記号表（勤務時間帯）'!$D$6:$X$47,21,FALSE)) | Z100: =IF(Z99="","",VLOOKUP(Z99,'シフト記号表（勤務時間帯）'!$D$6:$X$47,21,FALSE)) | AA100: =IF(AA99="","",VLOOKUP(AA99,'シフト記号表（勤務時間帯）'!$D$6:$X$47,21,FALSE)) | AB100: =IF(AB99="","",VLOOKUP(AB99,'シフト記号表（勤務時間帯）'!$D$6:$X$47,21,FALSE)) | ... AY100: =IF(AY99="","",VLOOKUP(AY99,'シフト記号表（勤務時間帯）'!$D$6:$X$47,21,FALSE)) | AZ100: =IF($BC$3="４週",SUM(U100:AV100),IF($BC$3="暦月",SUM(U100:AY100),"")) -> 0 | BB100: =IF($BC$3="４週",AZ100/4,IF($BC$3="暦月",(AZ100/($BC$8/7)),"")) -> 0
G101: =C99 -> 0 | P101: 夜間・深夜の勤務時間数 | U101: =IF(U99="","",VLOOKUP(U99,'シフト記号表（勤務時間帯）'!$D$6:$Z$47,23,FALSE)) | V101: =IF(V99="","",VLOOKUP(V99,'シフト記号表（勤務時間帯）'!$D$6:$Z$47,23,FALSE)) | W101: =IF(W99="","",VLOOKUP(W99,'シフト記号表（勤務時間帯）'!$D$6:$Z$47,23,FALSE)) | X101: =IF(X99="","",VLOOKUP(X99,'シフト記号表（勤務時間帯）'!$D$6:$Z$47,23,FALSE)) | Y101: =IF(Y99="","",VLOOKUP(Y99,'シフト記号表（勤務時間帯）'!$D$6:$Z$47,23,FALSE)) | Z101: =IF(Z99="","",VLOOKUP(Z99,'シフト記号表（勤務時間帯）'!$D$6:$Z$47,23,FALSE)) | AA101: =IF(AA99="","",VLOOKUP(AA99,'シフト記号表（勤務時間帯）'!$D$6:$Z$47,23,FALSE)) | AB101: =IF(AB99="","",VLOOKUP(AB99,'シフト記号表（勤務時間帯）'!$D$6:$Z$47,23,FALSE)) | ... AY101: =IF(AY99="","",VLOOKUP(AY99,'シフト記号表（勤務時間帯）'!$D$6:$Z$47,23,FALSE)) | AZ101: =IF($BC$3="４週",SUM(U101:AV101),IF($BC$3="暦月",SUM(U101:AY101),"")) -> 0 | BB101: =IF($BC$3="４週",AZ101/4,IF($BC$3="暦月",(AZ101/($BC$8/7)),"")) -> 0
P102: シフト記号
B103: =B100+1 -> 28 | F103: =C102 -> 0 | P103: 日中の勤務時間数 | U103: =IF(U102="","",VLOOKUP(U102,'シフト記号表（勤務時間帯）'!$D$6:$X$47,21,FALSE)) | V103: =IF(V102="","",VLOOKUP(V102,'シフト記号表（勤務時間帯）'!$D$6:$X$47,21,FALSE)) | W103: =IF(W102="","",VLOOKUP(W102,'シフト記号表（勤務時間帯）'!$D$6:$X$47,21,FALSE)) | X103: =IF(X102="","",VLOOKUP(X102,'シフト記号表（勤務時間帯）'!$D$6:$X$47,21,FALSE)) | Y103: =IF(Y102="","",VLOOKUP(Y102,'シフト記号表（勤務時間帯）'!$D$6:$X$47,21,FALSE)) | Z103: =IF(Z102="","",VLOOKUP(Z102,'シフト記号表（勤務時間帯）'!$D$6:$X$47,21,FALSE)) | AA103: =IF(AA102="","",VLOOKUP(AA102,'シフト記号表（勤務時間帯）'!$D$6:$X$47,21,FALSE)) | AB103: =IF(AB102="","",VLOOKUP(AB102,'シフト記号表（勤務時間帯）'!$D$6:$X$47,21,FALSE)) | ... AY103: =IF(AY102="","",VLOOKUP(AY102,'シフト記号表（勤務時間帯）'!$D$6:$X$47,21,FALSE)) | AZ103: =IF($BC$3="４週",SUM(U103:AV103),IF($BC$3="暦月",SUM(U103:AY103),"")) -> 0 | BB103: =IF($BC$3="４週",AZ103/4,IF($BC$3="暦月",(AZ103/($BC$8/7)),"")) -> 0
G104: =C102 -> 0 | P104: 夜間・深夜の勤務時間数 | U104: =IF(U102="","",VLOOKUP(U102,'シフト記号表（勤務時間帯）'!$D$6:$Z$47,23,FALSE)) | V104: =IF(V102="","",VLOOKUP(V102,'シフト記号表（勤務時間帯）'!$D$6:$Z$47,23,FALSE)) | W104: =IF(W102="","",VLOOKUP(W102,'シフト記号表（勤務時間帯）'!$D$6:$Z$47,23,FALSE)) | X104: =IF(X102="","",VLOOKUP(X102,'シフト記号表（勤務時間帯）'!$D$6:$Z$47,23,FALSE)) | Y104: =IF(Y102="","",VLOOKUP(Y102,'シフト記号表（勤務時間帯）'!$D$6:$Z$47,23,FALSE)) | Z104: =IF(Z102="","",VLOOKUP(Z102,'シフト記号表（勤務時間帯）'!$D$6:$Z$47,23,FALSE)) | AA104: =IF(AA102="","",VLOOKUP(AA102,'シフト記号表（勤務時間帯）'!$D$6:$Z$47,23,FALSE)) | AB104: =IF(AB102="","",VLOOKUP(AB102,'シフト記号表（勤務時間帯）'!$D$6:$Z$47,23,FALSE)) | ... AY104: =IF(AY102="","",VLOOKUP(AY102,'シフト記号表（勤務時間帯）'!$D$6:$Z$47,23,FALSE)) | AZ104: =IF($BC$3="４週",SUM(U104:AV104),IF($BC$3="暦月",SUM(U104:AY104),"")) -> 0 | BB104: =IF($BC$3="４週",AZ104/4,IF($BC$3="暦月",(AZ104/($BC$8/7)),"")) -> 0
P105: シフト記号
...

Sheet 認知症対応型共同生活介護（1枚用）
C1: （標準様式1） | K1: 従業者の勤務の体制及び勤務形態一覧表 | AQ1: サービス種別（ | AR1: 認知症対応型共同生活介護 | BH1: ）
Z2: 令和 | AA2: 6 | AC2: ( | AD2: =IF(AA2=0,"",YEAR(DATE(2018+AA2,1,1))) -> 2024 | AF2: ) | AG2: 年 | AH2: 4 | AJ2: 月 | AQ2: 事業所名（ | AR2: ○○○○ | BH2: ）
BB3: (1) | BC3: ４週
BB4: (2) | BC4: 予定
AM6: (3) 事業所における常勤の従業者が勤務すべき時間数 | AY6: 40 | BA6: 時間/週 | BC6: 160 | BE6: 時間/月
AZ8: 当月の日数 | BC8: =DAY(EOMONTH(DATE(AD2,AH2,1),0)) -> 30 | BE8: 日
AQ10: (4) 利用者数 | BA10: （前年度の平均値または推定数） | BE10: 人
AI12: (5) 事業所の共同生活住居（ユニット）数 | AS12: (6) 日中／夜間及び深夜の時間帯の区分
AO13: ユニット | AS13: 利用者の生活時間帯（日中） | BB13: 0.29166667 | BE13: ～ | BF13: 0.83333333
AO14: ユニット目 | AS14: 夜間及び深夜の時間帯 | BB14: 0.83333333 | BE14: ～ | BF14: 0.29166667
B16: No | C16: (7) 職種 | H16: (8) 勤務 形態 | I16: (9) 資格 | M16: (10) 氏 名 | P16: 日中／夜間及び深夜 の区分 | AI16: (11) | AN16: （宿直 ･･･ | AR16: ） | AZ16: =IF(BC3="計画","(12)1～4週目の勤務時間数合計","(12)1か月の勤務時間数 合計") -> (12)1か月の勤務時間数 合計 | BB16: (13) 週平均 勤務時間数 | BD16: (14) 兼務状況 （兼務先/兼務する職務の内容）等
U17: 1週目 | AB17: 2週目 | AI17: 3週目 | AP17: 4週目 | AW17: 5週目
U18: 1 | V18: 2 | W18: 3 | X18: 4 | Y18: 5 | Z18: 6 | AA18: 7 | AB18: 8 | AC18: 9 | AD18: 10 | AE18: 11 | AF18: 12 | AG18: 13 | AH18: 14 | AI18: 15 | AJ18: 16 | AK18: 17 | AL18: 18 | AM18: 19 | AN18: 20 | AO18: 21 | AP18: 22 | AQ18: 23 | AR18: 24 | AS18: 25 | AT18: 26 | AU18: 27 | AV18: 28 | AW18: =IF($BC$3="暦月",IF(DAY(DATE($AD$2,$AH$2,29))=29,29,""),"") | AX18: =IF($BC$3="暦月",IF(DAY(DATE($AD$2,$AH$2,30))=30,30,""),"") | AY18: =IF($BC$3="暦月",IF(DAY(DATE($AD$2,$AH$2,31))=31,31,""),"")
U19: =WEEKDAY(DATE($AD$2,$AH$2,1)) -> 2 | V19: =WEEKDAY(DATE($AD$2,$AH$2,2)) -> 3 | W19: =WEEKDAY(DATE($AD$2,$AH$2,3)) -> 4 | X19: =WEEKDAY(DATE($AD$2,$AH$2,4)) -> 5 | Y19: =WEEKDAY(DATE($AD$2,$AH$2,5)) -> 6 | Z19: =WEEKDAY(DATE($AD$2,$AH$2,6)) -> 7 | AA19: =WEEKDAY(DATE($AD$2,$AH$2,7)) -> 1 | AB19: =WEEKDAY(DATE($AD$2,$AH$2,8)) -> 2 | AC19: =WEEKDAY(DATE($AD$2,$AH$2,9)) -> 3 | AD19: =WEEKDAY(DATE($AD$2,$AH$2,10)) -> 4 | AE19: =WEEKDAY(DATE($AD$2,$AH$2,11)) -> 5 | AF19: =WEEKDAY(DATE($AD$2,$AH$2,12)) -> 6 | AG19: =WEEKDAY(DATE($AD$2,$AH$2,13)) -> 7 | AH19: =WEEKDAY(DATE($AD$2,$AH$2,14)) -> 1 | AI19: =WEEKDAY(DATE($AD$2,$AH$2,15)) -> 2 | AJ19: =WEEKDAY(DATE($AD$2,$AH$2,16)) -> 3 | AK19: =WEEKDAY(DATE($AD$2,$AH$2,17)) -> 4 | AL19: =WEEKDAY(DATE($AD$2,$AH$2,18)) -> 5 | AM19: =WEEKDAY(DATE($AD$2,$AH$2,19)) -> 6 | AN19: =WEEKDAY(DATE($AD$2,$AH$2,20)) -> 7 | AO19: =WEEKDAY(DATE($AD$2,$AH$2,21)) -> 1 | AP19: =WEEKDAY(DATE($AD$2,$AH$2,22)) -> 2 | AQ19: =WEEKDAY(DATE($AD$2,$AH$2,23)) -> 3 | AR19: =WEEKDAY(DATE($AD$2,$AH$2,24)) -> 4 | AS19: =WEEKDAY(DATE($AD$2,$AH$2,25)) -> 5 | AT19: =WEEKDAY(DATE($AD$2,$AH$2,26)) -> 6 | AU19: =WEEKDAY(DATE($AD$2,$AH$2,27)) -> 7 | AV19: =WEEKDAY(DATE($AD$2,$AH$2,28)) -> 1 | AW19: =IF(AW18=29,WEEKDAY(DATE($AD$2,$AH$2,29)),0) -> 0 | AX19: =IF(AX18=30,WEEKDAY(DATE($AD$2,$AH$2,30)),0) -> 0 | AY19: =IF(AY18=31,WEEKDAY(DATE($AD$2,$AH$2,31)),0) -> 0
U20: =IF(U19=1,"日",IF(U19=2,"月",IF(U19=3,"火",IF(U19=4,"水",IF(U19=5,"木",IF(U19=6,"金","土")))))) -> 月 | V20: =IF(V19=1,"日",IF(V19=2,"月",IF(V19=3,"火",IF(V19=4,"水",IF(V19=5,"木",IF(V19=6,"金","土")))))) -> 火 | W20: =IF(W19=1,"日",IF(W19=2,"月",IF(W19=3,"火",IF(W19=4,"水",IF(W19=5,"木",IF(W19=6,"金","土")))))) -> 水 | X20: =IF(X19=1,"日",IF(X19=2,"月",IF(X19=3,"火",IF(X19=4,"水",IF(X19=5,"木",IF(X19=6,"金","土")))))) -> 木 | Y20: =IF(Y19=1,"日",IF(Y19=2,"月",IF(Y19=3,"火",IF(Y19=4,"水",IF(Y19=5,"木",IF(Y19=6,"金","土")))))) -> 金 | Z20: =IF(Z19=1,"日",IF(Z19=2,"月",IF(Z19=3,"火",IF(Z19=4,"水",IF(Z19=5,"木",IF(Z19=6,"金","土")))))) -> 土 | AA20: =IF(AA19=1,"日",IF(AA19=2,"月",IF(AA19=3,"火",IF(AA19=4,"水",IF(AA19=5,"木",IF(AA19=6,"金","土")))))) -> 日 | AB20: =IF(AB19=1,"日",IF(AB19=2,"月",IF(AB19=3,"火",IF(AB19=4,"水",IF(AB19=5,"木",IF(AB19=6,"金","土")))))) -> 月 | ... AV20: =IF(AV19=1,"日",IF(AV19=2,"月",IF(AV19=3,"火",IF(AV19=4,"水",IF(AV19=5,"木",IF(AV19=6,"金","土")))))) -> 日 | AW20: =IF(AW19=1,"日",IF(AW19=2,"月",IF(AW19=3,"火",IF(AW19=4,"水",IF(AW19=5,"木",IF(AW19=6,"金",IF(AW19=0,"","土"))))))) | AX20: =IF(AX19=1,"日",IF(AX19=2,"月",IF(AX19=3,"火",IF(AX19=4,"水",IF(AX19=5,"木",IF(AX19=6,"金",IF(AX19=0,"","土"))))))) | AY20: =IF(AY19=1,"日",IF(AY19=2,"月",IF(AY19=3,"火",IF(AY19=4,"水",IF(AY19=5,"木",IF(AY19=6,"金",IF(AY19=0,"","土")))))))
P21: シフト記号
B22: 1 | F22: =C21 -> 0 | P22: 日中の勤務時間数 | U22: =IF(U21="","",VLOOKUP(U21,'シフト記号表（勤務時間帯）'!$D$6:$X$47,21,FALSE)) | V22: =IF(V21="","",VLOOKUP(V21,'シフト記号表（勤務時間帯）'!$D$6:$X$47,21,FALSE)) | W22: =IF(W21="","",VLOOKUP(W21,'シフト記号表（勤務時間帯）'!$D$6:$X$47,21,FALSE)) | X22: =IF(X21="","",VLOOKUP(X21,'シフト記号表（勤務時間帯）'!$D$6:$X$47,21,FALSE)) | Y22: =IF(Y21="","",VLOOKUP(Y21,'シフト記号表（勤務時間帯）'!$D$6:$X$47,21,FALSE)) | Z22: =IF(Z21="","",VLOOKUP(Z21,'シフト記号表（勤務時間帯）'!$D$6:$X$47,21,FALSE)) | AA22: =IF(AA21="","",VLOOKUP(AA21,'シフト記号表（勤務時間帯）'!$D$6:$X$47,21,FALSE)) | AB22: =IF(AB21="","",VLOOKUP(AB21,'シフト記号表（勤務時間帯）'!$D$6:$X$47,21,FALSE)) | ... AY22: =IF(AY21="","",VLOOKUP(AY21,'シフト記号表（勤務時間帯）'!$D$6:$X$47,21,FALSE)) | AZ22: =IF($BC$3="４週",SUM(U22:AV22),IF($BC$3="暦月",SUM(U22:AY22),"")) -> 0 | BB22: =IF($BC$3="４週",AZ22/4,IF($BC$3="暦月",(AZ22/($BC$8/7)),"")) -> 0
G23: =C21 -> 0 | P23: 夜間・深夜の勤務時間数 | U23: =IF(U21="","",VLOOKUP(U21,'シフト記号表（勤務時間帯）'!$D$6:$Z$47,23,FALSE)) | V23: =IF(V21="","",VLOOKUP(V21,'シフト記号表（勤務時間帯）'!$D$6:$Z$47,23,FALSE)) | W23: =IF(W21="","",VLOOKUP(W21,'シフト記号表（勤務時間帯）'!$D$6:$Z$47,23,FALSE)) | X23: =IF(X21="","",VLOOKUP(X21,'シフト記号表（勤務時間帯）'!$D$6:$Z$47,23,FALSE)) | Y23: =IF(Y21="","",VLOOKUP(Y21,'シフト記号表（勤務時間帯）'!$D$6:$Z$47,23,FALSE)) | Z23: =IF(Z21="","",VLOOKUP(Z21,'シフト記号表（勤務時間帯）'!$D$6:$Z$47,23,FALSE)) | AA23: =IF(AA21="","",VLOOKUP(AA21,'シフト記号表（勤務時間帯）'!$D$6:$Z$47,23,FALSE)) | AB23: =IF(AB21="","",VLOOKUP(AB21,'シフト記号表（勤務時間帯）'!$D$6:$Z$47,23,FALSE)) | ... AY23: =IF(AY21="","",VLOOKUP(AY21,'シフト記号表（勤務時間帯）'!$D$6:$Z$47,23,FALSE)) | AZ23: =IF($BC$3="４週",SUM(U23:AV23),IF($BC$3="暦月",SUM(U23:AY23),"")) -> 0 | BB23: =IF($BC$3="４週",AZ23/4,IF($BC$3="暦月",(AZ23/($BC$8/7)),"")) -> 0
P24: シフト記号
B25: =B22+1 -> 2 | F25: =C24 -> 0 | P25: 日中の勤務時間数 | U25: =IF(U24="","",VLOOKUP(U24,'シフト記号表（勤務時間帯）'!$D$6:$X$47,21,FALSE)) | V25: =IF(V24="","",VLOOKUP(V24,'シフト記号表（勤務時間帯）'!$D$6:$X$47,21,FALSE)) | W25: =IF(W24="","",VLOOKUP(W24,'シフト記号表（勤務時間帯）'!$D$6:$X$47,21,FALSE)) | X25: =IF(X24="","",VLOOKUP(X24,'シフト記号表（勤務時間帯）'!$D$6:$X$47,21,FALSE)) | Y25: =IF(Y24="","",VLOOKUP(Y24,'シフト記号表（勤務時間帯）'!$D$6:$X$47,21,FALSE)) | Z25: =IF(Z24="","",VLOOKUP(Z24,'シフト記号表（勤務時間帯）'!$D$6:$X$47,21,FALSE)) | AA25: =IF(AA24="","",VLOOKUP(AA24,'シフト記号表（勤務時間帯）'!$D$6:$X$47,21,FALSE)) | AB25: =IF(AB24="","",VLOOKUP(AB24,'シフト記号表（勤務時間帯）'!$D$6:$X$47,21,FALSE)) | ... AY25: =IF(AY24="","",VLOOKUP(AY24,'シフト記号表（勤務時間帯）'!$D$6:$X$47,21,FALSE)) | AZ25: =IF($BC$3="４週",SUM(U25:AV25),IF($BC$3="暦月",SUM(U25:AY25),"")) -> 0 | BB25: =IF($BC$3="４週",AZ25/4,IF($BC$3="暦月",(AZ25/($BC$8/7)),"")) -> 0
G26: =C24 -> 0 | P26: 夜間・深夜の勤務時間数 | U26: =IF(U24="","",VLOOKUP(U24,'シフト記号表（勤務時間帯）'!$D$6:$Z$47,23,FALSE)) | V26: =IF(V24="","",VLOOKUP(V24,'シフト記号表（勤務時間帯）'!$D$6:$Z$47,23,FALSE)) | W26: =IF(W24="","",VLOOKUP(W24,'シフト記号表（勤務時間帯）'!$D$6:$Z$47,23,FALSE)) | X26: =IF(X24="","",VLOOKUP(X24,'シフト記号表（勤務時間帯）'!$D$6:$Z$47,23,FALSE)) | Y26: =IF(Y24="","",VLOOKUP(Y24,'シフト記号表（勤務時間帯）'!$D$6:$Z$47,23,FALSE)) | Z26: =IF(Z24="","",VLOOKUP(Z24,'シフト記号表（勤務時間帯）'!$D$6:$Z$47,23,FALSE)) | AA26: =IF(AA24="","",VLOOKUP(AA24,'シフト記号表（勤務時間帯）'!$D$6:$Z$47,23,FALSE)) | AB26: =IF(AB24="","",VLOOKUP(AB24,'シフト記号表（勤務時間帯）'!$D$6:$Z$47,23,FALSE)) | ... AY26: =IF(AY24="","",VLOOKUP(AY24,'シフト記号表（勤務時間帯）'!$D$6:$Z$47,23,FALSE)) | AZ26: =IF($BC$3="４週",SUM(U26:AV26),IF($BC$3="暦月",SUM(U26:AY26),"")) -> 0 | BB26: =IF($BC$3="４週",AZ26/4,IF($BC$3="暦月",(AZ26/($BC$8/7)),"")) -> 0
P27: シフト記号
B28: =B25+1 -> 3 | F28: =C27 -> 0 | P28: 日中の勤務時間数 | U28: =IF(U27="","",VLOOKUP(U27,'シフト記号表（勤務時間帯）'!$D$6:$X$47,21,FALSE)) | V28: =IF(V27="","",VLOOKUP(V27,'シフト記号表（勤務時間帯）'!$D$6:$X$47,21,FALSE)) | W28: =IF(W27="","",VLOOKUP(W27,'シフト記号表（勤務時間帯）'!$D$6:$X$47,21,FALSE)) | X28: =IF(X27="","",VLOOKUP(X27,'シフト記号表（勤務時間帯）'!$D$6:$X$47,21,FALSE)) | Y28: =IF(Y27="","",VLOOKUP(Y27,'シフト記号表（勤務時間帯）'!$D$6:$X$47,21,FALSE)) | Z28: =IF(Z27="","",VLOOKUP(Z27,'シフト記号表（勤務時間帯）'!$D$6:$X$47,21,FALSE)) | AA28: =IF(AA27="","",VLOOKUP(AA27,'シフト記号表（勤務時間帯）'!$D$6:$X$47,21,FALSE)) | AB28: =IF(AB27="","",VLOOKUP(AB27,'シフト記号表（勤務時間帯）'!$D$6:$X$47,21,FALSE)) | ... AY28: =IF(AY27="","",VLOOKUP(AY27,'シフト記号表（勤務時間帯）'!$D$6:$X$47,21,FALSE)) | AZ28: =IF($BC$3="４週",SUM(U28:AV28),IF($BC$3="暦月",SUM(U28:AY28),"")) -> 0 | BB28: =IF($BC$3="４週",AZ28/4,IF($BC$3="暦月",(AZ28/($BC$8/7)),"")) -> 0
G29: =C27 -> 0 | P29: 夜間・深夜の勤務時間数 | U29: =IF(U27="","",VLOOKUP(U27,'シフト記号表（勤務時間帯）'!$D$6:$Z$47,23,FALSE)) | V29: =IF(V27="","",VLOOKUP(V27,'シフト記号表（勤務時間帯）'!$D$6:$Z$47,23,FALSE)) | W29: =IF(W27="","",VLOOKUP(W27,'シフト記号表（勤務時間帯）'!$D$6:$Z$47,23,FALSE)) | X29: =IF(X27="","",VLOOKUP(X27,'シフト記号表（勤務時間帯）'!$D$6:$Z$47,23,FALSE)) | Y29: =IF(Y27="","",VLOOKUP(Y27,'シフト記号表（勤務時間帯）'!$D$6:$Z$47,23,FALSE)) | Z29: =IF(Z27="","",VLOOKUP(Z27,'シフト記号表（勤務時間帯）'!$D$6:$Z$47,23,FALSE)) | AA29: =IF(AA27="","",VLOOKUP(AA27,'シフト記号表（勤務時間帯）'!$D$6:$Z$47,23,FALSE)) | AB29: =IF(AB27="","",VLOOKUP(AB27,'シフト記号表（勤務時間帯）'!$D$6:$Z$47,23,FALSE)) | ... AY29: =IF(AY27="","",VLOOKUP(AY27,'シフト記号表（勤務時間帯）'!$D$6:$Z$47,23,FALSE)) | AZ29: =IF($BC$3="４週",SUM(U29:AV29),IF($BC$3="暦月",SUM(U29:AY29),"")) -> 0 | BB29: =IF($BC$3="４週",AZ29/4,IF($BC$3="暦月",(AZ29/($BC$8/7)),"")) -> 0
P30: シフト記号
B31: =B28+1 -> 4 | F31: =C30 -> 0 | P31: 日中の勤務時間数 | U31: =IF(U30="","",VLOOKUP(U30,'シフト記号表（勤務時間帯）'!$D$6:$X$47,21,FALSE)) | V31: =IF(V30="","",VLOOKUP(V30,'シフト記号表（勤務時間帯）'!$D$6:$X$47,21,FALSE)) | W31: =IF(W30="","",VLOOKUP(W30,'シフト記号表（勤務時間帯）'!$D$6:$X$47,21,FALSE)) | X31: =IF(X30="","",VLOOKUP(X30,'シフト記号表（勤務時間帯）'!$D$6:$X$47,21,FALSE)) | Y31: =IF(Y30="","",VLOOKUP(Y30,'シフト記号表（勤務時間帯）'!$D$6:$X$47,21,FALSE)) | Z31: =IF(Z30="","",VLOOKUP(Z30,'シフト記号表（勤務時間帯）'!$D$6:$X$47,21,FALSE)) | AA31: =IF(AA30="","",VLOOKUP(AA30,'シフト記号表（勤務時間帯）'!$D$6:$X$47,21,FALSE)) | AB31: =IF(AB30="","",VLOOKUP(AB30,'シフト記号表（勤務時間帯）'!$D$6:$X$47,21,FALSE)) | ... AY31: =IF(AY30="","",VLOOKUP(AY30,'シフト記号表（勤務時間帯）'!$D$6:$X$47,21,FALSE)) | AZ31: =IF($BC$3="４週",SUM(U31:AV31),IF($BC$3="暦月",SUM(U31:AY31),"")) -> 0 | BB31: =IF($BC$3="４週",AZ31/4,IF($BC$3="暦月",(AZ31/($BC$8/7)),"")) -> 0
G32: =C30 -> 0 | P32: 夜間・深夜の勤務時間数 | U32: =IF(U30="","",VLOOKUP(U30,'シフト記号表（勤務時間帯）'!$D$6:$Z$47,23,FALSE)) | V32: =IF(V30="","",VLOOKUP(V30,'シフト記号表（勤務時間帯）'!$D$6:$Z$47,23,FALSE)) | W32: =IF(W30="","",VLOOKUP(W30,'シフト記号表（勤務時間帯）'!$D$6:$Z$47,23,FALSE)) | X32: =IF(X30="","",VLOOKUP(X30,'シフト記号表（勤務時間帯）'!$D$6:$Z$47,23,FALSE)) | Y32: =IF(Y30="","",VLOOKUP(Y30,'シフト記号表（勤務時間帯）'!$D$6:$Z$47,23,FALSE)) | Z32: =IF(Z30="","",VLOOKUP(Z30,'シフト記号表（勤務時間帯）'!$D$6:$Z$47,23,FALSE)) | AA32: =IF(AA30="","",VLOOKUP(AA30,'シフト記号表（勤務時間帯）'!$D$6:$Z$47,23,FALSE)) | AB32: =IF(AB30="","",VLOOKUP(AB30,'シフト記号表（勤務時間帯）'!$D$6:$Z$47,23,FALSE)) | ... AY32: =IF(AY30="","",VLOOKUP(AY30,'シフト記号表（勤務時間帯）'!$D$6:$Z$47,23,FALSE)) | AZ32: =IF($BC$3="４週",SUM(U32:AV32),IF($BC$3="暦月",SUM(U32:AY32),"")) -> 0 | BB32: =IF($BC$3="４週",AZ32/4,IF($BC$3="暦月",(AZ32/($BC$8/7)),"")) -> 0
P33: シフト記号
B34: =B31+1 -> 5 | F34: =C33 -> 0 | P34: 日中の勤務時間数 | U34: =IF(U33="","",VLOOKUP(U33,'シフト記号表（勤務時間帯）'!$D$6:$X$47,21,FALSE)) | V34: =IF(V33="","",VLOOKUP(V33,'シフト記号表（勤務時間帯）'!$D$6:$X$47,21,FALSE)) | W34: =IF(W33="","",VLOOKUP(W33,'シフト記号表（勤務時間帯）'!$D$6:$X$47,21,FALSE)) | X34: =IF(X33="","",VLOOKUP(X33,'シフト記号表（勤務時間帯）'!$D$6:$X$47,21,FALSE)) | Y34: =IF(Y33="","",VLOOKUP(Y33,'シフト記号表（勤務時間帯）'!$D$6:$X$47,21,FALSE)) | Z34: =IF(Z33="","",VLOOKUP(Z33,'シフト記号表（勤務時間帯）'!$D$6:$X$47,21,FALSE)) | AA34: =IF(AA33="","",VLOOKUP(AA33,'シフト記号表（勤務時間帯）'!$D$6:$X$47,21,FALSE)) | AB34: =IF(AB33="","",VLOOKUP(AB33,'シフト記号表（勤務時間帯）'!$D$6:$X$47,21,FALSE)) | ... AY34: =IF(AY33="","",VLOOKUP(AY33,'シフト記号表（勤務時間帯）'!$D$6:$X$47,21,FALSE)) | AZ34: =IF($BC$3="４週",SUM(U34:AV34),IF($BC$3="暦月",SUM(U34:AY34),"")) -> 0 | BB34: =IF($BC$3="４週",AZ34/4,IF($BC$3="暦月",(AZ34/($BC$8/7)),"")) -> 0
G35: =C33 -> 0 | P35: 夜間・深夜の勤務時間数 | U35: =IF(U33="","",VLOOKUP(U33,'シフト記号表（勤務時間帯）'!$D$6:$Z$47,23,FALSE)) | V35: =IF(V33="","",VLOOKUP(V33,'シフト記号表（勤務時間帯）'!$D$6:$Z$47,23,FALSE)) | W35: =IF(W33="","",VLOOKUP(W33,'シフト記号表（勤務時間帯）'!$D$6:$Z$47,23,FALSE)) | X35: =IF(X33="","",VLOOKUP(X33,'シフト記号表（勤務時間帯）'!$D$6:$Z$47,23,FALSE)) | Y35: =IF(Y33="","",VLOOKUP(Y33,'シフト記号表（勤務時間帯）'!$D$6:$Z$47,23,FALSE)) | Z35: =IF(Z33="","",VLOOKUP(Z33,'シフト記号表（勤務時間帯）'!$D$6:$Z$47,23,FALSE)) | AA35: =IF(AA33="","",VLOOKUP(AA33,'シフト記号表（勤務時間帯）'!$D$6:$Z$47,23,FALSE)) | AB35: =IF(AB33="","",VLOOKUP(AB33,'シフト記号表（勤務時間帯）'!$D$6:$Z$47,23,FALSE)) | ... AY35: =IF(AY33="","",VLOOKUP(AY33,'シフト記号表（勤務時間帯）'!$D$6:$Z$47,23,FALSE)) | AZ35: =IF($BC$3="４週",SUM(U35:AV35),IF($BC$3="暦月",SUM(U35:AY35),"")) -> 0 | BB35: =IF($BC$3="４週",AZ35/4,IF($BC$3="暦月",(AZ35/($BC$8/7)),"")) -> 0
P36: シフト記号
B37: =B34+1 -> 6 | F37: =C36 -> 0 | P37: 日中の勤務時間数 | U37: =IF(U36="","",VLOOKUP(U36,'シフト記号表（勤務時間帯）'!$D$6:$X$47,21,FALSE)) | V37: =IF(V36="","",VLOOKUP(V36,'シフト記号表（勤務時間帯）'!$D$6:$X$47,21,FALSE)) | W37: =IF(W36="","",VLOOKUP(W36,'シフト記号表（勤務時間帯）'!$D$6:$X$47,21,FALSE)) | X37: =IF(X36="","",VLOOKUP(X36,'シフト記号表（勤務時間帯）'!$D$6:$X$47,21,FALSE)) | Y37: =IF(Y36="","",VLOOKUP(Y36,'シフト記号表（勤務時間帯）'!$D$6:$X$47,21,FALSE)) | Z37: =IF(Z36="","",VLOOKUP(Z36,'シフト記号表（勤務時間帯）'!$D$6:$X$47,21,FALSE)) | AA37: =IF(AA36="","",VLOOKUP(AA36,'シフト記号表（勤務時間帯）'!$D$6:$X$47,21,FALSE)) | AB37: =IF(AB36="","",VLOOKUP(AB36,'シフト記号表（勤務時間帯）'!$D$6:$X$47,21,FALSE)) | ... AY37: =IF(AY36="","",VLOOKUP(AY36,'シフト記号表（勤務時間帯）'!$D$6:$X$47,21,FALSE)) | AZ37: =IF($BC$3="４週",SUM(U37:AV37),IF($BC$3="暦月",SUM(U37:AY37),"")) -> 0 | BB37: =IF($BC$3="４週",AZ37/4,IF($BC$3="暦月",(AZ37/($BC$8/7)),"")) -> 0
G38: =C36 -> 0 | P38: 夜間・深夜の勤務時間数 | U38: =IF(U36="","",VLOOKUP(U36,'シフト記号表（勤務時間帯）'!$D$6:$Z$47,23,FALSE)) | V38: =IF(V36="","",VLOOKUP(V36,'シフト記号表（勤務時間帯）'!$D$6:$Z$47,23,FALSE)) | W38: =IF(W36="","",VLOOKUP(W36,'シフト記号表（勤務時間帯）'!$D$6:$Z$47,23,FALSE)) | X38: =IF(X36="","",VLOOKUP(X36,'シフト記号表（勤務時間帯）'!$D$6:$Z$47,23,FALSE)) | Y38: =IF(Y36="","",VLOOKUP(Y36,'シフト記号表（勤務時間帯）'!$D$6:$Z$47,23,FALSE)) | Z38: =IF(Z36="","",VLOOKUP(Z36,'シフト記号表（勤務時間帯）'!$D$6:$Z$47,23,FALSE)) | AA38: =IF(AA36="","",VLOOKUP(AA36,'シフト記号表（勤務時間帯）'!$D$6:$Z$47,23,FALSE)) | AB38: =IF(AB36="","",VLOOKUP(AB36,'シフト記号表（勤務時間帯）'!$D$6:$Z$47,23,FALSE)) | ... AY38: =IF(AY36="","",VLOOKUP(AY36,'シフト記号表（勤務時間帯）'!$D$6:$Z$47,23,FALSE)) | AZ38: =IF($BC$3="４週",SUM(U38:AV38),IF($BC$3="暦月",SUM(U38:AY38),"")) -> 0 | BB38: =IF($BC$3="４週",AZ38/4,IF($BC$3="暦月",(AZ38/($BC$8/7)),"")) -> 0
P39: シフト記号
B40: =B37+1 -> 7 | F40: =C39 -> 0 | P40: 日中の勤務時間数 | U40: =IF(U39="","",VLOOKUP(U39,'シフト記号表（勤務時間帯）'!$D$6:$X$47,21,FALSE)) | V40: =IF(V39="","",VLOOKUP(V39,'シフト記号表（勤務時間帯）'!$D$6:$X$47,21,FALSE)) | W40: =IF(W39="","",VLOOKUP(W39,'シフト記号表（勤務時間帯）'!$D$6:$X$47,21,FALSE)) | X40: =IF(X39="","",VLOOKUP(X39,'シフト記号表（勤務時間帯）'!$D$6:$X$47,21,FALSE)) | Y40: =IF(Y39="","",VLOOKUP(Y39,'シフト記号表（勤務時間帯）'!$D$6:$X$47,21,FALSE)) | Z40: =IF(Z39="","",VLOOKUP(Z39,'シフト記号表（勤務時間帯）'!$D$6:$X$47,21,FALSE)) | AA40: =IF(AA39="","",VLOOKUP(AA39,'シフト記号表（勤務時間帯）'!$D$6:$X$47,21,FALSE)) | AB40: =IF(AB39="","",VLOOKUP(AB39,'シフト記号表（勤務時間帯）'!$D$6:$X$47,21,FALSE)) | ... AY40: =IF(AY39="","",VLOOKUP(AY39,'シフト記号表（勤務時間帯）'!$D$6:$X$47,21,FALSE)) | AZ40: =IF($BC$3="４週",SUM(U40:AV40),IF($BC$3="暦月",SUM(U40:AY40),"")) -> 0 | BB40: =IF($BC$3="４週",AZ40/4,IF($BC$3="暦月",(AZ40/($BC$8/7)),"")) -> 0
G41: =C39 -> 0 | P41: 夜間・深夜の勤務時間数 | U41: =IF(U39="","",VLOOKUP(U39,'シフト記号表（勤務時間帯）'!$D$6:$Z$47,23,FALSE)) | V41: =IF(V39="","",VLOOKUP(V39,'シフト記号表（勤務時間帯）'!$D$6:$Z$47,23,FALSE)) | W41: =IF(W39="","",VLOOKUP(W39,'シフト記号表（勤務時間帯）'!$D$6:$Z$47,23,FALSE)) | X41: =IF(X39="","",VLOOKUP(X39,'シフト記号表（勤務時間帯）'!$D$6:$Z$47,23,FALSE)) | Y41: =IF(Y39="","",VLOOKUP(Y39,'シフト記号表（勤務時間帯）'!$D$6:$Z$47,23,FALSE)) | Z41: =IF(Z39="","",VLOOKUP(Z39,'シフト記号表（勤務時間帯）'!$D$6:$Z$47,23,FALSE)) | AA41: =IF(AA39="","",VLOOKUP(AA39,'シフト記号表（勤務時間帯）'!$D$6:$Z$47,23,FALSE)) | AB41: =IF(AB39="","",VLOOKUP(AB39,'シフト記号表（勤務時間帯）'!$D$6:$Z$47,23,FALSE)) | ... AY41: =IF(AY39="","",VLOOKUP(AY39,'シフト記号表（勤務時間帯）'!$D$6:$Z$47,23,FALSE)) | AZ41: =IF($BC$3="４週",SUM(U41:AV41),IF($BC$3="暦月",SUM(U41:AY41),"")) -> 0 | BB41: =IF($BC$3="４週",AZ41/4,IF($BC$3="暦月",(AZ41/($BC$8/7)),"")) -> 0
P42: シフト記号
B43: =B40+1 -> 8 | F43: =C42 -> 0 | P43: 日中の勤務時間数 | U43: =IF(U42="","",VLOOKUP(U42,'シフト記号表（勤務時間帯）'!$D$6:$X$47,21,FALSE)) | V43: =IF(V42="","",VLOOKUP(V42,'シフト記号表（勤務時間帯）'!$D$6:$X$47,21,FALSE)) | W43: =IF(W42="","",VLOOKUP(W42,'シフト記号表（勤務時間帯）'!$D$6:$X$47,21,FALSE)) | X43: =IF(X42="","",VLOOKUP(X42,'シフト記号表（勤務時間帯）'!$D$6:$X$47,21,FALSE)) | Y43: =IF(Y42="","",VLOOKUP(Y42,'シフト記号表（勤務時間帯）'!$D$6:$X$47,21,FALSE)) | Z43: =IF(Z42="","",VLOOKUP(Z42,'シフト記号表（勤務時間帯）'!$D$6:$X$47,21,FALSE)) | AA43: =IF(AA42="","",VLOOKUP(AA42,'シフト記号表（勤務時間帯）'!$D$6:$X$47,21,FALSE)) | AB43: =IF(AB42="","",VLOOKUP(AB42,'シフト記号表（勤務時間帯）'!$D$6:$X$47,21,FALSE)) | ... AY43: =IF(AY42="","",VLOOKUP(AY42,'シフト記号表（勤務時間帯）'!$D$6:$X$47,21,FALSE)) | AZ43: =IF($BC$3="４週",SUM(U43:AV43),IF($BC$3="暦月",SUM(U43:AY43),"")) -> 0 | BB43: =IF($BC$3="４週",AZ43/4,IF($BC$3="暦月",(AZ43/($BC$8/7)),"")) -> 0
G44: =C42 -> 0 | P44: 夜間・深夜の勤務時間数 | U44: =IF(U42="","",VLOOKUP(U42,'シフト記号表（勤務時間帯）'!$D$6:$Z$47,23,FALSE)) | V44: =IF(V42="","",VLOOKUP(V42,'シフト記号表（勤務時間帯）'!$D$6:$Z$47,23,FALSE)) | W44: =IF(W42="","",VLOOKUP(W42,'シフト記号表（勤務時間帯）'!$D$6:$Z$47,23,FALSE)) | X44: =IF(X42="","",VLOOKUP(X42,'シフト記号表（勤務時間帯）'!$D$6:$Z$47,23,FALSE)) | Y44: =IF(Y42="","",VLOOKUP(Y42,'シフト記号表（勤務時間帯）'!$D$6:$Z$47,23,FALSE)) | Z44: =IF(Z42="","",VLOOKUP(Z42,'シフト記号表（勤務時間帯）'!$D$6:$Z$47,23,FALSE)) | AA44: =IF(AA42="","",VLOOKUP(AA42,'シフト記号表（勤務時間帯）'!$D$6:$Z$47,23,FALSE)) | AB44: =IF(AB42="","",VLOOKUP(AB42,'シフト記号表（勤務時間帯）'!$D$6:$Z$47,23,FALSE)) | ... AY44: =IF(AY42="","",VLOOKUP(AY42,'シフト記号表（勤務時間帯）'!$D$6:$Z$47,23,FALSE)) | AZ44: =IF($BC$3="４週",SUM(U44:AV44),IF($BC$3="暦月",SUM(U44:AY44),"")) -> 0 | BB44: =IF($BC$3="４週",AZ44/4,IF($BC$3="暦月",(AZ44/($BC$8/7)),"")) -> 0
P45: シフト記号
B46: =B43+1 -> 9 | F46: =C45 -> 0 | P46: 日中の勤務時間数 | U46: =IF(U45="","",VLOOKUP(U45,'シフト記号表（勤務時間帯）'!$D$6:$X$47,21,FALSE)) | V46: =IF(V45="","",VLOOKUP(V45,'シフト記号表（勤務時間帯）'!$D$6:$X$47,21,FALSE)) | W46: =IF(W45="","",VLOOKUP(W45,'シフト記号表（勤務時間帯）'!$D$6:$X$47,21,FALSE)) | X46: =IF(X45="","",VLOOKUP(X45,'シフト記号表（勤務時間帯）'!$D$6:$X$47,21,FALSE)) | Y46: =IF(Y45="","",VLOOKUP(Y45,'シフト記号表（勤務時間帯）'!$D$6:$X$47,21,FALSE)) | Z46: =IF(Z45="","",VLOOKUP(Z45,'シフト記号表（勤務時間帯）'!$D$6:$X$47,21,FALSE)) | AA46: =IF(AA45="","",VLOOKUP(AA45,'シフト記号表（勤務時間帯）'!$D$6:$X$47,21,FALSE)) | AB46: =IF(AB45="","",VLOOKUP(AB45,'シフト記号表（勤務時間帯）'!$D$6:$X$47,21,FALSE)) | ... AY46: =IF(AY45="","",VLOOKUP(AY45,'シフト記号表（勤務時間帯）'!$D$6:$X$47,21,FALSE)) | AZ46: =IF($BC$3="４週",SUM(U46:AV46),IF($BC$3="暦月",SUM(U46:AY46),"")) -> 0 | BB46: =IF($BC$3="４週",AZ46/4,IF($BC$3="暦月",(AZ46/($BC$8/7)),"")) -> 0
G47: =C45 -> 0 | P47: 夜間・深夜の勤務時間数 | U47: =IF(U45="","",VLOOKUP(U45,'シフト記号表（勤務時間帯）'!$D$6:$Z$47,23,FALSE)) | V47: =IF(V45="","",VLOOKUP(V45,'シフト記号表（勤務時間帯）'!$D$6:$Z$47,23,FALSE)) | W47: =IF(W45="","",VLOOKUP(W45,'シフト記号表（勤務時間帯）'!$D$6:$Z$47,23,FALSE)) | X47: =IF(X45="","",VLOOKUP(X45,'シフト記号表（勤務時間帯）'!$D$6:$Z$47,23,FALSE)) | Y47: =IF(Y45="","",VLOOKUP(Y45,'シフト記号表（勤務時間帯）'!$D$6:$Z$47,23,FALSE)) | Z47: =IF(Z45="","",VLOOKUP(Z45,'シフト記号表（勤務時間帯）'!$D$6:$Z$47,23,FALSE)) | AA47: =IF(AA45="","",VLOOKUP(AA45,'シフト記号表（勤務時間帯）'!$D$6:$Z$47,23,FALSE)) | AB47: =IF(AB45="","",VLOOKUP(AB45,'シフト記号表（勤務時間帯）'!$D$6:$Z$47,23,FALSE)) | ... AY47: =IF(AY45="","",VLOOKUP(AY45,'シフト記号表（勤務時間帯）'!$D$6:$Z$47,23,FALSE)) | AZ47: =IF($BC$3="４週",SUM(U47:AV47),IF($BC$3="暦月",SUM(U47:AY47),"")) -> 0 | BB47: =IF($BC$3="４週",AZ47/4,IF($BC$3="暦月",(AZ47/($BC$8/7)),"")) -> 0
P48: シフト記号
B49: =B46+1 -> 10 | F49: =C48 -> 0 | P49: 日中の勤務時間数 | U49: =IF(U48="","",VLOOKUP(U48,'シフト記号表（勤務時間帯）'!$D$6:$X$47,21,FALSE)) | V49: =IF(V48="","",VLOOKUP(V48,'シフト記号表（勤務時間帯）'!$D$6:$X$47,21,FALSE)) | W49: =IF(W48="","",VLOOKUP(W48,'シフト記号表（勤務時間帯）'!$D$6:$X$47,21,FALSE)) | X49: =IF(X48="","",VLOOKUP(X48,'シフト記号表（勤務時間帯）'!$D$6:$X$47,21,FALSE)) | Y49: =IF(Y48="","",VLOOKUP(Y48,'シフト記号表（勤務時間帯）'!$D$6:$X$47,21,FALSE)) | Z49: =IF(Z48="","",VLOOKUP(Z48,'シフト記号表（勤務時間帯）'!$D$6:$X$47,21,FALSE)) | AA49: =IF(AA48="","",VLOOKUP(AA48,'シフト記号表（勤務時間帯）'!$D$6:$X$47,21,FALSE)) | AB49: =IF(AB48="","",VLOOKUP(AB48,'シフト記号表（勤務時間帯）'!$D$6:$X$47,21,FALSE)) | ... AY49: =IF(AY48="","",VLOOKUP(AY48,'シフト記号表（勤務時間帯）'!$D$6:$X$47,21,FALSE)) | AZ49: =IF($BC$3="４週",SUM(U49:AV49),IF($BC$3="暦月",SUM(U49:AY49),"")) -> 0 | BB49: =IF($BC$3="４週",AZ49/4,IF($BC$3="暦月",(AZ49/($BC$8/7)),"")) -> 0
G50: =C48 -> 0 | P50: 夜間・深夜の勤務時間数 | U50: =IF(U48="","",VLOOKUP(U48,'シフト記号表（勤務時間帯）'!$D$6:$Z$47,23,FALSE)) | V50: =IF(V48="","",VLOOKUP(V48,'シフト記号表（勤務時間帯）'!$D$6:$Z$47,23,FALSE)) | W50: =IF(W48="","",VLOOKUP(W48,'シフト記号表（勤務時間帯）'!$D$6:$Z$47,23,FALSE)) | X50: =IF(X48="","",VLOOKUP(X48,'シフト記号表（勤務時間帯）'!$D$6:$Z$47,23,FALSE)) | Y50: =IF(Y48="","",VLOOKUP(Y48,'シフト記号表（勤務時間帯）'!$D$6:$Z$47,23,FALSE)) | Z50: =IF(Z48="","",VLOOKUP(Z48,'シフト記号表（勤務時間帯）'!$D$6:$Z$47,23,FALSE)) | AA50: =IF(AA48="","",VLOOKUP(AA48,'シフト記号表（勤務時間帯）'!$D$6:$Z$47,23,FALSE)) | AB50: =IF(AB48="","",VLOOKUP(AB48,'シフト記号表（勤務時間帯）'!$D$6:$Z$47,23,FALSE)) | ... AY50: =IF(AY48="","",VLOOKUP(AY48,'シフト記号表（勤務時間帯）'!$D$6:$Z$47,23,FALSE)) | AZ50: =IF($BC$3="４週",SUM(U50:AV50),IF($BC$3="暦月",SUM(U50:AY50),"")) -> 0 | BB50: =IF($BC$3="４週",AZ50/4,IF($BC$3="暦月",(AZ50/($BC$8/7)),"")) -> 0
P51: シフト記号
B52: =B49+1 -> 11 | F52: =C51 -> 0 | P52: 日中の勤務時間数 | U52: =IF(U51="","",VLOOKUP(U51,'シフト記号表（勤務時間帯）'!$D$6:$X$47,21,FALSE)) | V52: =IF(V51="","",VLOOKUP(V51,'シフト記号表（勤務時間帯）'!$D$6:$X$47,21,FALSE)) | W52: =IF(W51="","",VLOOKUP(W51,'シフト記号表（勤務時間帯）'!$D$6:$X$47,21,FALSE)) | X52: =IF(X51="","",VLOOKUP(X51,'シフト記号表（勤務時間帯）'!$D$6:$X$47,21,FALSE)) | Y52: =IF(Y51="","",VLOOKUP(Y51,'シフト記号表（勤務時間帯）'!$D$6:$X$47,21,FALSE)) | Z52: =IF(Z51="","",VLOOKUP(Z51,'シフト記号表（勤務時間帯）'!$D$6:$X$47,21,FALSE)) | AA52: =IF(AA51="","",VLOOKUP(AA51,'シフト記号表（勤務時間帯）'!$D$6:$X$47,21,FALSE)) | AB52: =IF(AB51="","",VLOOKUP(AB51,'シフト記号表（勤務時間帯）'!$D$6:$X$47,21,FALSE)) | ... AY52: =IF(AY51="","",VLOOKUP(AY51,'シフト記号表（勤務時間帯）'!$D$6:$X$47,21,FALSE)) | AZ52: =IF($BC$3="４週",SUM(U52:AV52),IF($BC$3="暦月",SUM(U52:AY52),"")) -> 0 | BB52: =IF($BC$3="４週",AZ52/4,IF($BC$3="暦月",(AZ52/($BC$8/7)),"")) -> 0
G53: =C51 -> 0 | P53: 夜間・深夜の勤務時間数 | U53: =IF(U51="","",VLOOKUP(U51,'シフト記号表（勤務時間帯）'!$D$6:$Z$47,23,FALSE)) | V53: =IF(V51="","",VLOOKUP(V51,'シフト記号表（勤務時間帯）'!$D$6:$Z$47,23,FALSE)) | W53: =IF(W51="","",VLOOKUP(W51,'シフト記号表（勤務時間帯）'!$D$6:$Z$47,23,FALSE)) | X53: =IF(X51="","",VLOOKUP(X51,'シフト記号表（勤務時間帯）'!$D$6:$Z$47,23,FALSE)) | Y53: =IF(Y51="","",VLOOKUP(Y51,'シフト記号表（勤務時間帯）'!$D$6:$Z$47,23,FALSE)) | Z53: =IF(Z51="","",VLOOKUP(Z51,'シフト記号表（勤務時間帯）'!$D$6:$Z$47,23,FALSE)) | AA53: =IF(AA51="","",VLOOKUP(AA51,'シフト記号表（勤務時間帯）'!$D$6:$Z$47,23,FALSE)) | AB53: =IF(AB51="","",VLOOKUP(AB51,'シフト記号表（勤務時間帯）'!$D$6:$Z$47,23,FALSE)) | ... AY53: =IF(AY51="","",VLOOKUP(AY51,'シフト記号表（勤務時間帯）'!$D$6:$Z$47,23,FALSE)) | AZ53: =IF($BC$3="４週",SUM(U53:AV53),IF($BC$3="暦月",SUM(U53:AY53),"")) -> 0 | BB53: =IF($BC$3="４週",AZ53/4,IF($BC$3="暦月",(AZ53/($BC$8/7)),"")) -> 0
P54: シフト記号
B55: =B52+1 -> 12 | F55: =C54 -> 0 | P55: 日中の勤務時間数 | U55: =IF(U54="","",VLOOKUP(U54,'シフト記号表（勤務時間帯）'!$D$6:$X$47,21,FALSE)) | V55: =IF(V54="","",VLOOKUP(V54,'シフト記号表（勤務時間帯）'!$D$6:$X$47,21,FALSE)) | W55: =IF(W54="","",VLOOKUP(W54,'シフト記号表（勤務時間帯）'!$D$6:$X$47,21,FALSE)) | X55: =IF(X54="","",VLOOKUP(X54,'シフト記号表（勤務時間帯）'!$D$6:$X$47,21,FALSE)) | Y55: =IF(Y54="","",VLOOKUP(Y54,'シフト記号表（勤務時間帯）'!$D$6:$X$47,21,FALSE)) | Z55: =IF(Z54="","",VLOOKUP(Z54,'シフト記号表（勤務時間帯）'!$D$6:$X$47,21,FALSE)) | AA55: =IF(AA54="","",VLOOKUP(AA54,'シフト記号表（勤務時間帯）'!$D$6:$X$47,21,FALSE)) | AB55: =IF(AB54="","",VLOOKUP(AB54,'シフト記号表（勤務時間帯）'!$D$6:$X$47,21,FALSE)) | ... AY55: =IF(AY54="","",VLOOKUP(AY54,'シフト記号表（勤務時間帯）'!$D$6:$X$47,21,FALSE)) | AZ55: =IF($BC$3="４週",SUM(U55:AV55),IF($BC$3="暦月",SUM(U55:AY55),"")) -> 0 | BB55: =IF($BC$3="４週",AZ55/4,IF($BC$3="暦月",(AZ55/($BC$8/7)),"")) -> 0
G56: =C54 -> 0 | P56: 夜間・深夜の勤務時間数 | U56: =IF(U54="","",VLOOKUP(U54,'シフト記号表（勤務時間帯）'!$D$6:$Z$47,23,FALSE)) | V56: =IF(V54="","",VLOOKUP(V54,'シフト記号表（勤務時間帯）'!$D$6:$Z$47,23,FALSE)) | W56: =IF(W54="","",VLOOKUP(W54,'シフト記号表（勤務時間帯）'!$D$6:$Z$47,23,FALSE)) | X56: =IF(X54="","",VLOOKUP(X54,'シフト記号表（勤務時間帯）'!$D$6:$Z$47,23,FALSE)) | Y56: =IF(Y54="","",VLOOKUP(Y54,'シフト記号表（勤務時間帯）'!$D$6:$Z$47,23,FALSE)) | Z56: =IF(Z54="","",VLOOKUP(Z54,'シフト記号表（勤務時間帯）'!$D$6:$Z$47,23,FALSE)) | AA56: =IF(AA54="","",VLOOKUP(AA54,'シフト記号表（勤務時間帯）'!$D$6:$Z$47,23,FALSE)) | AB56: =IF(AB54="","",VLOOKUP(AB54,'シフト記号表（勤務時間帯）'!$D$6:$Z$47,23,FALSE)) | ... AY56: =IF(AY54="","",VLOOKUP(AY54,'シフト記号表（勤務時間帯）'!$D$6:$Z$47,23,FALSE)) | AZ56: =IF($BC$3="４週",SUM(U56:AV56),IF($BC$3="暦月",SUM(U56:AY56),"")) -> 0 | BB56: =IF($BC$3="４週",AZ56/4,IF($BC$3="暦月",(AZ56/($BC$8/7)),"")) -> 0
P57: シフト記号
B58: =B55+1 -> 13 | F58: =C57 -> 0 | P58: 日中の勤務時間数 | U58: =IF(U57="","",VLOOKUP(U57,'シフト記号表（勤務時間帯）'!$D$6:$X$47,21,FALSE)) | V58: =IF(V57="","",VLOOKUP(V57,'シフト記号表（勤務時間帯）'!$D$6:$X$47,21,FALSE)) | W58: =IF(W57="","",VLOOKUP(W57,'シフト記号表（勤務時間帯）'!$D$6:$X$47,21,FALSE)) | X58: =IF(X57="","",VLOOKUP(X57,'シフト記号表（勤務時間帯）'!$D$6:$X$47,21,FALSE)) | Y58: =IF(Y57="","",VLOOKUP(Y57,'シフト記号表（勤務時間帯）'!$D$6:$X$47,21,FALSE)) | Z58: =IF(Z57="","",VLOOKUP(Z57,'シフト記号表（勤務時間帯）'!$D$6:$X$47,21,FALSE)) | AA58: =IF(AA57="","",VLOOKUP(AA57,'シフト記号表（勤務時間帯）'!$D$6:$X$47,21,FALSE)) | AB58: =IF(AB57="","",VLOOKUP(AB57,'シフト記号表（勤務時間帯）'!$D$6:$X$47,21,FALSE)) | ... AY58: =IF(AY57="","",VLOOKUP(AY57,'シフト記号表（勤務時間帯）'!$D$6:$X$47,21,FALSE)) | AZ58: =IF($BC$3="４週",SUM(U58:AV58),IF($BC$3="暦月",SUM(U58:AY58),"")) -> 0 | BB58: =IF($BC$3="４週",AZ58/4,IF($BC$3="暦月",(AZ58/($BC$8/7)),"")) -> 0
G59: =C57 -> 0 | P59: 夜間・深夜の勤務時間数 | U59: =IF(U57="","",VLOOKUP(U57,'シフト記号表（勤務時間帯）'!$D$6:$Z$47,23,FALSE)) | V59: =IF(V57="","",VLOOKUP(V57,'シフト記号表（勤務時間帯）'!$D$6:$Z$47,23,FALSE)) | W59: =IF(W57="","",VLOOKUP(W57,'シフト記号表（勤務時間帯）'!$D$6:$Z$47,23,FALSE)) | X59: =IF(X57="","",VLOOKUP(X57,'シフト記号表（勤務時間帯）'!$D$6:$Z$47,23,FALSE)) | Y59: =IF(Y57="","",VLOOKUP(Y57,'シフト記号表（勤務時間帯）'!$D$6:$Z$47,23,FALSE)) | Z59: =IF(Z57="","",VLOOKUP(Z57,'シフト記号表（勤務時間帯）'!$D$6:$Z$47,23,FALSE)) | AA59: =IF(AA57="","",VLOOKUP(AA57,'シフト記号表（勤務時間帯）'!$D$6:$Z$47,23,FALSE)) | AB59: =IF(AB57="","",VLOOKUP(AB57,'シフト記号表（勤務時間帯）'!$D$6:$Z$47,23,FALSE)) | ... AY59: =IF(AY57="","",VLOOKUP(AY57,'シフト記号表（勤務時間帯）'!$D$6:$Z$47,23,FALSE)) | AZ59: =IF($BC$3="４週",SUM(U59:AV59),IF($BC$3="暦月",SUM(U59:AY59),"")) -> 0 | BB59: =IF($BC$3="４週",AZ59/4,IF($BC$3="暦月",(AZ59/($BC$8/7)),"")) -> 0
P60: シフト記号
B61: =B58+1 -> 14 | F61: =C60 -> 0 | P61: 日中の勤務時間数 | U61: =IF(U60="","",VLOOKUP(U60,'シフト記号表（勤務時間帯）'!$D$6:$X$47,21,FALSE)) | V61: =IF(V60="","",VLOOKUP(V60,'シフト記号表（勤務時間帯）'!$D$6:$X$47,21,FALSE)) | W61: =IF(W60="","",VLOOKUP(W60,'シフト記号表（勤務時間帯）'!$D$6:$X$47,21,FALSE)) | X61: =IF(X60="","",VLOOKUP(X60,'シフト記号表（勤務時間帯）'!$D$6:$X$47,21,FALSE)) | Y61: =IF(Y60="","",VLOOKUP(Y60,'シフト記号表（勤務時間帯）'!$D$6:$X$47,21,FALSE)) | Z61: =IF(Z60="","",VLOOKUP(Z60,'シフト記号表（勤務時間帯）'!$D$6:$X$47,21,FALSE)) | AA61: =IF(AA60="","",VLOOKUP(AA60,'シフト記号表（勤務時間帯）'!$D$6:$X$47,21,FALSE)) | AB61: =IF(AB60="","",VLOOKUP(AB60,'シフト記号表（勤務時間帯）'!$D$6:$X$47,21,FALSE)) | ... AY61: =IF(AY60="","",VLOOKUP(AY60,'シフト記号表（勤務時間帯）'!$D$6:$X$47,21,FALSE)) | AZ61: =IF($BC$3="４週",SUM(U61:AV61),IF($BC$3="暦月",SUM(U61:AY61),"")) -> 0 | BB61: =IF($BC$3="４週",AZ61/4,IF($BC$3="暦月",(AZ61/($BC$8/7)),"")) -> 0
G62: =C60 -> 0 | P62: 夜間・深夜の勤務時間数 | U62: =IF(U60="","",VLOOKUP(U60,'シフト記号表（勤務時間帯）'!$D$6:$Z$47,23,FALSE)) | V62: =IF(V60="","",VLOOKUP(V60,'シフト記号表（勤務時間帯）'!$D$6:$Z$47,23,FALSE)) | W62: =IF(W60="","",VLOOKUP(W60,'シフト記号表（勤務時間帯）'!$D$6:$Z$47,23,FALSE)) | X62: =IF(X60="","",VLOOKUP(X60,'シフト記号表（勤務時間帯）'!$D$6:$Z$47,23,FALSE)) | Y62: =IF(Y60="","",VLOOKUP(Y60,'シフト記号表（勤務時間帯）'!$D$6:$Z$47,23,FALSE)) | Z62: =IF(Z60="","",VLOOKUP(Z60,'シフト記号表（勤務時間帯）'!$D$6:$Z$47,23,FALSE)) | AA62: =IF(AA60="","",VLOOKUP(AA60,'シフト記号表（勤務時間帯）'!$D$6:$Z$47,23,FALSE)) | AB62: =IF(AB60="","",VLOOKUP(AB60,'シフト記号表（勤務時間帯）'!$D$6:$Z$47,23,FALSE)) | ... AY62: =IF(AY60="","",VLOOKUP(AY60,'シフト記号表（勤務時間帯）'!$D$6:$Z$47,23,FALSE)) | AZ62: =IF($BC$3="４週",SUM(U62:AV62),IF($BC$3="暦月",SUM(U62:AY62),"")) -> 0 | BB62: =IF($BC$3="４週",AZ62/4,IF($BC$3="暦月",(AZ62/($BC$8/7)),"")) -> 0
P63: シフト記号
B64: =B61+1 -> 15 | F64: =C63 -> 0 | P64: 日中の勤務時間数 | U64: =IF(U63="","",VLOOKUP(U63,'シフト記号表（勤務時間帯）'!$D$6:$X$47,21,FALSE)) | V64: =IF(V63="","",VLOOKUP(V63,'シフト記号表（勤務時間帯）'!$D$6:$X$47,21,FALSE)) | W64: =IF(W63="","",VLOOKUP(W63,'シフト記号表（勤務時間帯）'!$D$6:$X$47,21,FALSE)) | X64: =IF(X63="","",VLOOKUP(X63,'シフト記号表（勤務時間帯）'!$D$6:$X$47,21,FALSE)) | Y64: =IF(Y63="","",VLOOKUP(Y63,'シフト記号表（勤務時間帯）'!$D$6:$X$47,21,FALSE)) | Z64: =IF(Z63="","",VLOOKUP(Z63,'シフト記号表（勤務時間帯）'!$D$6:$X$47,21,FALSE)) | AA64: =IF(AA63="","",VLOOKUP(AA63,'シフト記号表（勤務時間帯）'!$D$6:$X$47,21,FALSE)) | AB64: =IF(AB63="","",VLOOKUP(AB63,'シフト記号表（勤務時間帯）'!$D$6:$X$47,21,FALSE)) | ... AY64: =IF(AY63="","",VLOOKUP(AY63,'シフト記号表（勤務時間帯）'!$D$6:$X$47,21,FALSE)) | AZ64: =IF($BC$3="４週",SUM(U64:AV64),IF($BC$3="暦月",SUM(U64:AY64),"")) -> 0 | BB64: =IF($BC$3="４週",AZ64/4,IF($BC$3="暦月",(AZ64/($BC$8/7)),"")) -> 0
G65: =C63 -> 0 | P65: 夜間・深夜の勤務時間数 | U65: =IF(U63="","",VLOOKUP(U63,'シフト記号表（勤務時間帯）'!$D$6:$Z$47,23,FALSE)) | V65: =IF(V63="","",VLOOKUP(V63,'シフト記号表（勤務時間帯）'!$D$6:$Z$47,23,FALSE)) | W65: =IF(W63="","",VLOOKUP(W63,'シフト記号表（勤務時間帯）'!$D$6:$Z$47,23,FALSE)) | X65: =IF(X63="","",VLOOKUP(X63,'シフト記号表（勤務時間帯）'!$D$6:$Z$47,23,FALSE)) | Y65: =IF(Y63="","",VLOOKUP(Y63,'シフト記号表（勤務時間帯）'!$D$6:$Z$47,23,FALSE)) | Z65: =IF(Z63="","",VLOOKUP(Z63,'シフト記号表（勤務時間帯）'!$D$6:$Z$47,23,FALSE)) | AA65: =IF(AA63="","",VLOOKUP(AA63,'シフト記号表（勤務時間帯）'!$D$6:$Z$47,23,FALSE)) | AB65: =IF(AB63="","",VLOOKUP(AB63,'シフト記号表（勤務時間帯）'!$D$6:$Z$47,23,FALSE)) | ... AY65: =IF(AY63="","",VLOOKUP(AY63,'シフト記号表（勤務時間帯）'!$D$6:$Z$47,23,FALSE)) | AZ65: =IF($BC$3="４週",SUM(U65:AV65),IF($BC$3="暦月",SUM(U65:AY65),"")) -> 0 | BB65: =IF($BC$3="４週",AZ65/4,IF($BC$3="暦月",(AZ65/($BC$8/7)),"")) -> 0
P66: シフト記号
B67: =B64+1 -> 16 | F67: =C66 -> 0 | P67: 日中の勤務時間数 | U67: =IF(U66="","",VLOOKUP(U66,'シフト記号表（勤務時間帯）'!$D$6:$X$47,21,FALSE)) | V67: =IF(V66="","",VLOOKUP(V66,'シフト記号表（勤務時間帯）'!$D$6:$X$47,21,FALSE)) | W67: =IF(W66="","",VLOOKUP(W66,'シフト記号表（勤務時間帯）'!$D$6:$X$47,21,FALSE)) | X67: =IF(X66="","",VLOOKUP(X66,'シフト記号表（勤務時間帯）'!$D$6:$X$47,21,FALSE)) | Y67: =IF(Y66="","",VLOOKUP(Y66,'シフト記号表（勤務時間帯）'!$D$6:$X$47,21,FALSE)) | Z67: =IF(Z66="","",VLOOKUP(Z66,'シフト記号表（勤務時間帯）'!$D$6:$X$47,21,FALSE)) | AA67: =IF(AA66="","",VLOOKUP(AA66,'シフト記号表（勤務時間帯）'!$D$6:$X$47,21,FALSE)) | AB67: =IF(AB66="","",VLOOKUP(AB66,'シフト記号表（勤務時間帯）'!$D$6:$X$47,21,FALSE)) | ... AY67: =IF(AY66="","",VLOOKUP(AY66,'シフト記号表（勤務時間帯）'!$D$6:$X$47,21,FALSE)) | AZ67: =IF($BC$3="４週",SUM(U67:AV67),IF($BC$3="暦月",SUM(U67:AY67),"")) -> 0 | BB67: =IF($BC$3="４週",AZ67/4,IF($BC$3="暦月",(AZ67/($BC$8/7)),"")) -> 0
G68: =C66 -> 0 | P68: 夜間・深夜の勤務時間数 | U68: =IF(U66="","",VLOOKUP(U66,'シフト記号表（勤務時間帯）'!$D$6:$Z$47,23,FALSE)) | V68: =IF(V66="","",VLOOKUP(V66,'シフト記号表（勤務時間帯）'!$D$6:$Z$47,23,FALSE)) | W68: =IF(W66="","",VLOOKUP(W66,'シフト記号表（勤務時間帯）'!$D$6:$Z$47,23,FALSE)) | X68: =IF(X66="","",VLOOKUP(X66,'シフト記号表（勤務時間帯）'!$D$6:$Z$47,23,FALSE)) | Y68: =IF(Y66="","",VLOOKUP(Y66,'シフト記号表（勤務時間帯）'!$D$6:$Z$47,23,FALSE)) | Z68: =IF(Z66="","",VLOOKUP(Z66,'シフト記号表（勤務時間帯）'!$D$6:$Z$47,23,FALSE)) | AA68: =IF(AA66="","",VLOOKUP(AA66,'シフト記号表（勤務時間帯）'!$D$6:$Z$47,23,FALSE)) | AB68: =IF(AB66="","",VLOOKUP(AB66,'シフト記号表（勤務時間帯）'!$D$6:$Z$47,23,FALSE)) | ... AY68: =IF(AY66="","",VLOOKUP(AY66,'シフト記号表（勤務時間帯）'!$D$6:$Z$47,23,FALSE)) | AZ68: =IF($BC$3="４週",SUM(U68:AV68),IF($BC$3="暦月",SUM(U68:AY68),"")) -> 0 | BB68: =IF($BC$3="４週",AZ68/4,IF($BC$3="暦月",(AZ68/($BC$8/7)),"")) -> 0
B69: (15) 宿直① （上記における該当者のNoを記載）
B70: (15) 宿直② （上記における該当者のNoを記載）
B71: (16) 日ごとの実利用者数
B72: (17) 介護従業者の日中の勤務時間の合計 | U72: =IF(SUMIF($F$21:$F$68,"介護従業者",U21:U68)=0,"",SUMIF($F$21:$F$68,"介護従業者",U21:U68)) | V72: =IF(SUMIF($F$21:$F$68,"介護従業者",V21:V68)=0,"",SUMIF($F$21:$F$68,"介護従業者",V21:V68)) | W72: =IF(SUMIF($F$21:$F$68,"介護従業者",W21:W68)=0,"",SUMIF($F$21:$F$68,"介護従業者",W21:W68)) | X72: =IF(SUMIF($F$21:$F$68,"介護従業者",X21:X68)=0,"",SUMIF($F$21:$F$68,"介護従業者",X21:X68)) | Y72: =IF(SUMIF($F$21:$F$68,"介護従業者",Y21:Y68)=0,"",SUMIF($F$21:$F$68,"介護従業者",Y21:Y68)) | Z72: =IF(SUMIF($F$21:$F$68,"介護従業者",Z21:Z68)=0,"",SUMIF($F$21:$F$68,"介護従業者",Z21:Z68)) | AA72: =IF(SUMIF($F$21:$F$68,"介護従業者",AA21:AA68)=0,"",SUMIF($F$21:$F$68,"介護従業者",AA21:AA68)) | AB72: =IF(SUMIF($F$21:$F$68,"介護従業者",AB21:AB68)=0,"",SUMIF($F$21:$F$68,"介護従業者",AB21:AB68)) | ... AY72: =IF(SUMIF($F$21:$F$68,"介護従業者",AY21:AY68)=0,"",SUMIF($F$21:$F$68,"介護従業者",AY21:AY68)) | AZ72: =IF($BC$3="４週",SUM(U72:AV72),IF($BC$3="暦月",SUM(U72:AY72),"")) -> 0
B73: (18) 介護従業者の夜間・深夜の勤務時間の合計 | U73: =IF(SUMIF($G$21:$G$68,"介護従業者",U21:U68)=0,"",SUMIF($G$21:$G$68,"介護従業者",U21:U68)) | V73: =IF(SUMIF($G$21:$G$68,"介護従業者",V21:V68)=0,"",SUMIF($G$21:$G$68,"介護従業者",V21:V68)) | W73: =IF(SUMIF($G$21:$G$68,"介護従業者",W21:W68)=0,"",SUMIF($G$21:$G$68,"介護従業者",W21:W68)) | X73: =IF(SUMIF($G$21:$G$68,"介護従業者",X21:X68)=0,"",SUMIF($G$21:$G$68,"介護従業者",X21:X68)) | Y73: =IF(SUMIF($G$21:$G$68,"介護従業者",Y21:Y68)=0,"",SUMIF($G$21:$G$68,"介護従業者",Y21:Y68)) | Z73: =IF(SUMIF($G$21:$G$68,"介護従業者",Z21:Z68)=0,"",SUMIF($G$21:$G$68,"介護従業者",Z21:Z68)) | AA73: =IF(SUMIF($G$21:$G$68,"介護従業者",AA21:AA68)=0,"",SUMIF($G$21:$G$68,"介護従業者",AA21:AA68)) | AB73: =IF(SUMIF($G$21:$G$68,"介護従業者",AB21:AB68)=0,"",SUMIF($G$21:$G$68,"介護従業者",AB21:AB68)) | ... AY73: =IF(SUMIF($G$21:$G$68,"介護従業者",AY21:AY68)=0,"",SUMIF($G$21:$G$68,"介護従業者",AY21:AY68)) | AZ73: =IF($BC$3="４週",SUM(U73:AV73),IF($BC$3="暦月",SUM(U73:AY73),"")) -> 0

Sheet シフト記号表（勤務時間帯）
B1: ≪要 提出≫
B2: ■シフト記号表（勤務時間帯）
B3: ※24時間表記 | F3: 休憩時間1時間は「1:00」、休憩時間45分は「00:45」と入力してください。
F4: 勤務時間 | N4: 日中の時間帯 | R4: 日中の勤務時間 | Z4: 夜間及び深夜 | AB4: 自由記載欄
B5: No | C5: 記号 | F5: 始業時刻 | H5: 終業時刻 | J5: うち、休憩時間 | L5: 勤務時間 | N5: 開始時刻 | P5: 終了時刻 | R5: 開始時刻 | T5: 終了時刻 | V5: うち、休憩時間 | X5: 勤務時間 | Z5: の勤務時間
B6: 1 | C6: a | D6: =C6 -> a | E6: ： | G6: ～ | I6: （ | J6: 0 | K6: ） | L6: =IF(OR(F6="",H6=""),"",(H6+IF(F6>H6,1,0)-F6-J6)*24) | N6: 0.29166667 | O6: ～ | P6: 0.83333333 | R6: =IF(F6="","",IF(F6<N6,N6,IF(F6>=P6,"",F6))) | S6: ～ | T6: =IF(H6="","",IF(H6>F6,IF(H6<P6,H6,P6),P6)) | U6: （ | V6: 0 | W6: ） | X6: =IF(R6="","",IF((T6+IF(R6>T6,1,0)-R6-V6)*24=0,"",(T6+IF(R6>T6,1,0)-R6-V6)*24)) | Z6: =IF(X6="",L6,IF(OR(L6-X6=0,L6-X6<0),"-",L6-X6))
B7: 2 | C7: b | D7: =C7 -> b | E7: ： | G7: ～ | I7: （ | J7: 0 | K7: ） | L7: =IF(OR(F7="",H7=""),"",(H7+IF(F7>H7,1,0)-F7-J7)*24) | N7: =$N$6 -> 0.29166667 | O7: ～ | P7: =$P$6 -> 0.83333333 | R7: =IF(F7="","",IF(F7<N7,N7,IF(F7>=P7,"",F7))) | S7: ～ | T7: =IF(H7="","",IF(H7>F7,IF(H7<P7,H7,P7),P7)) | U7: （ | V7: 0 | W7: ） | X7: =IF(R7="","",IF((T7+IF(R7>T7,1,0)-R7-V7)*24=0,"",(T7+IF(R7>T7,1,0)-R7-V7)*24)) | Z7: =IF(X7="",L7,IF(OR(L7-X7=0,L7-X7<0),"-",L7-X7))
B8: 3 | C8: c | D8: =C8 -> c | E8: ： | G8: ～ | I8: （ | J8: 0 | K8: ） | L8: =IF(OR(F8="",H8=""),"",(H8+IF(F8>H8,1,0)-F8-J8)*24) | N8: =$N$6 -> 0.29166667 | O8: ～ | P8: =$P$6 -> 0.83333333 | R8: =IF(F8="","",IF(F8<N8,N8,IF(F8>=P8,"",F8))) | S8: ～ | T8: =IF(H8="","",IF(H8>F8,IF(H8<P8,H8,P8),P8)) | U8: （ | V8: 0 | W8: ） | X8: =IF(R8="","",IF((T8+IF(R8>T8,1,0)-R8-V8)*24=0,"",(T8+IF(R8>T8,1,0)-R8-V8)*24)) | Z8: =IF(X8="",L8,IF(OR(L8-X8=0,L8-X8<0),"-",L8-X8))
B9: 4 | C9: d | D9: =C9 -> d | E9: ： | G9: ～ | I9: （ | J9: 0 | K9: ） | L9: =IF(OR(F9="",H9=""),"",(H9+IF(F9>H9,1,0)-F9-J9)*24) | N9: =$N$6 -> 0.29166667 | O9: ～ | P9: =$P$6 -> 0.83333333 | R9: =IF(F9="","",IF(F9<N9,N9,IF(F9>=P9,"",F9))) | S9: ～ | T9: =IF(H9="","",IF(H9>F9,IF(H9<P9,H9,P9),P9)) | U9: （ | V9: 0 | W9: ） | X9: =IF(R9="","",IF((T9+IF(R9>T9,1,0)-R9-V9)*24=0,"",(T9+IF(R9>T9,1,0)-R9-V9)*24)) | Z9: =IF(X9="",L9,IF(OR(L9-X9=0,L9-X9<0),"-",L9-X9))
B10: 5 | C10: e | D10: =C10 -> e | E10: ： | G10: ～ | I10: （ | J10: 0 | K10: ） | L10: =IF(OR(F10="",H10=""),"",(H10+IF(F10>H10,1,0)-F10-J10)*24) | N10: =$N$6 -> 0.29166667 | O10: ～ | P10: =$P$6 -> 0.83333333 | R10: =IF(F10="","",IF(F10<N10,N10,IF(F10>=P10,"",F10))) | S10: ～ | T10: =IF(H10="","",IF(H10>F10,IF(H10<P10,H10,P10),P10)) | U10: （ | V10: 0 | W10: ） | X10: =IF(R10="","",IF((T10+IF(R10>T10,1,0)-R10-V10)*24=0,"",(T10+IF(R10>T10,1,0)-R10-V10)*24)) | Z10: =IF(X10="",L10,IF(OR(L10-X10=0,L10-X10<0),"-",L10-X10))
B11: 6 | C11: f | D11: =C11 -> f | E11: ： | G11: ～ | I11: （ | J11: 0 | K11: ） | L11: =IF(OR(F11="",H11=""),"",(H11+IF(F11>H11,1,0)-F11-J11)*24) | N11: =$N$6 -> 0.29166667 | O11: ～ | P11: =$P$6 -> 0.83333333 | R11: =IF(F11="","",IF(F11<N11,N11,IF(F11>=P11,"",F11))) | S11: ～ | T11: =IF(H11="","",IF(H11>F11,IF(H11<P11,H11,P11),P11)) | U11: （ | V11: 0 | W11: ） | X11: =IF(R11="","",IF((T11+IF(R11>T11,1,0)-R11-V11)*24=0,"",(T11+IF(R11>T11,1,0)-R11-V11)*24)) | Z11: =IF(X11="",L11,IF(OR(L11-X11=0,L11-X11<0),"-",L11-X11))
B12: 7 | C12: g | D12: =C12 -> g | E12: ： | G12: ～ | I12: （ | J12: 0 | K12: ） | L12: =IF(OR(F12="",H12=""),"",(H12+IF(F12>H12,1,0)-F12-J12)*24) | N12: =$N$6 -> 0.29166667 | O12: ～ | P12: =$P$6 -> 0.83333333 | R12: =IF(F12="","",IF(F12<N12,N12,IF(F12>=P12,"",F12))) | S12: ～ | T12: =IF(H12="","",IF(H12>F12,IF(H12<P12,H12,P12),P12)) | U12: （ | V12: 0 | W12: ） | X12: =IF(R12="","",IF((T12+IF(R12>T12,1,0)-R12-V12)*24=0,"",(T12+IF(R12>T12,1,0)-R12-V12)*24)) | Z12: =IF(X12="",L12,IF(OR(L12-X12=0,L12-X12<0),"-",L12-X12))
B13: 8 | C13: h | D13: =C13 -> h | E13: ： | G13: ～ | I13: （ | J13: 0 | K13: ） | L13: =IF(OR(F13="",H13=""),"",(H13+IF(F13>H13,1,0)-F13-J13)*24) | N13: =$N$6 -> 0.29166667 | O13: ～ | P13: =$P$6 -> 0.83333333 | R13: =IF(F13="","",IF(F13<N13,N13,IF(F13>=P13,"",F13))) | S13: ～ | T13: =IF(H13="","",IF(H13>F13,IF(H13<P13,H13,P13),P13)) | U13: （ | V13: 0 | W13: ） | X13: =IF(R13="","",IF((T13+IF(R13>T13,1,0)-R13-V13)*24=0,"",(T13+IF(R13>T13,1,0)-R13-V13)*24)) | Z13: =IF(X13="",L13,IF(OR(L13-X13=0,L13-X13<0),"-",L13-X13))
B14: 9 | C14: i | D14: =C14 -> i | E14: ： | G14: ～ | I14: （ | J14: 0 | K14: ） | L14: =IF(OR(F14="",H14=""),"",(H14+IF(F14>H14,1,0)-F14-J14)*24) | N14: =$N$6 -> 0.29166667 | O14: ～ | P14: =$P$6 -> 0.83333333 | R14: =IF(F14="","",IF(F14<N14,N14,IF(F14>=P14,"",F14))) | S14: ～ | T14: =IF(H14="","",IF(H14>F14,IF(H14<P14,H14,P14),P14)) | U14: （ | V14: 0 | W14: ） | X14: =IF(R14="","",IF((T14+IF(R14>T14,1,0)-R14-V14)*24=0,"",(T14+IF(R14>T14,1,0)-R14-V14)*24)) | Z14: =IF(X14="",L14,IF(OR(L14-X14=0,L14-X14<0),"-",L14-X14))
B15: 10 | C15: j | D15: =C15 -> j | E15: ： | G15: ～ | I15: （ | J15: 0 | K15: ） | L15: =IF(OR(F15="",H15=""),"",(H15+IF(F15>H15,1,0)-F15-J15)*24) | N15: =$N$6 -> 0.29166667 | O15: ～ | P15: =$P$6 -> 0.83333333 | R15: =IF(F15="","",IF(F15<N15,N15,IF(F15>=P15,"",F15))) | S15: ～ | T15: =IF(H15="","",IF(H15>F15,IF(H15<P15,H15,P15),P15)) | U15: （ | V15: 0 | W15: ） | X15: =IF(R15="","",IF((T15+IF(R15>T15,1,0)-R15-V15)*24=0,"",(T15+IF(R15>T15,1,0)-R15-V15)*24)) | Z15: =IF(X15="",L15,IF(OR(L15-X15=0,L15-X15<0),"-",L15-X15))
B16: 11 | C16: k | D16: =C16 -> k | E16: ： | G16: ～ | I16: （ | J16: 0 | K16: ） | L16: =IF(OR(F16="",H16=""),"",(H16+IF(F16>H16,1,0)-F16-J16)*24) | N16: =$N$6 -> 0.29166667 | O16: ～ | P16: =$P$6 -> 0.83333333 | R16: =IF(F16="","",IF(F16<N16,N16,IF(F16>=P16,"",F16))) | S16: ～ | T16: =IF(H16="","",IF(H16>F16,IF(H16<P16,H16,P16),P16)) | U16: （ | V16: 0 | W16: ） | X16: =IF(R16="","",IF((T16+IF(R16>T16,1,0)-R16-V16)*24=0,"",(T16+IF(R16>T16,1,0)-R16-V16)*24)) | Z16: =IF(X16="",L16,IF(OR(L16-X16=0,L16-X16<0),"-",L16-X16))
B17: 12 | C17: l | D17: =C17 -> l | E17: ： | G17: ～ | I17: （ | J17: 0 | K17: ） | L17: =IF(OR(F17="",H17=""),"",(H17+IF(F17>H17,1,0)-F17-J17)*24) | N17: =$N$6 -> 0.29166667 | O17: ～ | P17: =$P$6 -> 0.83333333 | R17: =IF(F17="","",IF(F17<N17,N17,IF(F17>=P17,"",F17))) | S17: ～ | T17: =IF(H17="","",IF(H17>F17,IF(H17<P17,H17,P17),P17)) | U17: （ | V17: 0 | W17: ） | X17: =IF(R17="","",IF((T17+IF(R17>T17,1,0)-R17-V17)*24=0,"",(T17+IF(R17>T17,1,0)-R17-V17)*24)) | Z17: =IF(X17="",L17,IF(OR(L17-X17=0,L17-X17<0),"-",L17-X17))
B18: 13 | C18: m | D18: =C18 -> m | E18: ： | G18: ～ | I18: （ | J18: 0 | K18: ） | L18: =IF(OR(F18="",H18=""),"",(H18+IF(F18>H18,1,0)-F18-J18)*24) | N18: =$N$6 -> 0.29166667 | O18: ～ | P18: =$P$6 -> 0.83333333 | R18: =IF(F18="","",IF(F18<N18,N18,IF(F18>=P18,"",F18))) | S18: ～ | T18: =IF(H18="","",IF(H18>F18,IF(H18<P18,H18,P18),P18)) | U18: （ | V18: 0 | W18: ） | X18: =IF(R18="","",IF((T18+IF(R18>T18,1,0)-R18-V18)*24=0,"",(T18+IF(R18>T18,1,0)-R18-V18)*24)) | Z18: =IF(X18="",L18,IF(OR(L18-X18=0,L18-X18<0),"-",L18-X18))
... B22: 17 | C22: q | D22: =C22 -> q | E22: ： | G22: ～ | I22: （ | J22: 0 | K22: ） | L22: =IF(OR(F22="",H22=""),"",(H22+IF(F22>H22,1,0)-F22-J22)*24) | N22: =$N$6 -> 0.29166667 | O22: ～ | P22: =$P$6 -> 0.83333333 | R22: =IF(F22="","",IF(F22<N22,N22,IF(F22>=P22,"",F22))) | S22: ～ | T22: =IF(H22="","",IF(H22>F22,IF(H22<P22,H22,P22),P22)) | U22: （ | V22: 0 | W22: ） | X22: =IF(R22="","",IF((T22+IF(R22>T22,1,0)-R22-V22)*24=0,"",(T22+IF(R22>T22,1,0)-R22-V22)*24)) | Z22: =IF(X22="",L22,IF(OR(L22-X22=0,L22-X22<0),"-",L22-X22))
B23: 18 | C23: r | D23: =C23 -> r | E23: ： | G23: ～ | I23: （ | K23: ） | L23: 1 | O23: ～ | S23: ～ | U23: （ | W23: ） | X23: 1 | Z23: -
B24: 19 | C24: s | D24: =C24 -> s | E24: ： | G24: ～ | I24: （ | K24: ） | L24: 2 | O24: ～ | S24: ～ | U24: （ | W24: ） | X24: 2 | Z24: -
B25: 20 | C25: t | D25: =C25 -> t | E25: ： | G25: ～ | I25: （ | K25: ） | L25: 3 | O25: ～ | S25: ～ | U25: （ | W25: ） | X25: 3 | Z25: -
B26: 21 | C26: u | D26: =C26 -> u | E26: ： | G26: ～ | I26: （ | K26: ） | L26: 4 | O26: ～ | S26: ～ | U26: （ | W26: ） | X26: 4 | Z26: -
B27: 22 | C27: v | D27: =C27 -> v | E27: ： | G27: ～ | I27: （ | K27: ） | L27: 5 | O27: ～ | S27: ～ | U27: （ | W27: ） | X27: 5 | Z27: -
B28: 23 | C28: w | D28: =C28 -> w | E28: ： | G28: ～ | I28: （ | K28: ） | L28: 6 | O28: ～ | S28: ～ | U28: （ | W28: ） | X28: 6 | Z28: -
B29: 24 | C29: x | D29: =C29 -> x | E29: ： | G29: ～ | I29: （ | K29: ） | L29: 7 | O29: ～ | S29: ～ | U29: （ | W29: ） | X29: 7 | Z29: -
B30: 25 | C30: y | D30: =C30 -> y | E30: ： | G30: ～ | I30: （ | K30: ） | L30: 8 | O30: ～ | S30: ～ | U30: （ | W30: ） | X30: 8 | Z30: -
B31: 26 | C31: z | D31: =C31 -> z | E31: ： | G31: ～ | I31: （ | K31: ） | L31: 1 | O31: ～ | S31: ～ | U31: （ | W31: ） | X31: - | Z31: 1
B32: 27 | C32: x | D32: =C32 -> x | E32: ： | G32: ～ | I32: （ | K32: ） | L32: 2 | O32: ～ | S32: ～ | U32: （ | W32: ） | X32: - | Z32: 2
B33: 28 | C33: aa | D33: =C33 -> aa | E33: ： | G33: ～ | I33: （ | K33: ） | L33: 3 | O33: ～ | S33: ～ | U33: （ | W33: ） | X33: - | Z33: 3
B34: 29 | C34: ab | D34: =C34 -> ab | E34: ： | G34: ～ | I34: （ | K34: ） | L34: 4 | O34: ～ | S34: ～ | U34: （ | W34: ） | X34: - | Z34: 4
B35: 30 | C35: ac | D35: =C35 -> ac | E35: ： | G35: ～ | I35: （ | K35: ） | L35: 5 | O35: ～ | S35: ～ | U35: （ | W35: ） | X35: - | Z35: 5
B36: 31 | C36: ad | D36: =C36 -> ad | E36: ： | G36: ～ | I36: （ | K36: ） | L36: 6 | O36: ～ | S36: ～ | U36: （ | W36: ） | X36: - | Z36: 6
B37: 32 | C37: ae | D37: =C37 -> ae | E37: ： | G37: ～ | I37: （ | K37: ） | L37: 7 | O37: ～ | S37: ～ | U37: （ | W37: ） | X37: - | Z37: 7
B38: 33 | C38: af | D38: =C38 -> af | E38: ： | G38: ～ | I38: （ | K38: ） | L38: 8 | O38: ～ | S38: ～ | U38: （ | W38: ） | X38: - | Z38: 8
B39: 34 | C39: ag | E39: ： | G39: ～ | I39: （ | J39: 0 | K39: ） | L39: =IF(OR(F39="",H39=""),"",(H39+IF(F39>H39,1,0)-F39-J39)*24) | N39: =$N$6 -> 0.29166667 | O39: ～ | P39: =$P$6 -> 0.83333333 | R39: =IF(F39="","",IF(F39<N39,N39,IF(F39>=P39,"",F39))) | S39: ～ | T39: =IF(H39="","",IF(H39>F39,IF(H39<P39,H39,P39),P39)) | U39: （ | V39: 0 | W39: ） | X39: =IF(R39="","",IF((T39+IF(R39>T39,1,0)-R39-V39)*24=0,"",(T39+IF(R39>T39,1,0)-R39-V39)*24)) | Z39: =IF(X39="",L39,IF(OR(L39-X39=0,L39-X39<0),"-",L39-X39))
C40: - | E40: ： | G40: ～ | I40: （ | J40: 0 | K40: ） | L40: =IF(OR(F40="",H40=""),"",(H40+IF(F40>H40,1,0)-F40-J40)*24) | N40: =$N$6 -> 0.29166667 | O40: ～ | P40: =$P$6 -> 0.83333333 | R40: =IF(F40="","",IF(F40<N40,N40,IF(F40>=P40,"",F40))) | S40: ～ | T40: =IF(H40="","",IF(H40>F40,IF(H40<P40,H40,P40),P40)) | U40: （ | V40: 0 | W40: ） | X40: =IF(R40="","",IF((T40+IF(R40>T40,1,0)-R40-V40)*24=0,"",(T40+IF(R40>T40,1,0)-R40-V40)*24)) | Z40: =IF(X40="",L40,IF(OR(L40-X40=0,L40-X40<0),"-",L40-X40))
C41: - | D41: =C39 -> ag | E41: ： | F41: - | G41: ～ | H41: - | I41: （ | J41: - | K41: ） | L41: =IF(OR(L39="",L40=""),"",L39+L40) | N41: - | O41: ～ | P41: - | R41: =IF(F41="","",IF(F41<N41,N41,IF(F41>=P41,"",F41))) | S41: ～ | T41: =IF(H41="","",IF(H41>F41,IF(H41<P41,H41,P41),P41)) -> - | U41: （ | V41: - | W41: ） | X41: =IF(OR(X39="",X40=""),"",X39+X40) | Z41: =IF(X41="",L41,IF(OR(L41-X41=0,L41-X41<0),"-",L41-X41)) | AB41: 1日に2回勤務する場合
C42: ah | E42: ： | G42: ～ | I42: （ | J42: 0 | K42: ） | L42: =IF(OR(F42="",H42=""),"",(H42+IF(F42>H42,1,0)-F42-J42)*24) | N42: =$N$6 -> 0.29166667 | O42: ～ | P42: =$P$6 -> 0.83333333 | R42: =IF(F42="","",IF(F42<N42,N42,IF(F42>=P42,"",F42))) | S42: ～ | T42: =IF(H42="","",IF(H42>F42,IF(H42<P42,H42,P42),P42)) | U42: （ | V42: 0 | W42: ） | X42: =IF(R42="","",IF((T42+IF(R42>T42,1,0)-R42-V42)*24=0,"",(T42+IF(R42>T42,1,0)-R42-V42)*24)) | Z42: =IF(X42="",L42,IF(OR(L42-X42=0,L42-X42<0),"-",L42-X42))
B43: 35 | C43: - | E43: ： | G43: ～ | I43: （ | J43: 0 | K43: ） | L43: =IF(OR(F43="",H43=""),"",(H43+IF(F43>H43,1,0)-F43-J43)*24) | N43: =$N$6 -> 0.29166667 | O43: ～ | P43: =$P$6 -> 0.83333333 | R43: =IF(F43="","",IF(F43<N43,N43,IF(F43>=P43,"",F43))) | S43: ～ | T43: =IF(H43="","",IF(H43>F43,IF(H43<P43,H43,P43),P43)) | U43: （ | V43: 0 | W43: ） | X43: =IF(R43="","",IF((T43+IF(R43>T43,1,0)-R43-V43)*24=0,"",(T43+IF(R43>T43,1,0)-R43-V43)*24)) | Z43: =IF(X43="",L43,IF(OR(L43-X43=0,L43-X43<0),"-",L43-X43))
C44: - | D44: =C42 -> ah | E44: ： | F44: - | G44: ～ | H44: - | I44: （ | J44: - | K44: ） | L44: =IF(OR(L42="",L43=""),"",L42+L43) | N44: - | O44: ～ | P44: - | R44: =IF(F44="","",IF(F44<N44,N44,IF(F44>=P44,"",F44))) | S44: ～ | T44: =IF(H44="","",IF(H44>F44,IF(H44<P44,H44,P44),P44)) -> - | U44: （ | V44: - | W44: ） | X44: =IF(OR(X42="",X43=""),"",X42+X43) | Z44: =IF(X44="",L44,IF(OR(L44-X44=0,L44-X44<0),"-",L44-X44)) | AB44: 1日に2回勤務する場合
C45: ai | E45: ： | G45: ～ | I45: （ | J45: 0 | K45: ） | L45: =IF(OR(F45="",H45=""),"",(H45+IF(F45>H45,1,0)-F45-J45)*24) | N45: =$N$6 -> 0.29166667 | O45: ～ | P45: =$P$6 -> 0.83333333 | R45: =IF(F45="","",IF(F45<N45,N45,IF(F45>=P45,"",F45))) | S45: ～ | T45: =IF(H45="","",IF(H45>F45,IF(H45<P45,H45,P45),P45)) | U45: （ | V45: 0 | W45: ） | X45: =IF(R45="","",IF((T45+IF(R45>T45,1,0)-R45-V45)*24=0,"",(T45+IF(R45>T45,1,0)-R45-V45)*24)) | Z45: =IF(X45="",L45,IF(OR(L45-X45=0,L45-X45<0),"-",L45-X45))
B46: 36 | C46: - | E46: ： | G46: ～ | I46: （ | J46: 0 | K46: ） | L46: =IF(OR(F46="",H46=""),"",(H46+IF(F46>H46,1,0)-F46-J46)*24) | N46: =$N$6 -> 0.29166667 | O46: ～ | P46: =$P$6 -> 0.83333333 | R46: =IF(F46="","",IF(F46<N46,N46,IF(F46>=P46,"",F46))) | S46: ～ | T46: =IF(H46="","",IF(H46>F46,IF(H46<P46,H46,P46),P46)) | U46: （ | V46: 0 | W46: ） | X46: =IF(R46="","",IF((T46+IF(R46>T46,1,0)-R46-V46)*24=0,"",(T46+IF(R46>T46,1,0)-R46-V46)*24)) | Z46: =IF(X46="",L46,IF(OR(L46-X46=0,L46-X46<0),"-",L46-X46))
C47: - | D47: =C45 -> ai | E47: ： | F47: - | G47: ～ | H47: - | I47: （ | J47: - | K47: ） | L47: =IF(OR(L45="",L46=""),"",L45+L46) | N47: - | O47: ～ | P47: - | R47: =IF(F47="","",IF(F47<N47,N47,IF(F47>=P47,"",F47))) | S47: ～ | T47: =IF(H47="","",IF(H47>F47,IF(H47<P47,H47,P47),P47)) -> - | U47: （ | V47: - | W47: ） | X47: =IF(OR(X45="",X46=""),"",X45+X46) | Z47: =IF(X47="",L47,IF(OR(L47-X47=0,L47-X47<0),"-",L47-X47)) | AB47: 1日に2回勤務する場合
C49: ・職種ごとの勤務時間を「○：○○～○：○○」と表記することが困難な場合は、No18～33を活用し、勤務時間数のみを入力してください。
C50: ・No18～33以外は始業時刻・終業時刻・休憩時間等を入力すると勤務時間数が計算されますが、入力の補助を目的とするものですので、結果に誤りがないかご確認ください。
C51: ・シフト記号が足りない場合は、適宜、行を追加してください。
C52: ・シフト記号は、適宜、使いやすい記号に変更していただいて構いません。

Sheet 記入方法
B1: ≪提出不要≫
B2: 従業者の勤務の体制及び勤務形態一覧表 記入方法 （認知症対応型共同生活介護）
C4: ・・・直接入力する必要がある箇所です。 | F4: 下記の記入方法に従って、入力してください。
C5: ・・・プルダウンから選択して入力する必要がある箇所です。
B6: なお、「従業者の勤務の体制及び勤務形態一覧表」に「シフト記号表（勤務時間帯）」も必ず添付して提出してください。
B8: ・最初に「年月欄」「サービス種別」「事業所名」を入力してください。
B10: (1) 「４週」・「暦月」のいずれかを選択してください。
B12: (2) 「予定」・「実績」・「予定・実績」のいずれかを選択してください。（「予定・実績」は予定と実績が同じだったことを示す場合に選択してください。）
B14: (3) 事業所における常勤の従業者が勤務すべき時間数を入力してください。
B16: (4) 利用者数を入力してください。利用者数は、前年度の平均値（前年度の入所者延数を当該前年度の日数で除して得た数。小数点第2位以下を切り上げ。
B17: 共用型認知症対応型通所介護を実施している場合は、同サービスの利用者を含む。）とします。
B18: 新規又は再開の場合は、推定数（共用型認知症対応型通所介護を実施している場合は、同サービスの利用者の推定数を含む。）を入力してください。
B20: (5) 事業所の共同生活住居（ユニット）数を入力してください。複数の共同生活住居（ユニット）からなる事業所の場合は、本表は共同生活住居（ユニット）ごとに作成してください。
B21: この場合、どの共同生活住居についての記載であるのかをわかるようにしてください。（例 １ユニット目／２ユニット目）
B23: (6) 事業所における日中、夜間及び深夜の時間帯の区分を入力してください。
B25: (7) 従業者の職種について、下記のうち該当する職種をプルダウンより選択してください。
B26: 記入の順序は、職種ごとにまとめてください。
C28: No | D28: 職種名
C29: 1 | D29: 管理者
C30: 2 | D30: 介護従業者
C31: 3 | D31: 計画作成担当者
B33: (8) 従業者の勤務形態について、下記のうち該当する区分の記号をプルダウンより選択してください。
B34: 記入の順序は、各職種の中で勤務形態の区分ごとにまとめてください。
C36: 記号 | D36: 区分
C37: A | D37: 常勤で専従
C38: B | D38: 常勤で兼務
C39: C | D39: 非常勤で専従
C40: D | D40: 非常勤で兼務
C42: （注）常勤・非常勤の区分について
C43: 当該事業所における勤務時間が、当該事業所において定められている常勤の従業者が勤務すべき時間数に達していることをいいます。雇用の形態は考慮しません。
C44: （例えば、常勤者は週に40時間勤務することとされた事業所であれば、非正規雇用であっても、週40時間勤務する従業者は常勤扱いとなります。）
B46: (9) 従業者の保有する資格について、該当する資格名称をプルダウンより選択してください。
B47: 保有資格を全て記入するのではなく、人員基準上、求められる資格等を入力してください。
B48: ※選択した資格及び研修に関して、必要に応じて、資格証又は研修修了証等の写しを添付資料として提出してください。
B50: (10) 従業者の氏名を記入してください。
B52: (11) 申請する事業に係る従業者（管理者を含む。）の1ヶ月分の勤務時間を入力してください。（別シートの「シフト記号表」を作成し、シフト記号を選択または入力してください。）
B53: ※ 指定基準の確認に際しては、４週分の入力で差し支えありません。
B55: (12) 従業者ごとに、合計勤務時間数が自動計算されますので、誤りがないか確認してください。
B56: ※入力することができる勤務時間数は、当該事業所において常勤の従業者が勤務すべき勤務時間数を上限とします。
B58: (13) 従業者ごとに、週平均の勤務時間数が自動計算されますので、誤りがないか確認してください。
B60: (14) 申請する事業所以外の事業所・施設との兼務がある場合は、兼務先の事業所・施設の名称及び兼務する職務の内容について記入してください。
B61: 同一事業所内の兼務についても兼務する職務の内容を記入してください。
B62: その他、特記事項欄としてもご活用ください。
B64: (15) 宿直の従業者の「No（ナンバー）」（本一覧表におけるNo）を記載してください。入力すると従業者の該当の日付のセルが | M64: に色づけされます。
B66: (16) 通いサービスの利用者数を入力してください。
B68: (17) 宿泊サービスの利用者数を入力してください。
B70: (18) 介護従業者の日中の勤務時間の合計が自動計算されますので、誤りがないか確認してください。
B72: (19) 介護従業者の夜間・深夜の勤務時間の合計が自動計算されますので、誤りがないか確認してください。

Sheet プルダウン・リスト
B1: １．サービス種別
B3: No | C3: サービス種別
B4: 1 | C4: 認知症対応型共同生活介護
B5: 2 | C5: 介護予防認知症対応型共同生活介護
B6: 3 | C6: 認知症対応型共同生活介護・介護予防認知症対応型共同生活介護
B7: 4 | C7: 認知症対応型共同生活介護・共用型認知症対応型通所介護
B8: 5 | C8: 介護予防認知症対応型共同生活介護・共用型介護予防認知症対応型通所介護
B9: 6 | C9: ー
B10: 7 | C10: ー
B12: ２．職種名・資格名称
B14: 職種名 | C14: 管理者 | D14: 介護従業者 | E14: 計画作成担当者 | F14: ー | G14: ー | H14: ー | I14: ー | J14: ー | K14: ー | L14: ー
B15: 資格 | C15: 認知症対応型サービス事業管理者研修修了 | D15: 看護師 | E15: 介護支援専門員 | F15: ー | G15: ー | H15: ー | I15: ー | J15: ー | K15: ー | L15: ー
C16: ー | D16: 准看護師 | E16: 実践者研修修了 | F16: ー | G16: ー | H16: ー | I16: ー | J16: ー | K16: ー | L16: ー
C17: ー | D17: 介護福祉士 | E17: 基礎課程修了 | F17: ー | G17: ー | H17: ー | I17: ー | J17: ー | K17: ー | L17: ー
C18: ー | D18: ー | E18: ー | F18: ー | G18: ー | H18: ー | I18: ー | J18: ー | K18: ー | L18: ー
C19: ー | D19: ー | E19: ー | F19: ー | G19: ー | H19: ー | I19: ー | J19: ー | K19: ー | L19: ー
C20: ー | D20: ー | E20: ー | F20: ー | G20: ー | H20: ー | I20: ー | J20: ー | K20: ー | L20: ー
C21: ー | D21: ー | E21: ー | F21: ー | G21: ー | H21: ー | I21: ー | J21: ー | K21: ー | L21: ー
C22: ー | D22: ー | E22: ー | F22: ー | G22: ー | H22: ー | I22: ー | J22: ー | K22: ー | L22: ー
C23: ー | D23: ー | E23: ー | F23: ー | G23: ー | H23: ー | I23: ー | J23: ー | K23: ー | L23: ー
C25: 【自治体の皆様へ】
C26: ※ INDIRECT関数使用のため、以下のとおりセルに「名前の定義」をしています。
C27: C14～L14・・・「職種」
C28: C列・・・「管理者」
C29: D列・・・「介護従業者」
C30: E列・・・「計画作成担当者」
C32: ※自治体の条例により定められた資格等、自治体独自の資格を追加する必要がある場合は、上表の空欄に資格名称を追加してください。
C33: 行が足りない場合は、適宜追加してください。
C35: ※職種を追加したい場合は、14行目に職種名を追加し、それぞれの列に必要資格を入力してください。
C36: その後、以下の手順で必要資格について「名前の定義」をします。
C37: ・「数式」タブ ⇒ 「名前の定義」を選択
C38: ・「名前」に職種名を入力
... C40: 編集したい場合は、「数式」タブ ⇒ 「名前の管理」で編集してください。
