{"text_format":"1","workbook":"xlsx","n_sheets":7,"sheets":["入力シート（ここに入力）","入力例","申請書 ","請求書","実績報告書","委任状 ","防犯灯台帳"],"not_rendered":{"charts":0,"images":0,"macros":1,"external_links":3,"defined_names":203,"comments":1,"pivot_tables":0},"unopened":[],"bounds":{"document_bytes":16777216,"sheet_cells":100000,"rows_first":2000,"rows_last":500,"rows_between":2000,"halvings":0,"cell_chars":16384,"cell_head_chars":4096},"cells_cut":0,"cells_raw":0,"read":"whole","date_system":"1900"}

{"sheet":"入力シート（ここに入力）","index":0,"n_rows":106,"n_cols":27,"rows_kept":106,"cut":false,"hidden":false,"merged":[[21,1,21,2],[13,1,14,1],[16,0,17,0],[20,0,24,0],[10,1,12,1],[20,1,20,2],[6,0,15,0],[22,1,22,2],[23,1,23,2],[24,1,24,2],[0,0,0,3],[2,0,4,1],[5,0,5,2],[6,1,7,1],[8,1,9,1],[25,0,25,2],[28,0,32,0],[28,1,28,2],[29,1,29,2],[30,1,30,2],[31,1,32,1]]}
["\n下記の項目をすべて入力することで、申請に必要な書類を作成することができます。\n（入力については、入力例のシートを確認してください。）\n"]
["１　共通事項"]
["申 請 日\n\n(提出日)",null,"年",null,"←和暦",null,null,null,null,null,null,null,null,null,null,null,null,null,null,null,null,null,null,null,null,null,"東"]
[null,null,"月",null,null,null,null,null,null,null,null,null,null,null,null,null,null,null,null,null,null,null,null,null,null,null,"博多"]
[null,null,"日",null,null,null,null,null,null,null,null,null,null,null,null,null,null,null,null,null,null,null,null,null,null,null,"中央"]
["申請団体名",null,null,null,null,null,null,null,null,null,null,null,null,null,null,null,null,null,null,null,null,null,null,null,null,null,"南"]
["会 長\n\n情 報","住所","区",null,"←選択してください",null,null,null,null,null,null,null,null,null,null,null,null,null,null,null,null,null,null,null,null,null,"城南"]
[null,null,"区以下",null,null,null,null,null,null,null,null,null,null,null,null,null,null,null,null,null,null,null,null,null,null,null,"早良"]
[null,"氏名","フリガナ",null,"←カタカナで入力",null,null,null,null,null,null,null,null,null,null,null,null,null,null,null,null,null,null,null,null,null,"西"]
[null,null,"漢字"]
[null,"生年月日","年",null,"←和暦"]
[null,null,"月"]
[null,null,"日"]
[null,"電話番号","自宅",null,"← \"ー”ハイフン入力"]
[null,null,"携帯",null,"← \"ー”ハイフン入力"]
[null,"メールアドレス"]
["担当者\n（会長以外の場合）","氏  名"]
[null,"電話番号",null,null,"← \"ー”ハイフン入力"]
[]
["2　補助金交付申請書"]
["防犯灯\n九電契約Ｗ別\n灯数","10Ｗ"]
[null,"20Ｗ"]
[null,"40Ｗ"]
[null,"60Ｗ"]
[null,"100Ｗ以上"]
["防犯灯月額\n電気料金（円）"]
[]
["３　請求書 兼 口座振替依頼書"]
["口 座 情 報","銀行名"]
[null,"支店名"]
[null,"口座番号(7桁）",null,null,{"$f":"IF(E30<8,\"\",\"**ＥＲＲＯＲ**7桁以内で入力\")","v":""}]
[null,"口座名義","フリガナ"]
[null,null,"漢字"]
[]
[]
[]
[]
[]
[]
[]
[]
[]
[]
[]
[]
[]
[]
[]
[]
[]
[]
[]
[]
[]
[]
[]
[]
[]
[]
[]
[]
[]
[]
[]
[]
[]
[]
[]
[]
[]
[]
[]
[]
[]
[]
[]
[]
[]
[]
[]
[]
[]
[]
[]
[]
[]
[]
[]
[]
[]
[]
[]
[]
[]
[]
[]
[]
[]
[]
["東","会長"]
["博多","会計"]
["中央"]
["南"]
["城南"]
["早良"]
["西"]

{"sheet":"入力例","index":1,"n_rows":33,"n_cols":4,"rows_kept":33,"cut":false,"hidden":false,"merged":[[16,0,17,0],[6,0,15,0],[0,0,0,3],[2,0,4,1],[5,0,5,2],[6,1,7,1],[8,1,9,1],[10,1,12,1],[13,1,14,1],[20,0,24,0],[20,1,20,2],[21,1,21,2],[22,1,22,2],[23,1,23,2],[24,1,24,2],[25,0,25,2],[28,0,32,0],[28,1,28,2],[29,1,29,2],[30,1,30,2],[31,1,32,1]]}
["下記の項目をすべて入力することで、申請に必要な書類を作成することができます。\n（入力については、入力例のシートを確認してください。）"]
["１　共通事項"]
["申 請 日\n\n(提出日)",null,"年",5]
[null,null,"月",5]
[null,null,"日",1]
["団体名",null,null,"天神町内会"]
["会 長\n\n情 報","住所","区","中央"]
[null,null,"区以下","天神1-8-1"]
[null,"氏名","フリガナ","フクオカ　タロウ"]
[null,null,"漢字","福岡　太郎"]
[null,"生年月日","年",23]
[null,null,"月",4]
[null,null,"日",5]
[null,"電話番号","自宅","092-711-4488"]
[null,null,"携帯","080-4475-5968"]
[null,"メールアドレス",null,"abce123@zmail.le.jp"]
["担当者\n（会長以外の場合）","氏  名",null,"佐藤　太郎"]
[null,"電話番号",null,"090-8888-6666"]
[]
["2　補助金交付申請書"]
["防犯灯\n九電契約Ｗ別\n灯数","10Ｗ",null,1]
[null,"20Ｗ"]
[null,"40Ｗ",null,4]
[null,"60Ｗ",null,1]
[null,"100Ｗ以上"]
["防犯灯月額\n電気料金（円）",null,null,1238]
[]
["３　請求書 兼 口座振替依頼書"]
["口座情報\n（請求書用）","銀行名",null,"福岡"]
[null,"支店名",null,"天神町"]
[null,"口座番号(7桁）",null,"1234567"]
[null,"口座名義","フリガナ","テンジンジチカイ カイチョウ フクオカ タロウ"]
[null,null,"漢字","天神自治会 会長 福岡 太郎"]

{"sheet":"申請書 ","index":2,"n_rows":41,"n_cols":35,"rows_kept":41,"cut":false,"hidden":false,"merged":[[9,4,9,15],[1,5,2,6],[1,7,2,8],[1,9,2,10],[1,11,2,16],[7,7,7,8],[10,7,10,15],[11,3,11,8],[12,2,14,2],[12,3,14,8],[12,10,13,10],[12,11,14,11],[12,12,14,12],[12,13,14,13],[12,14,14,14],[12,15,14,15],[15,4,15,6],[15,8,15,15],[16,2,19,2],[16,3,16,15],[18,4,18,12],[19,3,19,15],[30,2,30,4],[30,7,30,9],[30,11,30,14],[20,18,20,25],[23,2,23,15],[24,2,24,15],[28,2,28,4],[28,5,28,6],[28,7,28,9],[28,10,28,15],[25,2,25,15],[20,4,20,6],[20,8,20,15],[40,2,40,15],[17,4,17,5],[35,2,35,5],[35,6,35,9],[35,11,35,14],[36,2,36,9],[36,11,36,14],[37,2,37,9],[37,11,37,14],[32,2,32,4],[32,7,32,9],[32,11,32,14],[33,2,34,4],[29,2,29,4],[29,7,29,9],[29,11,29,14],[33,5,34,9],[33,10,33,15],[34,11,34,14],[31,2,31,4],[31,7,31,9],[31,11,31,14]]}
[]
[null,"（管理費）",null,null,null,"道路上への\n設置",null,"有・無",null,"道路占用\n許可番号"]
[null,"　様式第１号"]
[]
[]
[null,null,"令和６年度 防犯灯維持管理事業補助金交付申請書"]
[]
[null,null,"（あて先）福 岡 市 長",null,null,null,null,"申 請 日",null,"令和",{"$f":"'入力シート（ここに入力）'!申請年","v":0},"年",{"$f":"'入力シート（ここに入力）'!申請月","v":0},"月",{"$f":"'入力シート（ここに入力）'!申請日","v":0},"日"]
[]
[null,null,"団　体　名",null,{"$f":"'入力シート（ここに入力）'!D6","v":0}]
[null,null,"会 長 住 所",null,"福岡市",{"$f":"'入力シート（ここに入力）'!区","v":0},"区",{"$f":"'入力シート（ここに入力）'!D8","v":0}]
[null,null,"フリガナ",{"$f":"'入力シート（ここに入力）'!D9","v":0},null,null,null,null,null,"生　年　月　日"]
[null,null,"会 長 氏 名",{"$f":"'入力シート（ここに入力）'!D10","v":0},null,null,null,null,null,"昭和",{"$f":"'入力シート（ここに入力）'!D11","v":0},"年",{"$f":"'入力シート（ここに入力）'!D12","v":0},"月",{"$f":"'入力シート（ここに入力）'!D13","v":0},"日"]
[null,null,null,null,null,null,null,null,null,"平成"]
[null,null,null,null,null,null,null,null,null,"（該当に☑）"]
[null,null,"電 話 番 号","自宅",{"$f":"'入力シート（ここに入力）'!D14","v":0},null,null,"携帯",{"$f":"'入力シート（ここに入力）'!D15","v":0}]
[null,null,"会　長\nメールアドレス","防犯灯に関する書類の送付方法について、郵送からメールへの変更を"]
[null,null,null,null,"　希望する（mail：",null,{"$f":"'入力シート（ここに入力）'!D16","v":0},null,null,null,null,null,null,null,null,"）"]
[null,null,null,null,"　希望しない"]
[null,null,null,"（※来年度当初送付する「防犯灯補助金申請」書類一式もメールで送付します)"]
[null,null,"担　当　者\n（会長以外）","氏名",{"$f":"'入力シート（ここに入力）'!D17","v":0},null,null,"電話",{"$f":"'入力シート（ここに入力）'!D18","v":0}]
[null,null,null,null,null,null,null,null,"※日中繋がりやすい電話番号を記入してください。"]
[]
[null,null,"※生年月日は市の暴力団排除条例に基づき、暴力団関係者でないことの確認のため使用します。"]
[null,null,"　防犯灯維持管理事業について補助金の交付を受けたいので、福岡市補助金交付規則を承知の上、関係書類を添えて以下のとおり申請します。",null,null,null,null,null,null,null,null,null,null,null,null,null,null,null,null,null,null,null,null,null,null,null,null,null,null,null,null,null,null,null,"　　"]
[]
[null,null,"1.補助事業執行に関する収支･事業計画 　※設置灯数は、電力会社の領収書･請求書を要確認"]
[]
[null,null,"防 犯 灯 設 置 数\n（電力会社との契約W数別）",null,null,"設置灯数",null,"補助単価",null,null,"補助額　合計\n(設置灯数×補助単価）"]
[null,null,"1 0 W（ワット）",null,null,{"$f":"'入力シート（ここに入力）'!D21","v":0},"灯","1,300円",null,null,"①",{"$f":"F30*1300","v":0},null,null,null,"円"]
[null,null,"2 0 W",null,null,{"$f":"'入力シート（ここに入力）'!D22","v":0},"灯","1,800円",null,null,"②",{"$f":"F31*1800","v":0},null,null,null,"円"]
[null,null,"4 0 W",null,null,{"$f":"'入力シート（ここに入力）'!D23","v":0},"灯","1,900円",null,null,"③",{"$f":"F32*1900","v":0},null,null,null,"円"]
[null,null,"6 0 W・1 0 0 W",null,null,{"$f":"'入力シート（ここに入力）'!D24+'入力シート（ここに入力）'!D25","v":0},"灯","2,500円",null,null,"④",{"$f":"F33*2500","v":0},null,null,null,"円"]
[null,null,"※電力会社との契約種別が\n「公衆街路灯A」または\n「公衆街路灯B」であること。",null,null,"補 助 金\n交 付 申 請 額",null,null,null,null,"①＋②＋③＋④"]
[null,null,null,null,null,null,null,null,null,null,"(A)",{"$f":"IF(SUM(L30:O33)=0,\"\",SUM(L30:O33))","v":""},null,null,null,"円"]
[null,null,"防犯灯月額電気料金（４月又は５月分）",null,null,null,"※電力会社の領収書・\n　　請求書を見て記入",null,null,null,"(B)",{"$f":"'入力シート（ここに入力）'!D26","v":0},null,null,null,"円"]
[null,null,"年間電気料金見込み額（B）　×　１２ヶ月",null,null,null,null,null,null,null,"(C)",{"$f":"L36*12","v":0},null,null,null,"円"]
[null,null,"地元負担額　（C）　－　（A）",null,null,null,null,null,null,null,"(D)",{"$f":"IF(L35=\"\",\"\",L37-L35)","v":""},null,null,null,"円"]
[]
[null,null,"2.補助事業の目的及び内容"]
[null,null,"街頭における暴力事犯、性犯罪及び窃盗等、各種犯罪の防止を図るため防犯灯の維持管理事業を促進し、犯罪のない明るい町づくりの実現に寄与するために事業を行います。"]

{"sheet":"請求書","index":3,"n_rows":50,"n_cols":58,"rows_kept":50,"cut":false,"hidden":false,"merged":[[18,45,18,52],[5,17,5,19],[6,20,6,22],[6,23,6,25],[2,50,2,52],[3,6,3,54],[6,41,6,43],[6,44,6,46],[6,47,6,49],[17,25,17,35],[18,25,18,35],[5,10,5,13],[5,20,5,22],[5,23,5,25],[5,26,5,28],[5,29,5,31],[49,35,49,54],[39,16,41,53],[45,16,47,53],[42,26,44,53],[40,8,40,14],[46,8,46,14],[42,24,44,25],[20,7,21,15],[17,45,17,52],[6,35,6,37],[6,50,6,52],[10,7,12,54],[6,38,6,40],[17,36,19,43],[19,45,19,52],[6,29,6,31],[20,31,21,39],[6,26,6,28],[6,17,6,19],[6,32,6,34],[19,25,19,35],[20,46,21,47],[20,48,21,49],[22,12,23,15],[43,8,43,14],[34,34,35,53],[28,7,31,54],[32,7,33,54],[22,7,26,11],[42,16,44,20],[42,21,44,23],[22,16,23,53],[24,16,26,53],[24,12,26,15],[20,50,21,51],[20,52,21,53],[20,44,21,45],[5,44,5,46],[5,47,5,49],[5,50,5,52],[15,6,15,54],[20,16,21,30],[20,40,21,41],[20,42,21,43],[7,7,7,53],[17,7,19,15],[17,16,19,23],[5,35,5,37],[5,38,5,40],[5,41,5,43],[5,32,5,34],[4,50,4,52],[4,17,4,19],[4,20,4,22],[4,23,4,25],[4,26,4,28],[4,29,4,31],[4,32,4,34],[4,35,4,37],[4,38,4,40],[4,41,4,43],[4,44,4,46],[4,47,4,49]]}
[]
[]
[null,null,null,null,null,null,null,null,null,null,null,null,null,null,null,null,null,null,null,null,null,null,null,null,null,null,null,null,null,null,null,null,null,null,null,null,null,null,null,null,null,null,null,null,null,null,null,null,null,null,{"$f":"LEN('申請書 '!L35)","v":0}]
[null,null,null,null,null,null,"請求書　兼　口座振替依頼書"]
[null,null,null,null,null,null,null,null,null,null,null,null,null,null,null,null,null,"=if($AY$3=R7,1,0)",null,null,{"$f":"IF($AY$3=U7,1,0)","v":0},null,null,{"$f":"IF($AY$3=X7,1,0)","v":0},null,null,{"$f":"IF($AY$3=AA7,1,0)","v":0},null,null,{"$f":"IF($AY$3=AD7,1,0)","v":0},null,null,{"$f":"IF($AY$3=AG7,1,0)","v":0},null,null,{"$f":"IF($AY$3=AJ7,1,0)","v":0},null,null,{"$f":"IF($AY$3=AM7,1,0)","v":0},null,null,{"$f":"IF($AY$3=AP7,1,0)","v":0},null,null,{"$f":"IF($AY$3=AS7,1,0)","v":0}]
[null,null,null,null,null,null,null,null,null,null,"金　額",null,null,null,null,null,null,{"$f":"IF(R5=1,\"\\\",IF(ISERROR(MID('申請書 '!$L$35,LEN('申請書 '!$L$35)-R7,1)),\"\",MID('申請書 '!$L$35,LEN('申請書 '!$L$35)-R7,1)))","v":""},null,null,{"$f":"IF(U5=1,\"\\\",IF(ISERROR(MID('申請書 '!$L$35,LEN('申請書 '!$L$35)-U7,1)),\"\",MID('申請書 '!$L$35,LEN('申請書 '!$L$35)-U7,1)))","v":""},null,null,{"$f":"IF(X5=1,\"\\\",IF(ISERROR(MID('申請書 '!$L$35,LEN('申請書 '!$L$35)-X7,1)),\"\",MID('申請書 '!$L$35,LEN('申請書 '!$L$35)-X7,1)))","v":""},null,null,{"$f":"IF(AA5=1,\"\\\",IF(ISERROR(MID('申請書 '!$L$35,LEN('申請書 '!$L$35)-AA7,1)),\"\",MID('申請書 '!$L$35,LEN('申請書 '!$L$35)-AA7,1)))","v":""},null,null,{"$f":"IF(AD5=1,\"\\\",IF(ISERROR(MID('申請書 '!$L$35,LEN('申請書 '!$L$35)-AD7,1)),\"\",MID('申請書 '!$L$35,LEN('申請書 '!$L$35)-AD7,1)))","v":""},null,null,{"$f":"IF(AG5=1,\"\\\",IF(ISERROR(MID('申請書 '!$L$35,LEN('申請書 '!$L$35)-AG7,1)),\"\",MID('申請書 '!$L$35,LEN('申請書 '!$L$35)-AG7,1)))","v":""},null,null,{"$f":"IF(AJ5=1,\"\\\",IF(ISERROR(MID('申請書 '!$L$35,LEN('申請書 '!$L$35)-AJ7,1)),\"\",MID('申請書 '!$L$35,LEN('申請書 '!$L$35)-AJ7,1)))","v":""},null,null,{"$f":"IF(AM5=1,\"\\\",IF(ISERROR(MID('申請書 '!$L$35,LEN('申請書 '!$L$35)-AM7,1)),\"\",MID('申請書 '!$L$35,LEN('申請書 '!$L$35)-AM7,1)))","v":""},null,null,{"$f":"IF(AP5=1,\"\\\",IF(ISERROR(MID('申請書 '!$L$35,LEN('申請書 '!$L$35)-AP7,1)),\"\",MID('申請書 '!$L$35,LEN('申請書 '!$L$35)-AP7,1)))","v":""},null,null,{"$f":"IF(AS5=1,\"\\\",IF(ISERROR(MID('申請書 '!$L$35,LEN('申請書 '!$L$35)-AS7,1)),\"\",MID('申請書 '!$L$35,LEN('申請書 '!$L$35)-AS7,1)))","v":""},null,null,{"$f":"IF(AV5=1,\"\\\",IF(ISERROR(MID('申請書 '!$L$35,LEN('申請書 '!$L$35)-AV7,1)),\"\",MID('申請書 '!$L$35,LEN('申請書 '!$L$35)-AV7,1)))","v":""},null,null,{"$f":"IF(AY5=1,\"\",RIGHT(TEXT('申請書 '!L35,\"@\"),1))","v":""}]
[null,null,null,null,null,null,null,null,null,null,null,null,null,null,null,null,null,11,null,null,10,null,null,9,null,null,8,null,null,7,null,null,6,null,null,5,null,null,4,null,null,3,null,null,2,null,null,1,null,null,0]
[null,null,null,null,null,null,null,"（金額の記載は、右詰で、アラビア数字を用いその頭部に「￥」を記入してください。）"]
[]
[null,null,null,null,null,null,null,"件　　名"]
[null,null,null,null,null,null,null,"令和６年度　防犯灯維持管理事業補助金　（管理費）"]
[]
[]
[]
[]
[null,null,null,null,null,null,"福岡市から受けとる支払い金について、下記の預金口座に口座振替されるよう依頼します。"]
[null,null,null,null,null,null,null,"（該当に〇）"]
[null,null,null,null,null,null,null,"金融機関\nの名称",null,null,null,null,null,null,null,null,{"$f":"'入力シート（ここに入力）'!D29","v":0},null,null,null,null,null,null,null,null,"銀行・信用金庫",null,null,null,null,null,null,null,null,null,null,{"$f":"'入力シート（ここに入力）'!D30","v":0},null,null,null,null,null,null,null,null,"本店"]
[null,null,null,null,null,null,null,null,null,null,null,null,null,null,null,null,null,null,null,null,null,null,null,null,null,"農協・信用組合",null,null,null,null,null,null,null,null,null,null,null,null,null,null,null,null,null,null,null,"支店"]
[null,null,null,null,null,null,null,null,null,null,null,null,null,null,null,null,null,null,null,null,null,null,null,null,null,"漁協",null,null,null,null,null,null,null,null,null,null,null,null,null,null,null,null,null,null,null,"出張所"]
[null,null,null,null,null,null,null,"預金種目",null,null,null,null,null,null,null,null,"普通　 ・　 当座",null,null,null,null,null,null,null,null,null,null,null,null,null,null,"口座番号",null,null,null,null,null,null,null,null,{"$f":"IF($BF$21<1,\"\",IF($BF$21<7,\"0\",MID($BE$21,$BF$21-6,1)))","v":""},null,{"$f":"IF($BF$21<1,\"\",IF($BF$21<6,\"0\",MID($BE$21,$BF$21-5,1)))","v":""},null,{"$f":"IF($BF$21<1,\"\",IF($BF$21<5,\"0\",MID($BE$21,$BF$21-4,1)))","v":""},null,{"$f":"IF($BF$21<1,\"\",IF($BF$21<4,\"0\",MID($BE$21,$BF$21-3,1)))","v":""},null,{"$f":"IF($BF$21<1,\"\",IF($BF$21<3,\"0\",MID($BE$21,$BF$21-2,1)))","v":""},null,{"$f":"IF($BF$21<1,\"\",IF($BF$21<2,\"0\",MID($BE$21,$BF$21-1,1)))","v":""},null,{"$f":"IF($BF$21<1,\"\",IF($BF$21<1,\"0\",MID($BE$21,$BF$21,1)))","v":""},null,null,null,{"$f":"'入力シート（ここに入力）'!D31","v":0},{"$f":"LEN('入力シート（ここに入力）'!D31)","v":0}]
[]
[null,null,null,null,null,null,null,"口座名義",null,null,null,null,"フリガナ",null,null,null,{"$f":"'入力シート（ここに入力）'!D32","v":0}]
[]
[null,null,null,null,null,null,null,null,null,null,null,null,"漢 字",null,null,null,{"$f":"'入力シート（ここに入力）'!D33","v":0}]
[]
[]
[]
[null,null,null,null,null,null,null,"（注1）記入に当たっては必ず通帳を確認のうえ、口座名義は預金通帳記載のとおりに\n　　　  記入してください。\n　　　  新規団体・委任状が必要な場合・前年度登録の口座内容と変更がある場合は、\n　　　  通帳表紙と通帳見開きのコピーを添付してください。　　　"]
[]
[]
[]
[null,null,null,null,null,null,null,"（注2）口座名義の団体名と申請書等記入の団体名が完全に一致しない場合は、\n　　　   委任状をの提出してください。"]
[]
[null,null,null,null,null,null,null,null,null,null,null,null,null,null,null,null,null,null,null,null,null,null,null,null,null,null,null,null,null,null,null,null,null,null,"令和　　 年 　　月 　　日"]
[null,null,null,null,null,null,null,"上記の金額を請求します。"]
[]
[]
[]
[null,null,null,null,null,null,null,null,null,null,null,null,null,null,null,null,{"$f":"'入力シート（ここに入力）'!D6","v":0}]
[null,null,null,null,null,null,null,null,"団体名"]
[]
[null,null,null,null,null,null,null,null,null,null,null,null,null,null,null,null,"福岡市",null,null,null,null,{"$f":"'入力シート（ここに入力）'!D7","v":0},null,null,"区",null,{"$f":"'入力シート（ここに入力）'!D8","v":0}]
[null,null,null,null,null,null,null,null,"会長住所"]
[]
[null,null,null,null,null,null,null,null,null,null,null,null,null,null,null,null,{"$f":"'入力シート（ここに入力）'!D10","v":0}]
[null,null,null,null,null,null,null,null,"会長氏名"]
[]
[]
[null,null,null,null,null,null,null,"（あて先）福岡市長"]

{"sheet":"実績報告書","index":4,"n_rows":27,"n_cols":16,"rows_kept":27,"cut":false,"hidden":false,"merged":[[26,2,26,5],[26,6,26,14],[23,2,23,15],[24,2,24,5],[24,6,24,14],[25,2,25,5],[25,6,25,14],[20,2,20,5],[20,6,20,15],[21,2,22,5],[21,6,21,15],[22,6,22,15],[8,4,8,15],[10,4,10,15],[6,7,6,8],[9,7,9,15],[11,2,13,2],[11,3,13,3],[11,4,13,6],[11,7,13,7],[11,8,13,15]]}
[]
[null,"（管理費）"]
[null,"　様式第２号"]
[]
[null,null,"令和６年度 防犯灯維持管理事業　実績報告書"]
[]
[null,null,null,null,null,null,null,"申 請 日",null,"令和",7,"年",3,"月",31,"日"]
[null,null,"（あて先）福 岡 市 長"]
[null,null,"団　体　名",null,{"$f":"'入力シート（ここに入力）'!D6","v":0}]
[null,null,"会 長 住 所",null,"福岡市",{"$f":"'入力シート（ここに入力）'!区","v":0},"区",{"$f":"'入力シート（ここに入力）'!D8","v":0}]
[null,null,"会 長 氏 名",null,{"$f":"'入力シート（ここに入力）'!D10","v":0}]
[null,null,"電 話 番 号","自宅",{"$f":"'入力シート（ここに入力）'!D14","v":0},null,null,"携帯",{"$f":"'入力シート（ここに入力）'!D15","v":0}]
[]
[]
[]
[]
[null,null,"防犯灯維持管理事業が完了しましたので、以下のとおり報告します。"]
[]
[null,null,"記"]
[]
[null,null,"補助事業名",null,null,null,"防 犯 灯 維 持 管 理 事 業"]
[null,null,"補助事業の実施期間",null,null,null,"令和　6年　４月　１日から"]
[null,null,null,null,null,null,"令和　7年　３月３１日まで"]
[null,null,"補 助 金 の 交 付 決 定 額 と 精 算 額"]
[null,null,"補助金の交付決定額",null,null,null,{"$f":"'申請書 '!L35","v":""},null,null,null,null,null,null,null,null,"円"]
[null,null,"補助金の既交付額",null,null,null,{"$f":"'申請書 '!L35","v":""},null,null,null,null,null,null,null,null,"円"]
[null,null,"補助金の精算額",null,null,null,{"$f":"'申請書 '!L35","v":""},null,null,null,null,null,null,null,null,"円"]

{"sheet":"委任状 ","index":5,"n_rows":30,"n_cols":18,"rows_kept":30,"cut":false,"hidden":false,"merged":[[23,3,24,4],[23,7,23,17],[24,7,24,17],[29,16,29,17],[25,3,26,4],[25,7,25,17],[26,7,26,17],[27,3,28,4],[27,7,27,17],[28,7,28,17],[19,2,19,4],[20,3,20,4],[20,7,20,17],[21,3,22,4],[21,7,21,17],[22,7,22,17],[9,2,12,3],[10,7,10,16],[11,7,11,17],[12,7,12,17],[9,10,9,17],[2,4,2,17],[6,2,6,4],[6,9,6,10],[7,2,7,4],[8,3,8,4],[8,7,8,17]]}
[]
[]
[null,null,null,null,"委　　任　　状"]
[]
[null,null,null,null,null,null,null,null,null,null,null,"令和",null,"年",null,"月",null,"日"]
[]
[null,null,"（あて先）福 岡 市 長"]
[null,null,"【依頼人（委任者）】"]
[null,null,null,"団体名",null,null,null,{"$f":"'入力シート（ここに入力）'!D6","v":0}]
[null,null,"代　表　者",null,"住所",null,null,"福岡市",{"$f":"'入力シート（ここに入力）'!区","v":0},"区",{"$f":"'入力シート（ここに入力）'!区以下","v":0}]
[null,null,null,null,"役職名"]
[null,null,null,null,"氏名",null,null,{"$f":"'入力シート（ここに入力）'!D10","v":0}]
[null,null,null,null,"電話番号"]
[]
[]
[null,null,"私は、道路照明灯（防犯灯）に関する補助金の受領に関して下記の者に委任します。"]
[]
[]
[null,null,null,null,"記"]
[null,null,"【代理人（受任者）】",null,null,"依頼人(委任者)と同じ場合は□にチェックのみ記入してください。"]
[null,null,null,"団体名\n（口座名義）",null,null,null,{"$f":"'入力シート（ここに入力）'!D33","v":0}]
[null,null,null,"住所",null,null,null,"　　依頼人（委任者）と同じ"]
[]
[null,null,null,"役職名","役職名",null,null,"　　依頼人（委任者）と同じ"]
[null,null,null,null,"役職名"]
[null,null,null,"氏名","氏　　　　　　　名",null,null,"　　依頼人（委任者）と同じ"]
[]
[null,null,null,"電話番号","電話番号",null,null,"　　依頼人（委任者）と同じ"]
[]
[null,null,null,null,null,null,null,null,null,null,null,null,null,null,null,null,"以上"]

{"sheet":"防犯灯台帳","index":6,"n_rows":25,"n_cols":7,"rows_kept":25,"cut":false,"hidden":false,"merged":[[3,1,4,2],[3,4,4,4],[3,6,4,6],[1,5,1,6]]}
["防犯灯台帳"]
[null,null,null,null,"団体名",{"$f":"'入力シート（ここに入力）'!D6","v":0}]
[]
["地図","設 置 場 所",null,"工事","設置方式","機器種類","備 考（柱番号等）"]
["番号",null,null,"年度",null,"W数"]
[null,null,"市道上\n民有地等"]
[null,null,"市道上\n民有地等"]
[null,null,"市道上\n民有地等"]
[null,null,"市道上\n民有地等"]
[null,null,"市道上\n民有地等"]
[null,null,"市道上\n民有地等"]
[null,null,"市道上\n民有地等"]
[null,null,"市道上\n民有地等"]
[null,null,"市道上\n民有地等"]
[null,null,"市道上\n民有地等"]
[null,null,"市道上\n民有地等"]
[null,null,"市道上\n民有地等"]
[null,null,"市道上\n民有地等"]
[null,null,"市道上\n民有地等"]
[null,null,"市道上\n民有地等"]
[null,null,"市道上\n民有地等"]
[null,null,"市道上\n民有地等"]
[null,null,"市道上\n民有地等"]
[null,null,"市道上\n民有地等"]
[null,null,"市道上\n民有地等"]